BEGIN:VCALENDAR
VERSION:2.0
PRODID:-//Godoy Cruz - ECPv4.5.8.1//NONSGML v1.0//EN
CALSCALE:GREGORIAN
METHOD:PUBLISH
X-WR-CALNAME:Godoy Cruz
X-ORIGINAL-URL:https://www.godoycruz.sisargentina.com
X-WR-CALDESC:Events for Godoy Cruz
BEGIN:VEVENT
DTSTART;TZID=UTC-3:20211205T210000
DTEND;TZID=UTC-3:20211205T210000
DTSTAMP:20260423T022306
CREATED:20211202T154527Z
LAST-MODIFIED:20211202T154527Z
UID:84492-1638738000-1638738000@www.godoycruz.sisargentina.com
SUMMARY:Zona Teatro Godoy Cruz\, Salas Independientes
DESCRIPTION:[vc_row][vc_column][vc_column_text]Espectáculos para disfrutar en diferentes espacios de Godoy Cruz. \n“La República del Caballo Muerto”\, de Roberto Espina. Elenco Luna Lunera \nEntradas en venta \nVía online: bit.ly/EntradasEnkosala \nEn la taquilla de la sala\, el mismo día de la función. \nCupos limitados.[/vc_column_text][/vc_column][/vc_row][vc_row][vc_column][vc_single_image image=»84493″ img_size=»full»][/vc_column][/vc_row] \n
URL:https://www.godoycruz.sisargentina.com/evento/zona-teatro-godoy-cruz-salas-independientes-43/
ATTACH;FMTTYPE=image/jpeg:https://www.godoycruz.sisargentina.com/wp-content/uploads/2021/12/WhatsApp-Image-2021-12-02-at-12.23.58-1.jpeg
END:VEVENT
END:VCALENDAR