BEGIN:VCALENDAR
VERSION:2.0
PRODID:-//Godoy Cruz - ECPv4.5.8.1//NONSGML v1.0//EN
CALSCALE:GREGORIAN
METHOD:PUBLISH
X-WR-CALNAME:Godoy Cruz
X-ORIGINAL-URL:https://www.godoycruz.sisargentina.com
X-WR-CALDESC:Events for Godoy Cruz
BEGIN:VEVENT
DTSTART;TZID=UTC-3:20211203T210000
DTEND;TZID=UTC-3:20211203T210000
DTSTAMP:20260422T232135
CREATED:20211202T142033Z
LAST-MODIFIED:20211202T142033Z
UID:84480-1638565200-1638565200@www.godoycruz.sisargentina.com
SUMMARY:Zona Teatro Godoy Cruz\, Salas Independientes
DESCRIPTION:[vc_row][vc_column][vc_column_text]Espectáculos para disfrutar en diferentes espacios de Godoy Cruz. \nEstreno: “Un cuadrado muy redondo” (títeres para adultos). \nDirección: Gabi Carli. Intérpretes: Silvina Falco y Gabi Carli. \nEntradas en venta \nVía online: https://bit.ly/EntradasGiraluna \nEn la taquilla de la sala\, el mismo día de la función. \nCupos limitados.[/vc_column_text][/vc_column][/vc_row][vc_row][vc_column][vc_single_image image=»84481″ img_size=»full»][/vc_column][/vc_row] \n
URL:https://www.godoycruz.sisargentina.com/evento/zona-teatro-godoy-cruz-salas-independientes-41/
ATTACH;FMTTYPE=image/jpeg:https://www.godoycruz.sisargentina.com/wp-content/uploads/2021/12/261594109_2171795339643399_6642151558006729795_n.jpg
END:VEVENT
END:VCALENDAR