BEGIN:VCALENDAR
VERSION:2.0
PRODID:-//Godoy Cruz - ECPv4.5.8.1//NONSGML v1.0//EN
CALSCALE:GREGORIAN
METHOD:PUBLISH
X-WR-CALNAME:Godoy Cruz
X-ORIGINAL-URL:https://www.godoycruz.sisargentina.com
X-WR-CALDESC:Events for Godoy Cruz
BEGIN:VEVENT
DTSTART;TZID=UTC-3:20211127T183000
DTEND;TZID=UTC-3:20211127T183000
DTSTAMP:20260422T140637
CREATED:20211112T154111Z
LAST-MODIFIED:20211112T154111Z
UID:83871-1638037800-1638037800@www.godoycruz.sisargentina.com
SUMMARY:Zona Teatro Godoy Cruz\, Salas Independientes
DESCRIPTION:[vc_row][vc_column][vc_column_text]Espectáculos para disfrutar en diferentes espacios de Godoy Cruz. \n“Lo que me dijo la Guáchara”. Elenco del Azulejo. \nEntradas en venta \nVía online: https://bit.ly/EntradasGiraluna \nEn la taquilla de la sala\, el mismo día de la función. \nCupos limitados.[/vc_column_text][/vc_column][/vc_row][vc_row][vc_column][vc_single_image image=»83872″ img_size=»full»][/vc_column][/vc_row] \n
URL:https://www.godoycruz.sisargentina.com/evento/zona-teatro-godoy-cruz-salas-independientes-34/
ATTACH;FMTTYPE=image/jpeg:https://www.godoycruz.sisargentina.com/wp-content/uploads/2021/11/255275488_2156942711128662_8820816698582688257_n.jpg
END:VEVENT
BEGIN:VEVENT
DTSTART;TZID=UTC-3:20211127T210000
DTEND;TZID=UTC-3:20211127T210000
DTSTAMP:20260422T140637
CREATED:20211105T171847Z
LAST-MODIFIED:20211105T171847Z
UID:83619-1638046800-1638046800@www.godoycruz.sisargentina.com
SUMMARY:Hernán Piquín presenta "El show debe continuar"
DESCRIPTION:[vc_row][vc_column][vc_column_text]El bailarín recorre la vida artística de Freddie Mercury con sus mejores canciones. \nLa puesta posee un elenco de 10 artistas de excelencia en escena. \nLibro: Sergio Marcos. \nArreglos musicales: Mtro. Gerardo Gardelín \nDirección coreográfica: Laura Cattalini «Catta». \nEntradas en venta:\nBoletería del Teatro Plaza (Colón 27\, Godoy Cruz). Horario de atención: de lunes a sábado\, de 9:00 a 18:00h. Domingos: desde las 17h.\nVía online:https://bit.ly/EntradasHernanPiquin \nCupos limitados. Se ruega puntualidad y cumplir con el protocolo sanitario vigente.[/vc_column_text][/vc_column][/vc_row][vc_row][vc_column][vc_single_image image=»83620″ img_size=»full»][/vc_column][/vc_row] \n
URL:https://www.godoycruz.sisargentina.com/evento/hernan-piquin-presenta-show-continuar/
LOCATION:Colón 27\, Godoy Cruz\, Mendoza\, 5501\, Argentina
ATTACH;FMTTYPE=image/jpeg:https://www.godoycruz.sisargentina.com/wp-content/uploads/2021/11/248218916_2140714832751450_4061272313904790464_n.jpg
END:VEVENT
BEGIN:VEVENT
DTSTART;TZID=UTC-3:20211127T213000
DTEND;TZID=UTC-3:20211127T213000
DTSTAMP:20260422T140637
CREATED:20211112T154853Z
LAST-MODIFIED:20211112T154853Z
UID:83876-1638048600-1638048600@www.godoycruz.sisargentina.com
SUMMARY:Zona Teatro Godoy Cruz\, Salas Independientes
DESCRIPTION:[vc_row][vc_column][vc_column_text]Espectáculos para disfrutar en diferentes espacios de Godoy Cruz. \n“Malditas”. Compañía La Monarca \nEntradas en venta \nVía online: https://bit.ly/EntradaLaColombina \nEn la taquilla de la sala\, el mismo día de la función. \nCupos limitados.[/vc_column_text][/vc_column][/vc_row][vc_row][vc_column][vc_single_image image=»83877″ img_size=»full»][/vc_column][/vc_row] \n
URL:https://www.godoycruz.sisargentina.com/evento/zona-teatro-godoy-cruz-salas-independientes-35/
ATTACH;FMTTYPE=image/png:https://www.godoycruz.sisargentina.com/wp-content/uploads/2021/11/255425744_2156942741128659_1446170238892696227_n.png
END:VEVENT
BEGIN:VEVENT
DTSTART;TZID=UTC-3:20211127T213000
DTEND;TZID=UTC-3:20211127T213000
DTSTAMP:20260422T140637
CREATED:20211112T162753Z
LAST-MODIFIED:20211112T162753Z
UID:83891-1638048600-1638048600@www.godoycruz.sisargentina.com
SUMMARY:Zona Teatro Godoy Cruz\, Salas Independientes
DESCRIPTION:[vc_row][vc_column][vc_column_text]Espectáculos para disfrutar en diferentes espacios de Godoy Cruz. \n“Lengua caótica”. Con La Lucía (Lucia Miremont). \nEntradas en venta \nVía online: https://bit.ly/EntradasCasaVioleta \nEn la taquilla de la sala\, el mismo día de la función. \nCupos limitados.[/vc_column_text][/vc_column][/vc_row][vc_row][vc_column][vc_single_image image=»83892″ img_size=»full»][/vc_column][/vc_row] \n
URL:https://www.godoycruz.sisargentina.com/evento/zona-teatro-godoy-cruz-salas-independientes-38/
ATTACH;FMTTYPE=image/jpeg:https://www.godoycruz.sisargentina.com/wp-content/uploads/2021/11/248248169_2156942721128661_2061820991226716731_n.jpg
END:VEVENT
END:VCALENDAR