BEGIN:VCALENDAR
VERSION:2.0
PRODID:-//Godoy Cruz - ECPv4.5.8.1//NONSGML v1.0//EN
CALSCALE:GREGORIAN
METHOD:PUBLISH
X-WR-CALNAME:Godoy Cruz
X-ORIGINAL-URL:https://www.godoycruz.sisargentina.com
X-WR-CALDESC:Events for Godoy Cruz
BEGIN:VEVENT
DTSTART;TZID=UTC-3:20211126T203000
DTEND;TZID=UTC-3:20211126T203000
DTSTAMP:20260422T155303
CREATED:20211124T161616Z
LAST-MODIFIED:20211124T161616Z
UID:84250-1637958600-1637958600@www.godoycruz.sisargentina.com
SUMMARY:Gala de Compañías & Estudios de Danza
DESCRIPTION:[vc_row][vc_column][vc_column_text]Una amplia comunidad de profesionales de la danza se unen en el escenario. \n14 elencos de baile llegan al Teatro Plaza con coreografías de diferentes ritmos. \nEntradas en venta: \nBoletería del Teatro Plaza (Colón 27\, Godoy Cruz). Horario de atención: de lunes a sábado\, de 9 a 18h. Domingos desde las 17h. \nVía online: https://bit.ly/EntradasConexion \nCupos limitados. Se ruega puntualidad y cumplir con el protocolo sanitario vigente.[/vc_column_text][/vc_column][/vc_row][vc_row][vc_column][vc_single_image image=»84251″ img_size=»full»][/vc_column][/vc_row] \n
URL:https://www.godoycruz.sisargentina.com/evento/gala-companias-estudios-danza/
LOCATION:Colón 27\, Godoy Cruz\, Mendoza\, 5501\, Argentina
ATTACH;FMTTYPE=image/jpeg:https://www.godoycruz.sisargentina.com/wp-content/uploads/2021/11/259955581_2166291950193738_8127190002916790402_n.jpg
END:VEVENT
BEGIN:VEVENT
DTSTART;TZID=UTC-3:20211126T213000
DTEND;TZID=UTC-3:20211126T213000
DTSTAMP:20260422T155303
CREATED:20211112T161928Z
LAST-MODIFIED:20211112T161928Z
UID:83886-1637962200-1637962200@www.godoycruz.sisargentina.com
SUMMARY:Zona Teatro Godoy Cruz\, Salas Independientes
DESCRIPTION:[vc_row][vc_column][vc_column_text]Espectáculos para disfrutar en diferentes espacios de Godoy Cruz. \n“Todo incluído”. Con Melli Onofri y Silvia Saboini \nEntradas en venta \nVía online: https://bit.ly/EntradasCasaVioleta \nEn la taquilla de la sala\, el mismo día de la función. \nCupos limitados.[/vc_column_text][/vc_column][/vc_row][vc_row][vc_column][vc_single_image image=»83887″ img_size=»full»][/vc_column][/vc_row] \n
URL:https://www.godoycruz.sisargentina.com/evento/zona-teatro-godoy-cruz-salas-independientes-37/
LOCATION:Mendoza
ATTACH;FMTTYPE=image/jpeg:https://www.godoycruz.sisargentina.com/wp-content/uploads/2021/11/254942325_2156942794461987_2531636543048303092_n.jpg
END:VEVENT
BEGIN:VEVENT
DTSTART;TZID=UTC-3:20211126T220000
DTEND;TZID=UTC-3:20211126T220000
DTSTAMP:20260422T155303
CREATED:20211112T163500Z
LAST-MODIFIED:20211112T163500Z
UID:83897-1637964000-1637964000@www.godoycruz.sisargentina.com
SUMMARY:Zona Teatro Godoy Cruz\, Salas Independientes
DESCRIPTION:[vc_row][vc_column][vc_column_text]Espectáculos para disfrutar en diferentes espacios de Godoy Cruz. \n«Gracias en nombre de la empresa»\, de Lutz Hübner \nEntradas en venta \nVía online: bit.ly/EntradasEnkosala \nEn la taquilla de la sala\, el mismo día de la función. \nCupos limitados.[/vc_column_text][/vc_column][/vc_row][vc_row][vc_column][vc_single_image image=»83898″ img_size=»full»][/vc_column][/vc_row] \n
URL:https://www.godoycruz.sisargentina.com/evento/zona-teatro-godoy-cruz-salas-independientes-39/
LOCATION:Mendoza
ATTACH;FMTTYPE=image/png:https://www.godoycruz.sisargentina.com/wp-content/uploads/2021/11/255046857_2156942617795338_5496405787954861893_n.png
END:VEVENT
END:VCALENDAR