BEGIN:VCALENDAR
VERSION:2.0
PRODID:-//Godoy Cruz - ECPv4.5.8.1//NONSGML v1.0//EN
CALSCALE:GREGORIAN
METHOD:PUBLISH
X-WR-CALNAME:Godoy Cruz
X-ORIGINAL-URL:https://www.godoycruz.sisargentina.com
X-WR-CALDESC:Events for Godoy Cruz
BEGIN:VEVENT
DTSTART;TZID=UTC-3:20211121T223000
DTEND;TZID=UTC-3:20211121T223000
DTSTAMP:20260422T234730
CREATED:20211116T145923Z
LAST-MODIFIED:20211116T145923Z
UID:84032-1637533800-1637533800@www.godoycruz.sisargentina.com
SUMMARY:Festival Internacional Mendoza Sax Fest 2021
DESCRIPTION:[vc_row][vc_column][vc_column_text]Conciertos con grandes referentes del saxofón. \nFood trucks y stands de cerveza artesanal. \nArtistas:Rodrigo Domínguez. Juan Emilio Cuchiareli\, Hugo Larrañaga y Marcelo Narváez. \nEntrada gratuita y cupos limitados. Retirar en la sala el mismo día de la función. \nCupos limitados. Se ruega puntualidad y cumplir con el protocolo sanitario vigente.[/vc_column_text][/vc_column][/vc_row][vc_row][vc_column][vc_single_image image=»84026″ img_size=»full»][/vc_column][/vc_row] \n
URL:https://www.godoycruz.sisargentina.com/evento/festival-internacional-mendoza-sax-fest-2021-3/
ATTACH;FMTTYPE=image/jpeg:https://www.godoycruz.sisargentina.com/wp-content/uploads/2021/11/258097435_2160878467401753_920653130806395293_n.jpg
END:VEVENT
END:VCALENDAR