BEGIN:VCALENDAR
VERSION:2.0
PRODID:-//Godoy Cruz - ECPv4.5.8.1//NONSGML v1.0//EN
CALSCALE:GREGORIAN
METHOD:PUBLISH
X-WR-CALNAME:Godoy Cruz
X-ORIGINAL-URL:https://www.godoycruz.sisargentina.com
X-WR-CALDESC:Events for Godoy Cruz
BEGIN:VEVENT
DTSTART;TZID=UTC-3:20211120T183000
DTEND;TZID=UTC-3:20211120T183000
DTSTAMP:20260423T005725
CREATED:20211112T153426Z
LAST-MODIFIED:20211112T153426Z
UID:83866-1637433000-1637433000@www.godoycruz.sisargentina.com
SUMMARY:Zona Teatro Godoy Cruz\, Salas Independientes
DESCRIPTION:[vc_row][vc_column][vc_column_text]Espectáculos para disfrutar en diferentes espacios de Godoy Cruz. \n“Bom Borom Bom Bom”. Elenco Banda Espuma \nEntradas en venta \nVía online: https://bit.ly/EntradasGiraluna \nEn la taquilla de la sala\, el mismo día de la función. \nCupos limitados.[/vc_column_text][/vc_column][/vc_row][vc_row][vc_column][vc_single_image image=»83867″ img_size=»full»][/vc_column][/vc_row] \n
URL:https://www.godoycruz.sisargentina.com/evento/zona-teatro-godoy-cruz-salas-independientes-33/
ATTACH;FMTTYPE=image/png:https://www.godoycruz.sisargentina.com/wp-content/uploads/2021/11/250046020_2156942607795339_3503992729372988689_n.png
END:VEVENT
BEGIN:VEVENT
DTSTART;TZID=UTC-3:20211120T210000
DTEND;TZID=UTC-3:20211120T210000
DTSTAMP:20260423T005725
CREATED:20211115T162855Z
LAST-MODIFIED:20211115T162855Z
UID:83986-1637442000-1637442000@www.godoycruz.sisargentina.com
SUMMARY:Beethoven en Tríptico 365. Sus Sinfonías más Románticas
DESCRIPTION:[vc_row][vc_column][vc_column_text]Tercer concierto de La Orquesta Barroca de Mendoza. \nEl ensamble interpreta obras de de Beethoven y Stamitz. \nDirección: Mtro. Hugo Mariano Peralta. \nPrograma: \nConcerto para Viola en Re Op. 1\, de Carl Philipp Stamitz. Intérprete solista. José Ernesto Guevara. \nSinfonía N° 5 en Do Menor. Op. 67\, de L. V. Beethoven. \nEntradas en venta:\nBoletería del Teatro Plaza (Colón 27\, Godoy Cruz). Horario de atención: de lunes a sábado\, de 9 a 18h. Domingos: desde las 17 h.\nVía online: https://bit.ly/EntradasBeethovenEnTriptico \nCupos limitados. Se ruega puntualidad y cumplir con el protocolo sanitario vigente.[/vc_column_text][/vc_column][/vc_row][vc_row][vc_column][vc_single_image image=»83989″ img_size=»full»][/vc_column][/vc_row] \n
URL:https://www.godoycruz.sisargentina.com/evento/beethoven-triptico-365-sinfonias-mas-romanticas/
LOCATION:Colón 27\, Godoy Cruz\, Mendoza\, 5501\, Argentina
ATTACH;FMTTYPE=image/jpeg:https://www.godoycruz.sisargentina.com/wp-content/uploads/2021/11/254601450_3951583978276585_4692319287663124723_n.jpg
END:VEVENT
BEGIN:VEVENT
DTSTART;TZID=UTC-3:20211120T223000
DTEND;TZID=UTC-3:20211120T223000
DTSTAMP:20260423T005725
CREATED:20211116T145112Z
LAST-MODIFIED:20211116T145112Z
UID:84029-1637447400-1637447400@www.godoycruz.sisargentina.com
SUMMARY:Festival Internacional Mendoza Sax Fest 2021
DESCRIPTION:[vc_row][vc_column][vc_column_text]Conciertos con grandes referentes del saxofon. \nFood trucks y stands de cerveza artesanal. \nArtistas: Dúo Núñez – Ayala. \nPresentación del disco “Calor”. \nEntrada gratuita y cupos limitados. Retirar en la sala el mismo día de la función. \nCupos limitados. Se ruega puntualidad y cumplir con el protocolo sanitario vigente.[/vc_column_text][/vc_column][/vc_row][vc_row][vc_column][vc_single_image image=»84026″ img_size=»full»][/vc_column][/vc_row] \n
URL:https://www.godoycruz.sisargentina.com/evento/festival-internacional-mendoza-sax-fest-2021-2/
ATTACH;FMTTYPE=image/jpeg:https://www.godoycruz.sisargentina.com/wp-content/uploads/2021/11/258097435_2160878467401753_920653130806395293_n.jpg
END:VEVENT
END:VCALENDAR