BEGIN:VCALENDAR
VERSION:2.0
PRODID:-//Godoy Cruz - ECPv4.5.8.1//NONSGML v1.0//EN
CALSCALE:GREGORIAN
METHOD:PUBLISH
X-WR-CALNAME:Godoy Cruz
X-ORIGINAL-URL:https://www.godoycruz.sisargentina.com
X-WR-CALDESC:Events for Godoy Cruz
BEGIN:VEVENT
DTSTART;TZID=UTC-3:20211116T210000
DTEND;TZID=UTC-3:20211116T210000
DTSTAMP:20260423T062712
CREATED:20211115T171951Z
LAST-MODIFIED:20211115T171951Z
UID:83993-1637096400-1637096400@www.godoycruz.sisargentina.com
SUMMARY:10° Aniversario Programa de Canto de Verónica Cangemi
DESCRIPTION:[vc_row][vc_column][vc_column_text]El Programa de Canto de la Universidad de Congreso celebra sus 10 años en el Teatro Plaza. \nEntrada gratuita (máximo 2 por persona). \nRetirar en: \nBoletería del Teatro Plaza (Colón 27\, Godoy Cruz). Horario de atención: de lunes a sábado\, de 9 a 18h. \nVía online: https://bit.ly/10aniversarioCanto \nCupos limitados. Se ruega puntualidad y cumplir con el protocolo sanitario vigente.[/vc_column_text][/vc_column][/vc_row][vc_row][vc_column][vc_single_image image=»83994″ img_size=»full»][/vc_column][/vc_row] \n
URL:https://www.godoycruz.sisargentina.com/evento/10-aniversario-programa-canto-veronica-cangemi/
LOCATION:Colón 27\, Godoy Cruz\, Mendoza\, 5501\, Argentina
ATTACH;FMTTYPE=image/jpeg:https://www.godoycruz.sisargentina.com/wp-content/uploads/2021/11/WhatsApp-Image-2021-11-15-at-09.48.55.jpeg
END:VEVENT
END:VCALENDAR