BEGIN:VCALENDAR
VERSION:2.0
PRODID:-//Godoy Cruz - ECPv4.5.8.1//NONSGML v1.0//EN
CALSCALE:GREGORIAN
METHOD:PUBLISH
X-WR-CALNAME:Godoy Cruz
X-ORIGINAL-URL:https://www.godoycruz.sisargentina.com
X-WR-CALDESC:Events for Godoy Cruz
BEGIN:VEVENT
DTSTART;TZID=UTC-3:20211112T210000
DTEND;TZID=UTC-3:20211112T210000
DTSTAMP:20260422T232137
CREATED:20211110T162323Z
LAST-MODIFIED:20211110T162323Z
UID:83755-1636750800-1636750800@www.godoycruz.sisargentina.com
SUMMARY:X Encuentro Internacional de Coros Godoy Cruz Canta 2021
DESCRIPTION:[vc_row][vc_column][vc_column_text]Concierto en vivo con agrupaciones corales de Mendoza y coros internacionales (vía streaming). \nEntradas gratuitas. \nRetirar en la boletería del Teatro Plaza (Colón 27\, Godoy Cruz). Horario de atención: de lunes a sábado\, de 9:00 a 18:00h. \nArtistas: \nCoro Cantapueblo. Municipalidad de Godoy Cruz. Dir. Nancy Ciccioli. \nVózeres Ensamble Vocal. Mexico (virtual).Dir. Edgar G. Salzmann. \nCoro de Niños de la Ciudad de Mendoza. Mendoza. Dir. Lic. Mariana Ledda. \nCoro de la Universidad de los Lagos Campus Puerto Montt. Chile (virtual). Dir. Alvaro Subiabre Sotomayor. \nCoro de Jovenes de la UNCuyo. Mendoza. Dir. Angela Burgoa. \nCoral Lavapies. España (virtual). Dir. Osvaldo Ciccioli. \nCoro Centro Cultural Matesis. Mendoza. Dir. Carina Chinigioli. \nCoradictos. Mendoza. Dir. Gonzalo Villalba. \nCupos limitados. Se ruega puntualidad y cumplir con el protocolo sanitario vigente.[/vc_column_text][/vc_column][/vc_row][vc_row][vc_column][/vc_column][/vc_row][vc_row][vc_column][vc_single_image image=»83757″ img_size=»full»][/vc_column][/vc_row] \n
URL:https://www.godoycruz.sisargentina.com/evento/x-encuentro-internacional-coros-godoy-cruz-canta-2021/
LOCATION:Colón 27\, Godoy Cruz\, Mendoza\, 5501\, Argentina
ATTACH;FMTTYPE=image/jpeg:https://www.godoycruz.sisargentina.com/wp-content/uploads/2021/11/253385783_2154657238023876_3175390760759907131_n.jpg
END:VEVENT
END:VCALENDAR