BEGIN:VCALENDAR
VERSION:2.0
PRODID:-//Godoy Cruz - ECPv4.5.8.1//NONSGML v1.0//EN
CALSCALE:GREGORIAN
METHOD:PUBLISH
X-WR-CALNAME:Godoy Cruz
X-ORIGINAL-URL:https://www.godoycruz.sisargentina.com
X-WR-CALDESC:Events for Godoy Cruz
BEGIN:VEVENT
DTSTART;TZID=UTC-3:20211110T213000
DTEND;TZID=UTC-3:20211110T213000
DTSTAMP:20260422T202750
CREATED:20211105T145243Z
LAST-MODIFIED:20211105T145243Z
UID:83607-1636579800-1636579800@www.godoycruz.sisargentina.com
SUMMARY:Las Voces del País
DESCRIPTION:[vc_row][vc_column][vc_column_text]Cantantes de «La Voz Argentina» llegan al Teatro Plaza con un espectáculo musical. \nDúos y solistas de distintas provincias vienen a demostrar su talento. \nArtistas: \nSeba Pérez; Marcos Olaguibet; Nico Olmedo; Facundo y Luciano Giovos; Denis y Axel Ortiz. \nEntradas en venta:\nBoletería del Teatro Plaza (Colón 27\, Godoy Cruz). Horario de atención: de lunes a sábado\, de 9:00 a 18:00h. Domingos: desde las 17h.\nVía online: https://bit.ly/EntradasLasVocesdelPais \nCupos limitados. Se ruega puntualidad y cumplir con el protocolo sanitario vigente.[/vc_column_text][/vc_column][/vc_row][vc_row][vc_column][vc_single_image image=»83608″ img_size=»full»][/vc_column][/vc_row] \n
URL:https://www.godoycruz.sisargentina.com/evento/las-voces-del-pais/
LOCATION:Colón 27\, Godoy Cruz\, Mendoza\, 5501\, Argentina
ATTACH;FMTTYPE=image/jpeg:https://www.godoycruz.sisargentina.com/wp-content/uploads/2021/11/WhatsApp-Image-2021-10-27-at-14.54.43.jpeg
END:VEVENT
END:VCALENDAR