BEGIN:VCALENDAR
VERSION:2.0
PRODID:-//Godoy Cruz - ECPv4.5.8.1//NONSGML v1.0//EN
CALSCALE:GREGORIAN
METHOD:PUBLISH
X-WR-CALNAME:Godoy Cruz
X-ORIGINAL-URL:https://www.godoycruz.sisargentina.com
X-WR-CALDESC:Events for Godoy Cruz
BEGIN:VEVENT
DTSTART;TZID=UTC-3:20211107T180000
DTEND;TZID=UTC-3:20211107T180000
DTSTAMP:20260422T154422
CREATED:20211030T161615Z
LAST-MODIFIED:20211030T161615Z
UID:83361-1636308000-1636308000@www.godoycruz.sisargentina.com
SUMMARY:INNferia Arizu\, Mercado Creativo
DESCRIPTION:[vc_row][vc_column][vc_column_text]Llega un nuevo espacio con propuestas de diferentes emprenderores/as locales. \nActividades: INNforos\, clínicas\, 30 emprendimientos creativos\, INNconexión (consultorías con especialistas)\, foodtrucks\, música en vivo. \nCierre de Conexión Innova\, 2º parte del programa Godoy Cruz Innova 2021. \nEntrada gratuita. Cupos limitados. \nSe ruega puntualidad y cumplir con el protocolo sanitario vigente.[/vc_column_text][/vc_column][/vc_row][vc_row][vc_column][vc_single_image image=»83329″ img_size=»full»][/vc_column][/vc_row] \n
URL:https://www.godoycruz.sisargentina.com/evento/innferia-arizu-mercado-creativo-2/
ATTACH;FMTTYPE=image/jpeg:https://www.godoycruz.sisargentina.com/wp-content/uploads/2021/10/Flyer-presentación.jpg
END:VEVENT
BEGIN:VEVENT
DTSTART;TZID=UTC-3:20211107T210000
DTEND;TZID=UTC-3:20211107T210000
DTSTAMP:20260422T154422
CREATED:20211102T163034Z
LAST-MODIFIED:20211102T163034Z
UID:83465-1636318800-1636318800@www.godoycruz.sisargentina.com
SUMMARY:San Vicente Tango
DESCRIPTION:[vc_row][vc_column][vc_column_text]Espectáculos musicales y danzas con bailarines\, cantantes y conjuntos locales y nacionales. \nEspacio Arizu. \nArtistas: \nBallet Municipal de Godoy Cruz. \nOrquesta de Tango “José Di Rino” (Municipalidad de Rivadavia). \nCabernet Oblivion. \nBrasstor. \nEntradas gratuitas y cupos limitados. \nSe ruega puntualidad y cumplir con el protocolo sanitario vigente.[/vc_column_text][/vc_column][/vc_row][vc_row][vc_column][vc_single_image image=»83471″ img_size=»full»][/vc_column][/vc_row] \n
URL:https://www.godoycruz.sisargentina.com/evento/san-vicente-tango-3/
ATTACH;FMTTYPE=image/jpeg:https://www.godoycruz.sisargentina.com/wp-content/uploads/2021/11/WhatsApp-Image-2021-11-02-at-11.47.32.jpeg
END:VEVENT
END:VCALENDAR