BEGIN:VCALENDAR
VERSION:2.0
PRODID:-//Godoy Cruz - ECPv4.5.8.1//NONSGML v1.0//EN
CALSCALE:GREGORIAN
METHOD:PUBLISH
X-WR-CALNAME:Godoy Cruz
X-ORIGINAL-URL:https://www.godoycruz.sisargentina.com
X-WR-CALDESC:Events for Godoy Cruz
BEGIN:VEVENT
DTSTART;TZID=UTC-3:20211105T210000
DTEND;TZID=UTC-3:20211105T210000
DTSTAMP:20260422T154420
CREATED:20211102T155100Z
LAST-MODIFIED:20211102T155100Z
UID:83453-1636146000-1636146000@www.godoycruz.sisargentina.com
SUMMARY:San Vicente Tango
DESCRIPTION:[vc_row][vc_column][vc_column_text]Espectáculos musicales y danzas con bailarines\, cantantes y conjuntos locales y nacionales. \nEspacio Arizu. \nArtistas: \nTrío Godoy Cruz & Érica Ritman. \nBallet Municipal de Godoy Cruz. \nBailarines: Cecilia Herrera – Carlos Trigo. Eugenia Moyano – Pablo Fernández. \nDj Damaris Aveiro (Mendoza Tango Art). \nEntradas gratuitas y cupos limitados. \nSe ruega puntualidad y cumplir con el protocolo sanitario vigente.[/vc_column_text][/vc_column][/vc_row][vc_row][vc_column][vc_single_image image=»83454″ img_size=»full»][/vc_column][/vc_row] \n
URL:https://www.godoycruz.sisargentina.com/evento/san-vicente-tango/
ATTACH;FMTTYPE=image/jpeg:https://www.godoycruz.sisargentina.com/wp-content/uploads/2021/11/WhatsApp-Image-2021-11-02-at-11.47.31-1.jpeg
END:VEVENT
BEGIN:VEVENT
DTSTART;TZID=UTC-3:20211105T220000
DTEND;TZID=UTC-3:20211105T220000
DTSTAMP:20260422T154420
CREATED:20211031T015856Z
LAST-MODIFIED:20211105T145931Z
UID:83374-1636149600-1636149600@www.godoycruz.sisargentina.com
SUMMARY:#Basta de amores de mierda
DESCRIPTION:[vc_row][vc_column][vc_column_text]El escritor Gonzalo «El Pela» Romero trae su espectáculo unipersonal. \nLa charla está basada en su exitosa serie de libros «#Basta de amores de mierda». \nEntradas en venta:\nBoletería del Teatro Plaza (Colón 27\, Godoy Cruz). Horario de atención: de lunes a sábado\, de 9 a 18h.\nVía online: https://bit.ly/EntradasElPelaRomero \nCupos limitados. Se ruega puntualidad y cumplir con el protocolo sanitario vigente. \nSe recuerda que los fines de semana\, a partir de las 20\, rige el estacionamiento medido en la Plaza Departamental y sus alrededores. El precio cada media hora es de $ 20.[/vc_column_text][/vc_column][/vc_row][vc_row][vc_column][vc_single_image image=»83375″ img_size=»full»][/vc_column][/vc_row] \n
URL:https://www.godoycruz.sisargentina.com/evento/basta-amores-mierda/
LOCATION:Colón 27\, Godoy Cruz\, Mendoza\, 5501\, Argentina
ATTACH;FMTTYPE=image/jpeg:https://www.godoycruz.sisargentina.com/wp-content/uploads/2021/10/WhatsApp-Image-2021-10-13-at-10.39.38.jpeg
END:VEVENT
END:VCALENDAR