BEGIN:VCALENDAR
VERSION:2.0
PRODID:-//Godoy Cruz - ECPv4.5.8.1//NONSGML v1.0//EN
CALSCALE:GREGORIAN
METHOD:PUBLISH
X-WR-CALNAME:Godoy Cruz
X-ORIGINAL-URL:https://www.godoycruz.sisargentina.com
X-WR-CALDESC:Events for Godoy Cruz
BEGIN:VEVENT
DTSTART;TZID=UTC-3:20210623T210000
DTEND;TZID=UTC-3:20210623T210000
DTSTAMP:20260423T125122
CREATED:20210622T155159Z
LAST-MODIFIED:20210622T155159Z
UID:78893-1624482000-1624482000@www.godoycruz.sisargentina.com
SUMMARY:El Acústico\, Programa de Rock
DESCRIPTION:[vc_row][vc_column][vc_column_text]Un nuevo ciclo que promueve la difusión de artistas locales. \nFormato acústico y de entrevistas. \nArtista invitada: Claudia «Clonti» Benegas. \nEscuchalo por el Facebook de Cultura e Industrias Creativas – Godoy Cruz y Radio 2 (FM 103.1)[/vc_column_text][/vc_column][/vc_row][vc_row][vc_column][vc_single_image image=»78894″ img_size=»full»][/vc_column][/vc_row] \n
URL:https://www.godoycruz.sisargentina.com/evento/acustico-programa-rock-4/
ATTACH;FMTTYPE=image/png:https://www.godoycruz.sisargentina.com/wp-content/uploads/2021/06/203806875_2046890438800557_8288661816461041176_n.png
END:VEVENT
END:VCALENDAR