BEGIN:VCALENDAR
VERSION:2.0
PRODID:-//Godoy Cruz - ECPv4.5.8.1//NONSGML v1.0//EN
CALSCALE:GREGORIAN
METHOD:PUBLISH
X-WR-CALNAME:Godoy Cruz
X-ORIGINAL-URL:https://www.godoycruz.sisargentina.com
X-WR-CALDESC:Events for Godoy Cruz
BEGIN:VEVENT
DTSTART;TZID=UTC-3:20210602T210000
DTEND;TZID=UTC-3:20210602T210000
DTSTAMP:20260423T154248
CREATED:20210601T162344Z
LAST-MODIFIED:20210601T162344Z
UID:78147-1622667600-1622667600@www.godoycruz.sisargentina.com
SUMMARY:El Acústico\, Programa de Rock
DESCRIPTION:[vc_row][vc_column][vc_column_text]Un nuevo ciclo que promueve la difusión de artistas locales. \nFormato acústico y de entrevistas. \nBanda invitada: Cinical. \nEscuchalo por el Facebook de Cultura e Industrias Creativas – Godoy Cruz y Radio 2 (FM 103.1)[/vc_column_text][/vc_column][/vc_row][vc_row][vc_column][vc_single_image image=»78148″ img_size=»full»][/vc_column][/vc_row] \n
URL:https://www.godoycruz.sisargentina.com/evento/acustico-programa-rock/
ATTACH;FMTTYPE=image/jpeg:https://www.godoycruz.sisargentina.com/wp-content/uploads/2021/06/193367730_2031172347039033_1979672347519720630_n.jpg
END:VEVENT
END:VCALENDAR