BEGIN:VCALENDAR
VERSION:2.0
PRODID:-//Godoy Cruz - ECPv4.5.8.1//NONSGML v1.0//EN
CALSCALE:GREGORIAN
METHOD:PUBLISH
X-WR-CALNAME:Godoy Cruz
X-ORIGINAL-URL:https://www.godoycruz.sisargentina.com
X-WR-CALDESC:Events for Godoy Cruz
BEGIN:VEVENT
DTSTART;TZID=UTC-3:20210328T180000
DTEND;TZID=UTC-3:20210328T180000
DTSTAMP:20260423T062714
CREATED:20210325T171233Z
LAST-MODIFIED:20210325T171233Z
UID:76098-1616954400-1616954400@www.godoycruz.sisargentina.com
SUMMARY:“Circuito Cultural Barrial”
DESCRIPTION:[vc_row][vc_column][vc_column_text]Espectáculos infantiles para toda la familia. \nMurga Sendero Luminoso y “El Circo de Getulio”. \nBarrio 4 de julio (Calles Belice y Estados Unidos).[/vc_column_text][/vc_column][/vc_row][vc_row][vc_column][vc_single_image image=»76099″ img_size=»full»][/vc_column][/vc_row] \n
URL:https://www.godoycruz.sisargentina.com/evento/circuito-cultural-barrial-17/
ATTACH;FMTTYPE=image/jpeg:https://www.godoycruz.sisargentina.com/wp-content/uploads/2021/03/WhatsApp-Image-2021-03-25-at-12.10.11.jpeg
END:VEVENT
BEGIN:VEVENT
DTSTART;TZID=UTC-3:20210328T200000
DTEND;TZID=UTC-3:20210328T200000
DTSTAMP:20260423T062714
CREATED:20210326T163552Z
LAST-MODIFIED:20210326T163552Z
UID:76146-1616961600-1616961600@www.godoycruz.sisargentina.com
SUMMARY:Juntos
DESCRIPTION:[vc_row][vc_column][vc_column_text]Espectáculo musical en vivo. \nArtistas: Carina Palacios y Manolo Palacios. Dúo Nuevo Cuyo \nEntradas en venta:\nBoletería del Teatro Plaza (Colón 27\, Godoy Cruz). Horario de atención: de lunes a viernes\, de 9 a 14h.\nVía Online:http://bit.ly/EntradasJuntos \nCupos limitados por protocolo.[/vc_column_text][/vc_column][/vc_row][vc_row][vc_column][vc_single_image image=»76147″ img_size=»full»][/vc_column][/vc_row] \n
URL:https://www.godoycruz.sisargentina.com/evento/juntos/
LOCATION:Colón 27\, Godoy Cruz\, Mendoza\, 5501\, Argentina
ATTACH;FMTTYPE=image/jpeg:https://www.godoycruz.sisargentina.com/wp-content/uploads/2021/03/WhatsApp-Image-2021-03-25-at-13.05.20.jpeg
END:VEVENT
BEGIN:VEVENT
DTSTART;TZID=UTC-3:20210328T210000
DTEND;TZID=UTC-3:20210328T210000
DTSTAMP:20260423T062714
CREATED:20210322T200913Z
LAST-MODIFIED:20210322T200913Z
UID:75961-1616965200-1616965200@www.godoycruz.sisargentina.com
SUMMARY:Zona Teatro Godoy Cruz\, Salas Independientes
DESCRIPTION:[vc_row][vc_column][vc_column_text]Obra: “La niña gallo”. \nAutoría y dirección: Erika Gómez. \nElenco: Telares Teatro. \nCupos limitados. \nLa Colombina Centro Cultural (Balcarce 220\, Godoy Cruz). \nEntradas en venta:\nBoletería del Teatro Plaza (lunes a viernes\, 8 a 14 h).\nVía online: http://bit.ly/EntradalaColombina\nEl mismo día de la función\, en la sala.[/vc_column_text][/vc_column][/vc_row][vc_row][vc_column][vc_single_image image=»75957″ img_size=»full»][/vc_column][/vc_row] \n
URL:https://www.godoycruz.sisargentina.com/evento/zona-teatro-godoy-cruz-salas-independientes-8/
ATTACH;FMTTYPE=image/jpeg:https://www.godoycruz.sisargentina.com/wp-content/uploads/2021/03/WhatsApp-Image-2021-03-19-at-11.13.07.jpeg
END:VEVENT
END:VCALENDAR