BEGIN:VCALENDAR
VERSION:2.0
PRODID:-//Godoy Cruz - ECPv4.5.8.1//NONSGML v1.0//EN
CALSCALE:GREGORIAN
METHOD:PUBLISH
X-WR-CALNAME:Godoy Cruz
X-ORIGINAL-URL:https://www.godoycruz.sisargentina.com
X-WR-CALDESC:Events for Godoy Cruz
BEGIN:VEVENT
DTSTART;TZID=UTC-3:20210327T180000
DTEND;TZID=UTC-3:20210327T180000
DTSTAMP:20260423T021014
CREATED:20210325T165835Z
LAST-MODIFIED:20210325T165835Z
UID:76093-1616868000-1616868000@www.godoycruz.sisargentina.com
SUMMARY:“Circuito Cultural Barrial”
DESCRIPTION:[vc_row][vc_column][vc_column_text]Espectáculos infantiles para toda la familia. \n“Rolando en el palacio de la tristeza”. \nElenco: Grupo del Sinfin. \nBarrio Villa del Parque (Boulevard San Vicente).[/vc_column_text][/vc_column][/vc_row][vc_row][vc_column][vc_single_image image=»76094″ img_size=»full»][/vc_column][/vc_row] \n
URL:https://www.godoycruz.sisargentina.com/evento/circuito-cultural-barrial-16/
ATTACH;FMTTYPE=image/jpeg:https://www.godoycruz.sisargentina.com/wp-content/uploads/2021/03/WhatsApp-Image-2021-03-25-at-09.19.32-1.jpeg
END:VEVENT
BEGIN:VEVENT
DTSTART;TZID=UTC-3:20210327T210000
DTEND;TZID=UTC-3:20210327T210000
DTSTAMP:20260423T021014
CREATED:20210323T165120Z
LAST-MODIFIED:20210325T173747Z
UID:76003-1616878800-1616878800@www.godoycruz.sisargentina.com
SUMMARY:Hugo Lobo en Godoy Cruz
DESCRIPTION:[vc_row][vc_column][vc_column_text]El reconocido músico y productor  presenta su proyecto solista en vivo. \nBandas invitadas: CDM + Día 1. \nEntradas en venta: \nVía online\, a través de http://bit.ly/EntradasHugoLobo \nCupos limitados por protocolo.[/vc_column_text][/vc_column][/vc_row][vc_row][vc_column][vc_single_image image=»76004″ img_size=»full»][/vc_column][/vc_row] \n
URL:https://www.godoycruz.sisargentina.com/evento/hugo-lobo-godoy-cruz-1/
LOCATION:Colón 27\, Godoy Cruz\, Mendoza\, 5501\, Argentina
ATTACH;FMTTYPE=image/jpeg:https://www.godoycruz.sisargentina.com/wp-content/uploads/2021/03/156835333_1961446317344970_3717197270768290484_o.jpg
END:VEVENT
BEGIN:VEVENT
DTSTART;TZID=UTC-3:20210327T213000
DTEND;TZID=UTC-3:20210327T213000
DTSTAMP:20260423T021014
CREATED:20210308T164930Z
LAST-MODIFIED:20210308T164930Z
UID:75504-1616880600-1616880600@www.godoycruz.sisargentina.com
SUMMARY:Terraza Cinema
DESCRIPTION:[vc_row][vc_column][vc_column_text]Ciclo Terraza Cinema. \nPelícula: “Dirty dancing” (Baile caliente). \nDir: Emile Ardolino. \nCupos limitados. \nEntrada gratuita.[/vc_column_text][/vc_column][/vc_row][vc_row][vc_column][vc_single_image image=»75498″ img_size=»full»][/vc_column][/vc_row] \n
URL:https://www.godoycruz.sisargentina.com/evento/terraza-cinema-3/
LOCATION:Tomba 54\, Godoy Cruz\, Mendoza\, 5501\, Argentina
ATTACH;FMTTYPE=image/jpeg:https://www.godoycruz.sisargentina.com/wp-content/uploads/2021/03/158033796_1962832243873044_7154750010724728683_o.jpg
END:VEVENT
BEGIN:VEVENT
DTSTART;TZID=UTC-3:20210327T220000
DTEND;TZID=UTC-3:20210327T220000
DTSTAMP:20260423T021014
CREATED:20210322T200020Z
LAST-MODIFIED:20210322T200020Z
UID:75956-1616882400-1616882400@www.godoycruz.sisargentina.com
SUMMARY:Zona Teatro Godoy Cruz\, Salas Independientes
DESCRIPTION:[vc_row][vc_column][vc_column_text]Obra: “Telémaco/Sub – Europa”. \nDirección General: Laura Volpe y Paula San Martín. \nElenco: El ulular teatro de tierras áridas \nCupos limitados. \nLa Colombina Centro Cultural (Balcarce 220\, Godoy Cruz). \nEntradas en venta:\nBoletería del Teatro Plaza (lunes a viernes\, 8 a 14 h).\nVía online:http://bit.ly/EntradalaColombina\nEl mismo día de la función\, en la sala.[/vc_column_text][/vc_column][/vc_row][vc_row][vc_column][vc_single_image image=»75957″ img_size=»full»][/vc_column][/vc_row] \n
URL:https://www.godoycruz.sisargentina.com/evento/zona-teatro-godoy-cruz-salas-independientes-7/
ATTACH;FMTTYPE=image/jpeg:https://www.godoycruz.sisargentina.com/wp-content/uploads/2021/03/WhatsApp-Image-2021-03-19-at-11.13.07.jpeg
END:VEVENT
END:VCALENDAR