BEGIN:VCALENDAR
VERSION:2.0
PRODID:-//Godoy Cruz - ECPv4.5.8.1//NONSGML v1.0//EN
CALSCALE:GREGORIAN
METHOD:PUBLISH
X-WR-CALNAME:Godoy Cruz
X-ORIGINAL-URL:https://www.godoycruz.sisargentina.com
X-WR-CALDESC:Events for Godoy Cruz
BEGIN:VEVENT
DTSTART;TZID=UTC-3:20210326T213000
DTEND;TZID=UTC-3:20210326T213000
DTSTAMP:20260423T062712
CREATED:20210322T195212Z
LAST-MODIFIED:20210322T195212Z
UID:75952-1616794200-1616794200@www.godoycruz.sisargentina.com
SUMMARY:Zona Teatro Godoy Cruz\, Salas Independientes
DESCRIPTION:[vc_row][vc_column][vc_column_text]Obra: “Tiempo de paz”\, de Bosco Brasil. \nDirección: Daniel Posada. Actuación: José Kemelmajer\, Gustavo Torres \nCupos limitados. \nEnkosala Gladys Ravalle (Almirante Brown 755\, Godoy Cruz). \nEntradas en venta:\nBoletería del Teatro Plaza (lunes a viernes\, 8 a 14 h).\nVía online: https://bit.ly/EntradasEnkosala\nEl mismo día de la función\, en la sala.[/vc_column_text][/vc_column][/vc_row][vc_row][vc_column][vc_single_image image=»75948″ img_size=»full»][/vc_column][/vc_row] \n
URL:https://www.godoycruz.sisargentina.com/evento/zona-teatro-godoy-cruz-salas-independientes-6/
ATTACH;FMTTYPE=image/jpeg:https://www.godoycruz.sisargentina.com/wp-content/uploads/2021/03/WhatsApp-Image-2021-03-17-at-10.10.44-1.jpeg
END:VEVENT
BEGIN:VEVENT
DTSTART;TZID=UTC-3:20210326T213000
DTEND;TZID=UTC-3:20210326T213000
DTSTAMP:20260423T062712
CREATED:20210325T163527Z
LAST-MODIFIED:20210325T163527Z
UID:76089-1616794200-1616794200@www.godoycruz.sisargentina.com
SUMMARY:XOUT No te resistas
DESCRIPTION:[vc_row][vc_column][vc_column_text]Un espectáculo cargado de sensualidad. \nGran despliegue de bailarines\, cantantes y artistas aéreos. \nApto para mayores de 18 años. \nEntradas en venta:\nBoletería del Teatro Plaza (Colón 27\, Godoy Cruz). Horario de atención: de lunes a viernes\, de 9 a 14h.\nVía Online: https://bit.ly/3tTh90B \nCupos limitados por protocolo.[/vc_column_text][/vc_column][/vc_row][vc_row][vc_column][vc_single_image image=»76090″ img_size=»full»][/vc_column][/vc_row] \n
URL:https://www.godoycruz.sisargentina.com/evento/xout-no-te-resistas/
LOCATION:Colón 27\, Godoy Cruz\, Mendoza\, 5501\, Argentina
ATTACH;FMTTYPE=image/jpeg:https://www.godoycruz.sisargentina.com/wp-content/uploads/2021/03/WhatsApp-Image-2021-03-25-at-09.58.19.jpeg
END:VEVENT
END:VCALENDAR