BEGIN:VCALENDAR
VERSION:2.0
PRODID:-//Godoy Cruz - ECPv4.5.8.1//NONSGML v1.0//EN
CALSCALE:GREGORIAN
METHOD:PUBLISH
X-WR-CALNAME:Godoy Cruz
X-ORIGINAL-URL:https://www.godoycruz.sisargentina.com
X-WR-CALDESC:Events for Godoy Cruz
BEGIN:VEVENT
DTSTART;TZID=UTC-3:20210321T173000
DTEND;TZID=UTC-3:20210321T173000
DTSTAMP:20260423T021729
CREATED:20210321T033547Z
LAST-MODIFIED:20210321T033547Z
UID:75919-1616347800-1616347800@www.godoycruz.sisargentina.com
SUMMARY:4° Festival Internacional de Estatuas Vivientes en Mendoza
DESCRIPTION:[vc_row][vc_column][vc_column_text]Espectáculo al aire libre. \nParticipación de estatuas vivientes de Mendoza\, Entre Ríos\, San Juan y un artista invitado de Ecuador. \nEntrada libre y gratuita.[/vc_column_text][/vc_column][/vc_row][vc_row][vc_column][vc_single_image image=»75920″ img_size=»full»][/vc_column][/vc_row] \n
URL:https://www.godoycruz.sisargentina.com/evento/4-festival-internacional-estatuas-vivientes-mendoza/
ATTACH;FMTTYPE=image/jpeg:https://www.godoycruz.sisargentina.com/wp-content/uploads/2021/03/WhatsApp-Image-2021-03-17-at-10.10.46.jpeg
END:VEVENT
BEGIN:VEVENT
DTSTART;TZID=UTC-3:20210321T190000
DTEND;TZID=UTC-3:20210321T190000
DTSTAMP:20260423T021729
CREATED:20210317T173121Z
LAST-MODIFIED:20210317T173121Z
UID:75853-1616353200-1616353200@www.godoycruz.sisargentina.com
SUMMARY:“Circuito Cultural Barrial”
DESCRIPTION:[vc_row][vc_column][vc_column_text]Espectáculos infantiles para toda la familia. \nMurga Negro Sudaka y “Chapote Chuper Chow”. \nArtista: Victor Di Nasso. \nBarrio Palumbo (Plaza Sarmiento – calles Pringles y Olaya Pescara de Tomba).[/vc_column_text][/vc_column][/vc_row][vc_row][vc_column][vc_single_image image=»75854″ img_size=»full»][/vc_column][/vc_row] \n
URL:https://www.godoycruz.sisargentina.com/evento/circuito-cultural-barrial-15/
ATTACH;FMTTYPE=image/jpeg:https://www.godoycruz.sisargentina.com/wp-content/uploads/2021/03/WhatsApp-Image-2021-03-17-at-10.11.37.jpeg
END:VEVENT
BEGIN:VEVENT
DTSTART;TZID=UTC-3:20210321T210000
DTEND;TZID=UTC-3:20210321T210000
DTSTAMP:20260423T021729
CREATED:20210318T135248Z
LAST-MODIFIED:20210318T135248Z
UID:75869-1616360400-1616360400@www.godoycruz.sisargentina.com
SUMMARY:Clásica y Patrimonial
DESCRIPTION:[vc_row][vc_column][vc_column_text]Ciclo de música. \nConciertos con destacados artistas y conjuntos. \nConcierto de María Graciela Armendariz y Leonardo Pittella. \nEntrada gratuita. Cupos limitados (50 localidades).[/vc_column_text][/vc_column][/vc_row][vc_row][vc_column][vc_single_image image=»75870″ img_size=»full»][/vc_column][/vc_row] \n
URL:https://www.godoycruz.sisargentina.com/evento/clasica-y-patrimonial-2/
ATTACH;FMTTYPE=image/jpeg:https://www.godoycruz.sisargentina.com/wp-content/uploads/2021/03/WhatsApp-Image-2021-03-17-at-13.49.06.jpeg
END:VEVENT
BEGIN:VEVENT
DTSTART;TZID=UTC-3:20210321T210000
DTEND;TZID=UTC-3:20210321T210000
DTSTAMP:20260423T021729
CREATED:20210318T143704Z
LAST-MODIFIED:20210318T143704Z
UID:75884-1616360400-1616360400@www.godoycruz.sisargentina.com
SUMMARY:Semana de la memoria
DESCRIPTION:[vc_row][vc_column][vc_column_text]Proyección de la película “Infancia Clandestina”.   \nEntrada gratuita. Cupos limitados.[/vc_column_text][/vc_column][/vc_row][vc_row][vc_column][vc_single_image image=»75875″ img_size=»full»][/vc_column][/vc_row] \n
URL:https://www.godoycruz.sisargentina.com/evento/semana-la-memoria-3/
ATTACH;FMTTYPE=image/jpeg:https://www.godoycruz.sisargentina.com/wp-content/uploads/2021/03/WhatsApp-Image-2021-03-18-at-10.27.48.jpeg
END:VEVENT
END:VCALENDAR