BEGIN:VCALENDAR
VERSION:2.0
PRODID:-//Godoy Cruz - ECPv4.5.8.1//NONSGML v1.0//EN
CALSCALE:GREGORIAN
METHOD:PUBLISH
X-WR-CALNAME:Godoy Cruz
X-ORIGINAL-URL:https://www.godoycruz.sisargentina.com
X-WR-CALDESC:Events for Godoy Cruz
BEGIN:VEVENT
DTSTART;TZID=UTC-3:20210307T170000
DTEND;TZID=UTC-3:20210307T170000
DTSTAMP:20260423T020920
CREATED:20210303T133405Z
LAST-MODIFIED:20210303T133405Z
UID:75348-1615136400-1615136400@www.godoycruz.sisargentina.com
SUMMARY:Festival María Elena Walsh
DESCRIPTION:[vc_row][vc_column][vc_column_text]Festival María Elena Walsh. \nActividades por el Día Internacional de la Mujer \nCiclo de charlas: \n17:00 – “Género y Diversidad\, Abordaje Institucional». \nDisertantes: \n\nSilvina Anfuso (Directora de Género y Diversidad de la Provincia).\nFernanda “Tete” Urquiza (Coordinadora de Diversidad de Mendoza).\nGabriela Echenique (Asesora de la Coordinación de Diversidad).\nVerónica Álvarez Ocampo (Subdirectora de Mujer\, Género y Diversidad. Municipalidad de Godoy Cruz).\n\nEntrada gratuita y limitada (por orden de llegada).[/vc_column_text][/vc_column][/vc_row][vc_row][vc_column][vc_single_image image=»75349″ img_size=»full»][/vc_column][/vc_row] \n
URL:https://www.godoycruz.sisargentina.com/evento/festival-maria-elena-walsh-2/
ATTACH;FMTTYPE=image/jpeg:https://www.godoycruz.sisargentina.com/wp-content/uploads/2021/03/WhatsApp-Image-2021-03-01-at-12.10.38.jpeg
END:VEVENT
BEGIN:VEVENT
DTSTART;TZID=UTC-3:20210307T183000
DTEND;TZID=UTC-3:20210307T183000
DTSTAMP:20260423T020920
CREATED:20210303T135739Z
LAST-MODIFIED:20210303T135739Z
UID:75354-1615141800-1615141800@www.godoycruz.sisargentina.com
SUMMARY:Festival María Elena Walsh
DESCRIPTION:[vc_row][vc_column][vc_column_text]Festival María Elena Walsh. \nActividades por el Día Internacional de la Mujer \nCiclo de charlas: \n18:30 – «Aborto Legal\, Seguro y Gratuito: un camino recorrido que continúa». \nParticipantes: \nColectivo feminista “La Malona” \nCampaña Nacional por el Derecho al Aborto Legal\, Seguro y Gratuito. \nEntrada gratuita y limitada (por orden de llegada).[/vc_column_text][/vc_column][/vc_row][vc_row][vc_column][vc_single_image image=»75349″ img_size=»full»][/vc_column][/vc_row] \n
URL:https://www.godoycruz.sisargentina.com/evento/festival-maria-elena-walsh-3/
ATTACH;FMTTYPE=image/jpeg:https://www.godoycruz.sisargentina.com/wp-content/uploads/2021/03/WhatsApp-Image-2021-03-01-at-12.10.38.jpeg
END:VEVENT
BEGIN:VEVENT
DTSTART;TZID=UTC-3:20210307T200000
DTEND;TZID=UTC-3:20210307T200000
DTSTAMP:20260423T020920
CREATED:20210301T161352Z
LAST-MODIFIED:20210301T161352Z
UID:75235-1615147200-1615147200@www.godoycruz.sisargentina.com
SUMMARY:Festival María Elena Walsh
DESCRIPTION:[vc_row][vc_column][vc_column_text]Festival María Elena Walsh. \nActividades por el Día Internacional de la Mujer \nEspectáculos en vivo: \nIntervención artística con Lorena Pereyra (actriz) y Carmen Nicotra (violinista). \nRecital de bandas locales. \nArtistas: Gamma Betta y Vid; Marta; Wachas Negras; La Teylor Mendez; Las Sobrinas de la Tía. \nEntradas en venta: \nBoletería del Teatro Plaza (Colón 27\, Godoy Cruz). Horario de atención (de lun. a vie. de 8 a 14h). \nentradaweb.com.ar[/vc_column_text][/vc_column][/vc_row][vc_row][vc_column][vc_single_image image=»75236″ img_size=»full»][/vc_column][/vc_row] \n
URL:https://www.godoycruz.sisargentina.com/evento/festival-maria-elena-walsh/
LOCATION:Colón 27\, Godoy Cruz\, Mendoza\, 5501\, Argentina
ATTACH;FMTTYPE=image/jpeg:https://www.godoycruz.sisargentina.com/wp-content/uploads/2021/03/WhatsApp-Image-2021-03-01-at-10.55.50.jpeg
END:VEVENT
BEGIN:VEVENT
DTSTART;TZID=UTC-3:20210307T200000
DTEND;TZID=UTC-3:20210307T200000
DTSTAMP:20260423T020920
CREATED:20210303T143332Z
LAST-MODIFIED:20210303T143332Z
UID:75366-1615147200-1615147200@www.godoycruz.sisargentina.com
SUMMARY:Encuentro Folclórico Tomás Godoy Cruz
DESCRIPTION:[vc_row][vc_column][vc_column_text]Encuentro Folclórico Tomás Godoy Cruz. \nEspectáculos musicales\, danzas típicas y patio de comidas. \nArtistas: \nBallet Folclórico Municipal de Godoy Cruz. \nLas Navarro. \nNolocepa. \nIni Ceverino.[/vc_column_text][/vc_column][/vc_row][vc_row][vc_column][vc_single_image image=»75367″ img_size=»full»][/vc_column][/vc_row] \n
URL:https://www.godoycruz.sisargentina.com/evento/encuentro-folclorico-tomas-godoy-cruz-2/
ATTACH;FMTTYPE=image/jpeg:https://www.godoycruz.sisargentina.com/wp-content/uploads/2021/03/WhatsApp-Image-2021-02-26-at-09.16.21.jpeg
END:VEVENT
END:VCALENDAR