BEGIN:VCALENDAR
VERSION:2.0
PRODID:-//Godoy Cruz - ECPv4.5.8.1//NONSGML v1.0//EN
CALSCALE:GREGORIAN
METHOD:PUBLISH
X-WR-CALNAME:Godoy Cruz
X-ORIGINAL-URL:https://www.godoycruz.sisargentina.com
X-WR-CALDESC:Events for Godoy Cruz
BEGIN:VEVENT
DTSTART;TZID=UTC-3:20210306T110000
DTEND;TZID=UTC-3:20210306T130000
DTSTAMP:20260423T045413
CREATED:20210303T145007Z
LAST-MODIFIED:20210303T145007Z
UID:75371-1615028400-1615035600@www.godoycruz.sisargentina.com
SUMMARY:Encuentro Folclórico Tomás Godoy Cruz
DESCRIPTION:[vc_row][vc_column][vc_column_text]Encuentro Folclórico Tomás Godoy Cruz. \nCiclo de charlas: pasado y presente de la música cuyana. \nGrilla: \n11h. “Historia de la familia y segunda voz en la música cuyana”\, por Yolanda Navarro y Armando Navarro. \n11: 40h. “Recursos vocales e interpretativos”\, por Ini Ceverino y Golondrina Ruiz. \n12.20h. “La guitarra en la música cuyana”\, por Daniel Talquenca. \n13h. “La poesía en la música popular\, castellano y regionalismo”\, por Roberto Mercado.[/vc_column_text][/vc_column][/vc_row][vc_row][vc_column][vc_single_image image=»75372″ img_size=»full»][/vc_column][/vc_row] \n
URL:https://www.godoycruz.sisargentina.com/evento/encuentro-folclorico-tomas-godoy-cruz-3/
ATTACH;FMTTYPE=image/jpeg:https://www.godoycruz.sisargentina.com/wp-content/uploads/2021/03/WhatsApp-Image-2021-03-02-at-13.30.36.jpeg
END:VEVENT
BEGIN:VEVENT
DTSTART;TZID=UTC-3:20210306T200000
DTEND;TZID=UTC-3:20210306T200000
DTSTAMP:20260423T045413
CREATED:20210305T173458Z
LAST-MODIFIED:20210305T173458Z
UID:75461-1615060800-1615060800@www.godoycruz.sisargentina.com
SUMMARY:Punto Vendimia (localidades agotadas)
DESCRIPTION:[vc_row][vc_column][vc_column_text]Punto Vendimia. Las localidades se encuentran agotadas. \nTransmisión del Especial de Vendimia 2021. \nEspectáculos musicales\, danzas  y patio de comidas. \nActuación de artistas de Vendimia. \nMaría Eugenia Fernández. \nTransmisión de la Fiesta Nacional de la Vendimia. \nDúo Nuevo Cuyo.[/vc_column_text][/vc_column][/vc_row][vc_row][vc_column][vc_single_image image=»75465″ img_size=»full»][/vc_column][/vc_row] \n
URL:https://www.godoycruz.sisargentina.com/evento/punto-vendimia-localidades-agotadas/
ATTACH;FMTTYPE=image/jpeg:https://www.godoycruz.sisargentina.com/wp-content/uploads/2021/03/WhatsApp-Image-2021-03-03-at-12.30.51.jpeg
END:VEVENT
END:VCALENDAR