BEGIN:VCALENDAR
VERSION:2.0
PRODID:-//Godoy Cruz - ECPv4.5.8.1//NONSGML v1.0//EN
CALSCALE:GREGORIAN
METHOD:PUBLISH
X-WR-CALNAME:Godoy Cruz
X-ORIGINAL-URL:https://www.godoycruz.sisargentina.com
X-WR-CALDESC:Events for Godoy Cruz
BEGIN:VEVENT
DTSTART;TZID=UTC-3:20210305T200000
DTEND;TZID=UTC-3:20210305T200000
DTSTAMP:20260423T045358
CREATED:20210303T142125Z
LAST-MODIFIED:20210303T142125Z
UID:75361-1614974400-1614974400@www.godoycruz.sisargentina.com
SUMMARY:Encuentro Folclórico Tomás Godoy Cruz
DESCRIPTION:[vc_row][vc_column][vc_column_text]Encuentro Folclórico Tomás Godoy Cruz. \nEspectáculos musicales\, danzas típicas y patio de comidas. \nArtistas: \nBallet Folclórico Municipal de Godoy Cruz. \nDúo Romero – Budini. \nPalma – Sandoval Dúo.[/vc_column_text][/vc_column][/vc_row][vc_row][vc_column][vc_single_image image=»75362″ img_size=»full»][/vc_column][/vc_row] \n
URL:https://www.godoycruz.sisargentina.com/evento/encuentro-folclorico-tomas-godoy-cruz/
ATTACH;FMTTYPE=image/jpeg:https://www.godoycruz.sisargentina.com/wp-content/uploads/2021/03/WhatsApp-Image-2021-02-26-at-09.16.22.jpeg
END:VEVENT
BEGIN:VEVENT
DTSTART;TZID=UTC-3:20210305T213000
DTEND;TZID=UTC-3:20210305T213000
DTSTAMP:20260423T045358
CREATED:20210224T174147Z
LAST-MODIFIED:20210224T174147Z
UID:75158-1614979800-1614979800@www.godoycruz.sisargentina.com
SUMMARY:Brassass en vivo
DESCRIPTION:[vc_row][vc_column][vc_column_text]Recital de la exitosa banda local. \nArtista: Brassass. \nCupos limitados por protocolo. \nEntradas en venta: \nTeatro Plaza (Colon 27\, Godoy Cruz). Horario de atención (de lun. a vie. de 8 a 14h.). \nentradaweb.com.ar[/vc_column_text][/vc_column][/vc_row][vc_row][vc_column][vc_single_image image=»75159″ img_size=»full»][/vc_column][/vc_row] \n
URL:https://www.godoycruz.sisargentina.com/evento/brassass-en-vivo/
LOCATION:Colón 27\, Godoy Cruz\, Mendoza\, 5501\, Argentina
ATTACH;FMTTYPE=image/jpeg:https://www.godoycruz.sisargentina.com/wp-content/uploads/2021/02/WhatsApp-Image-2021-02-17-at-12.05.58.jpeg
END:VEVENT
END:VCALENDAR