BEGIN:VCALENDAR
VERSION:2.0
PRODID:-//Godoy Cruz - ECPv4.5.8.1//NONSGML v1.0//EN
CALSCALE:GREGORIAN
METHOD:PUBLISH
X-WR-CALNAME:Godoy Cruz
X-ORIGINAL-URL:https://www.godoycruz.sisargentina.com
X-WR-CALDESC:Events for Godoy Cruz
BEGIN:VEVENT
DTSTART;TZID=UTC-3:20210226T193000
DTEND;TZID=UTC-3:20210226T193000
DTSTAMP:20260423T045323
CREATED:20210222T160531Z
LAST-MODIFIED:20210222T160531Z
UID:75036-1614367800-1614367800@www.godoycruz.sisargentina.com
SUMMARY:“Circuito Cultural Barrial”
DESCRIPTION:[vc_row][vc_column][vc_column_text]Espectáculos infantiles. \n“La Leyenda de Mur…un cuento de colores”. \nElenco: La Valija del Sol. \nSUM Bº Piedras Blancas.[/vc_column_text][/vc_column][/vc_row][vc_row][vc_column][vc_single_image image=»75037″ img_size=»full»][/vc_column][/vc_row] \n
URL:https://www.godoycruz.sisargentina.com/evento/circuito-cultural-barrial-11/
ATTACH;FMTTYPE=image/jpeg:https://www.godoycruz.sisargentina.com/wp-content/uploads/2021/02/WhatsApp-Image-2021-02-22-at-11.08.52-1.jpeg
END:VEVENT
BEGIN:VEVENT
DTSTART;TZID=UTC-3:20210226T193000
DTEND;TZID=UTC-3:20210226T193000
DTSTAMP:20260423T045323
CREATED:20210222T165157Z
LAST-MODIFIED:20210222T165157Z
UID:75047-1614367800-1614367800@www.godoycruz.sisargentina.com
SUMMARY:“Circuito Cultural Barrial”
DESCRIPTION:[vc_row][vc_column][vc_column_text]Espectáculos infantiles. \n“Circus Magenta”. \nBarrio Urundel (Cancha Bustamante).[/vc_column_text][/vc_column][/vc_row][vc_row][vc_column][vc_single_image image=»75049″ img_size=»full»][/vc_column][/vc_row] \n
URL:https://www.godoycruz.sisargentina.com/evento/circuito-cultural-barrial-13/
ATTACH;FMTTYPE=image/jpeg:https://www.godoycruz.sisargentina.com/wp-content/uploads/2021/02/WhatsApp-Image-2021-02-22-at-13.34.09.jpeg
END:VEVENT
END:VCALENDAR