BEGIN:VCALENDAR
VERSION:2.0
PRODID:-//Godoy Cruz - ECPv4.5.8.1//NONSGML v1.0//EN
CALSCALE:GREGORIAN
METHOD:PUBLISH
X-WR-CALNAME:Godoy Cruz
X-ORIGINAL-URL:https://www.godoycruz.sisargentina.com
X-WR-CALDESC:Events for Godoy Cruz
BEGIN:VEVENT
DTSTART;TZID=UTC-3:20210225T193000
DTEND;TZID=UTC-3:20210225T193000
DTSTAMP:20260423T062627
CREATED:20210222T155346Z
LAST-MODIFIED:20210222T155346Z
UID:75031-1614281400-1614281400@www.godoycruz.sisargentina.com
SUMMARY:“Circuito Cultural Barrial”
DESCRIPTION:[vc_row][vc_column][vc_column_text]Espectáculos infantiles. \nApertura: Murga Ave Fénix. \n“Un Olvido olvidado”. \nElenco: Macanudo Teatro. \nBarrio Campo Papa (A. Illia y Salvador Civit).[/vc_column_text][/vc_column][/vc_row][vc_row][vc_column][vc_single_image image=»75032″ img_size=»full»][/vc_column][/vc_row] \n
URL:https://www.godoycruz.sisargentina.com/evento/circuito-cultural-barrial-10/
ATTACH;FMTTYPE=image/jpeg:https://www.godoycruz.sisargentina.com/wp-content/uploads/2021/02/WhatsApp-Image-2021-02-22-at-11.08.52.jpeg
END:VEVENT
END:VCALENDAR