BEGIN:VCALENDAR
VERSION:2.0
PRODID:-//Godoy Cruz - ECPv4.5.8.1//NONSGML v1.0//EN
CALSCALE:GREGORIAN
METHOD:PUBLISH
X-WR-CALNAME:Godoy Cruz
X-ORIGINAL-URL:https://www.godoycruz.sisargentina.com
X-WR-CALDESC:Events for Godoy Cruz
BEGIN:VEVENT
DTSTART;TZID=UTC-3:20210219T193000
DTEND;TZID=UTC-3:20210219T193000
DTSTAMP:20260423T062629
CREATED:20210217T171248Z
LAST-MODIFIED:20210217T171248Z
UID:74892-1613763000-1613763000@www.godoycruz.sisargentina.com
SUMMARY:“Circuito Cultural Barrial”
DESCRIPTION:[vc_row][vc_column][vc_column_text]Espectáculos infantiles. \nApertura: Murga Sendero Luminoso. \n“Clásicos del circo”. \nArtistas: Porotita y Tatan. \nS.U.M Barrio Sol y Sierra.[/vc_column_text][/vc_column][/vc_row][vc_row][vc_column][vc_single_image image=»74893″ img_size=»full»][/vc_column][/vc_row] \n
URL:https://www.godoycruz.sisargentina.com/evento/circuito-cultural-barrial-8/
ATTACH;FMTTYPE=image/jpeg:https://www.godoycruz.sisargentina.com/wp-content/uploads/2021/02/WhatsApp-Image-2021-02-17-at-13.46.17.jpeg
END:VEVENT
BEGIN:VEVENT
DTSTART;TZID=UTC-3:20210219T213000
DTEND;TZID=UTC-3:20210219T213000
DTSTAMP:20260423T062629
CREATED:20210216T162152Z
LAST-MODIFIED:20210216T162454Z
UID:74858-1613770200-1613770200@www.godoycruz.sisargentina.com
SUMMARY:Seattle Supersonics: Tributo a Nirvana MTV Unplugged (show agotado)
DESCRIPTION:[vc_row][vc_column][vc_column_text]Recital en vivo y formato acústico. \nArtista: Seattle Supersonics \nBanda invitada: Algún Grito (tributo a Pearl Jam). \nLas localidades para este show se encuentran agotadas.[/vc_column_text][/vc_column][/vc_row][vc_row][vc_column][vc_single_image image=»74859″ img_size=»full»][/vc_column][/vc_row] \n
URL:https://www.godoycruz.sisargentina.com/evento/seattle-supersonics-tributo-nirvana-mtv-unplugged-show-agotado-1/
LOCATION:Colón 27\, Godoy Cruz\, Mendoza\, 5501\, Argentina
ATTACH;FMTTYPE=image/jpeg:https://www.godoycruz.sisargentina.com/wp-content/uploads/2021/02/WhatsApp-Image-2021-02-01-at-10.48.06.jpeg
END:VEVENT
END:VCALENDAR