BEGIN:VCALENDAR
VERSION:2.0
PRODID:-//Godoy Cruz - ECPv4.5.8.1//NONSGML v1.0//EN
CALSCALE:GREGORIAN
METHOD:PUBLISH
X-WR-CALNAME:Godoy Cruz
X-ORIGINAL-URL:https://www.godoycruz.sisargentina.com
X-WR-CALDESC:Events for Godoy Cruz
BEGIN:VEVENT
DTSTART;TZID=UTC-3:20210213T193000
DTEND;TZID=UTC-3:20210213T193000
DTSTAMP:20260423T032428
CREATED:20210209T165512Z
LAST-MODIFIED:20210209T165512Z
UID:74715-1613244600-1613244600@www.godoycruz.sisargentina.com
SUMMARY:“Circuito Cultural Barrial”
DESCRIPTION:[vc_row][vc_column][vc_column_text]Espectáculos infantiles. \n“Mi Amigo el Robot” (mimo y clown). \nElenco Pocamosca. \nBarrio Huarpes (Bulevar Comechingones y Ñacuñan).[/vc_column_text][/vc_column][/vc_row][vc_row][vc_column][vc_single_image image=»74716″ img_size=»full»][/vc_column][/vc_row] \n
URL:https://www.godoycruz.sisargentina.com/evento/circuito-cultural-barrial-6/
ATTACH;FMTTYPE=image/jpeg:https://www.godoycruz.sisargentina.com/wp-content/uploads/2021/02/WhatsApp-Image-2021-02-09-at-09.43.45.jpeg
END:VEVENT
BEGIN:VEVENT
DTSTART;TZID=UTC-3:20210213T200000
DTEND;TZID=UTC-3:20210213T200000
DTSTAMP:20260423T032428
CREATED:20210210T152646Z
LAST-MODIFIED:20210210T152646Z
UID:74737-1613246400-1613246400@www.godoycruz.sisargentina.com
SUMMARY:Vendimia Barrio Carnaval
DESCRIPTION:[vc_row][vc_column][vc_column_text]Vendimia Barrio Carnaval \nMúsica y danza al aire libre. Desde las 20hs. \nRock\, folklore\, tango y ritmos contemporáneos. \nArtistas: \nEscenario Movil: Cuarto Creciente \nParadas: Mendoza Tango Art; Compañía Taura Tango y Papirusa Tango Show.[/vc_column_text][/vc_column][/vc_row][vc_row][vc_column][vc_single_image image=»74740″ img_size=»full»][/vc_column][/vc_row] \n
URL:https://www.godoycruz.sisargentina.com/evento/vendimia-barrio-carnaval-3/
ATTACH;FMTTYPE=image/jpeg:https://www.godoycruz.sisargentina.com/wp-content/uploads/2021/02/Sábado.jpeg
END:VEVENT
BEGIN:VEVENT
DTSTART;TZID=UTC-3:20210213T210000
DTEND;TZID=UTC-3:20210213T210000
DTSTAMP:20260423T032428
CREATED:20210209T142737Z
LAST-MODIFIED:20210209T143319Z
UID:74665-1613250000-1613250000@www.godoycruz.sisargentina.com
SUMMARY:"Verano Buenardo". Parque Margarita Malharro
DESCRIPTION:[vc_row][vc_column][vc_column_text]“Verano Buenardo”. \nParque Margarita Malharro de Torres. \nArtistas: Mariana Lara; Javier Montalto; Sebastián Garay. \nCupos limitados. Entrada gratuita.[/vc_column_text][/vc_column][/vc_row][vc_row][vc_column][vc_single_image image=»74666″ img_size=»full»][/vc_column][/vc_row] \n
URL:https://www.godoycruz.sisargentina.com/evento/verano-buenardo-parque-malharro-torres-1/
ATTACH;FMTTYPE=image/jpeg:https://www.godoycruz.sisargentina.com/wp-content/uploads/2021/02/WhatsApp-Image-2021-02-09-at-10.01.25.jpeg
END:VEVENT
BEGIN:VEVENT
DTSTART;TZID=UTC-3:20210213T213000
DTEND;TZID=UTC-3:20210213T213000
DTSTAMP:20260423T032428
CREATED:20210113T155235Z
LAST-MODIFIED:20210113T155235Z
UID:73919-1613251800-1613251800@www.godoycruz.sisargentina.com
SUMMARY:"Verano Buenardo". Terraza Cinema
DESCRIPTION:[vc_row][vc_column][vc_column_text]“Verano Buenardo”. \nTerraza Cinema. \nPelícula: “Sen To Chihiro No Kamikakushi” (El Viaje de Chihiro). Dir: Hayao Miyazaki. \nCupos limitados. Entrada gratuita.[/vc_column_text][/vc_column][/vc_row][vc_row][vc_column][vc_single_image image=»73920″ img_size=»full»][/vc_column][/vc_row] \n
URL:https://www.godoycruz.sisargentina.com/evento/verano-buenardo-terraza-cinema-5/
LOCATION:Tomba 54\, Godoy Cruz\, Mendoza\, 5501\, Argentina
ATTACH;FMTTYPE=image/png:https://www.godoycruz.sisargentina.com/wp-content/uploads/2021/01/Terraza-Cinama-2.png
END:VEVENT
BEGIN:VEVENT
DTSTART;TZID=UTC-3:20210213T213000
DTEND;TZID=UTC-3:20210213T213000
DTSTAMP:20260423T032428
CREATED:20210129T143134Z
LAST-MODIFIED:20210129T143134Z
UID:74267-1613251800-1613251800@www.godoycruz.sisargentina.com
SUMMARY:Así lo VIP
DESCRIPTION:[vc_row][vc_column][vc_column_text]Teatro y humor. \nTexto y Dirección: Ernesto Flaco Suárez \nArtistas: Ernesto Suárez y Marcelo Sánchez (músico). \nEntradas en venta: \nBoletería del Teatro Plaza (Colón 27\, Godoy Cruz). \nHorario de atención: de lunes a viernes\, de 9 a 13hs. \nOnline: www.entradaweb.com.ar[/vc_column_text][/vc_column][/vc_row][vc_row][vc_column][vc_single_image image=»74268″ img_size=»full»][/vc_column][/vc_row] \n
URL:https://www.godoycruz.sisargentina.com/evento/asi-lo-vip/
LOCATION:Colón 27\, Godoy Cruz\, Mendoza\, 5501\, Argentina
ATTACH;FMTTYPE=image/jpeg:https://www.godoycruz.sisargentina.com/wp-content/uploads/2021/01/WhatsApp-Image-2021-01-29-at-09.41.08.jpeg
END:VEVENT
END:VCALENDAR