BEGIN:VCALENDAR
VERSION:2.0
PRODID:-//Godoy Cruz - ECPv4.5.8.1//NONSGML v1.0//EN
CALSCALE:GREGORIAN
METHOD:PUBLISH
X-WR-CALNAME:Godoy Cruz
X-ORIGINAL-URL:https://www.godoycruz.sisargentina.com
X-WR-CALDESC:Events for Godoy Cruz
BEGIN:VEVENT
DTSTART;TZID=UTC-3:20210212T193000
DTEND;TZID=UTC-3:20210212T193000
DTSTAMP:20260423T045333
CREATED:20210209T164608Z
LAST-MODIFIED:20210209T164608Z
UID:74710-1613158200-1613158200@www.godoycruz.sisargentina.com
SUMMARY:“Circuito Cultural Barrial”
DESCRIPTION:[vc_row][vc_column][vc_column_text]Espectáculos infantiles. \n“Circus Magenta”. \nBarrio Urundel (Cancha Bustamante).[/vc_column_text][/vc_column][/vc_row][vc_row][vc_column][vc_single_image image=»74711″ img_size=»full»][/vc_column][/vc_row] \n
URL:https://www.godoycruz.sisargentina.com/evento/circuito-cultural-barrial-5/
ATTACH;FMTTYPE=image/jpeg:https://www.godoycruz.sisargentina.com/wp-content/uploads/2021/02/WhatsApp-Image-2021-02-09-at-09.43.57.jpeg
END:VEVENT
BEGIN:VEVENT
DTSTART;TZID=UTC-3:20210212T200000
DTEND;TZID=UTC-3:20210212T200000
DTSTAMP:20260423T045333
CREATED:20210210T151850Z
LAST-MODIFIED:20210210T151850Z
UID:74732-1613160000-1613160000@www.godoycruz.sisargentina.com
SUMMARY:Vendimia Barrio Carnaval
DESCRIPTION:[vc_row][vc_column][vc_column_text]Vendimia Barrio Carnaval \nMúsica y danza al aire libre. Desde las 20hs. \nRock\, folklore\, tango y ritmos contemporáneos. \nArtistas: \nEscenario Movil: Maurito & The Rufos \nParadas: Ballet Agostina Scifo\, el Instituto de Danza Clásica Vanina Gispert y la Compañía Siembra.[/vc_column_text][/vc_column][/vc_row][vc_row][vc_column][vc_single_image image=»74733″ img_size=»full»][/vc_column][/vc_row] \n
URL:https://www.godoycruz.sisargentina.com/evento/vendimia-barrio-carnaval-2/
ATTACH;FMTTYPE=image/jpeg:https://www.godoycruz.sisargentina.com/wp-content/uploads/2021/02/Viernes.jpeg
END:VEVENT
BEGIN:VEVENT
DTSTART;TZID=UTC-3:20210212T210000
DTEND;TZID=UTC-3:20210212T210000
DTSTAMP:20260423T045333
CREATED:20210204T164149Z
LAST-MODIFIED:20210204T164149Z
UID:74548-1613163600-1613163600@www.godoycruz.sisargentina.com
SUMMARY:Bendición Ecuménica de los Frutos 2021
DESCRIPTION:[vc_row][vc_column][vc_column_text]Acto en formato virtual. \nTrasmisión: redes sociales de la Municipalidad de Godoy Cruz. \nParticipación de representantes de diferentes credos religiosos. \nArtistas: Cristina Pérez (charango) y Carlos «Coco» Best (guitarra).[/vc_column_text][/vc_column][/vc_row][vc_row][vc_column][vc_single_image image=»74549″ img_size=»full»][/vc_column][/vc_row] \n
URL:https://www.godoycruz.sisargentina.com/evento/bendicion-ecumenica-los-frutos-2021/
ATTACH;FMTTYPE=image/jpeg:https://www.godoycruz.sisargentina.com/wp-content/uploads/2021/02/WhatsApp-Image-2021-02-02-at-14.02.23.jpeg
END:VEVENT
BEGIN:VEVENT
DTSTART;TZID=UTC-3:20210212T213000
DTEND;TZID=UTC-3:20210212T213000
DTSTAMP:20260423T045333
CREATED:20210208T235413Z
LAST-MODIFIED:20210208T235413Z
UID:74650-1613165400-1613165400@www.godoycruz.sisargentina.com
SUMMARY:Patricio Rey: de la nada a la gloria
DESCRIPTION:[vc_row][vc_column][vc_column_text]Espectáculo multidisciplinario que recorre la obra de los Redonditos de Ricota. \nPerformances artísticas y música en vivo. \nArtistas: Barbazul (la 1º banda mendocina tributo a Los Redonditos de Ricota). \nEntradas en venta: \nPor www.entradaweb.com.ar \nBoletería del Teatro Plaza (Colón 27\, Godoy Cruz). Horario de atención: de lunes a viernes\, de 9 a 13hs. \nCupos limitados en cumplimiento de los protocolos establecidos.[/vc_column_text][/vc_column][/vc_row][vc_row][vc_column][vc_single_image image=»74647″ img_size=»full»][/vc_column][/vc_row] \n
URL:https://www.godoycruz.sisargentina.com/evento/patricio-rey-la-nada-la-gloria-2/
LOCATION:Colón 27\, Godoy Cruz\, Mendoza\, 5501\, Argentina
ATTACH;FMTTYPE=image/jpeg:https://www.godoycruz.sisargentina.com/wp-content/uploads/2021/02/WhatsApp-Image-2021-02-01-at-10.48.06-1.jpeg
END:VEVENT
END:VCALENDAR