BEGIN:VCALENDAR
VERSION:2.0
PRODID:-//Godoy Cruz - ECPv4.5.8.1//NONSGML v1.0//EN
CALSCALE:GREGORIAN
METHOD:PUBLISH
X-WR-CALNAME:Godoy Cruz
X-ORIGINAL-URL:https://www.godoycruz.sisargentina.com
X-WR-CALDESC:Events for Godoy Cruz
BEGIN:VEVENT
DTSTART;TZID=UTC-3:20210205T193000
DTEND;TZID=UTC-3:20210205T193000
DTSTAMP:20260423T075641
CREATED:20210203T172952Z
LAST-MODIFIED:20210203T172952Z
UID:74491-1612553400-1612553400@www.godoycruz.sisargentina.com
SUMMARY:“Circuito Cultural Barrial”
DESCRIPTION:[vc_row][vc_column][vc_column_text]Espectáculos infantiles. \n“Mi vecino el topo”. \nElenco: La Oruga. \nBarrio La Gloria (Plaza R. Videla).[/vc_column_text][/vc_column][/vc_row][vc_row][vc_column][vc_single_image image=»74493″ img_size=»full»][/vc_column][/vc_row] \n
URL:https://www.godoycruz.sisargentina.com/evento/circuito-cultural-barrial-2/
ATTACH;FMTTYPE=image/jpeg:https://www.godoycruz.sisargentina.com/wp-content/uploads/2021/02/WhatsApp-Image-2021-02-02-at-17.33.11-2.jpeg
END:VEVENT
BEGIN:VEVENT
DTSTART;TZID=UTC-3:20210205T210000
DTEND;TZID=UTC-3:20210205T210000
DTSTAMP:20260423T075641
CREATED:20210203T163326Z
LAST-MODIFIED:20210203T163326Z
UID:74451-1612558800-1612558800@www.godoycruz.sisargentina.com
SUMMARY:"Verano Buenardo". Espacio Arizu
DESCRIPTION:[vc_row][vc_column][vc_column_text]“Verano Buenardo”. \nEspacio Arizu. \nSector de música y gastronomía. \nChoiq’e / Ariadna (Dj Set). \nCupos limitados. Entrada gratuita.[/vc_column_text][/vc_column][/vc_row][vc_row][vc_column][vc_single_image image=»74446″ img_size=»full»][/vc_column][/vc_row] \n
URL:https://www.godoycruz.sisargentina.com/evento/verano-buenardo-espacio-arizu-11/
ATTACH;FMTTYPE=image/jpeg:https://www.godoycruz.sisargentina.com/wp-content/uploads/2021/02/WhatsApp-Image-2021-02-02-at-17.33.54.jpeg
END:VEVENT
BEGIN:VEVENT
DTSTART;TZID=UTC-3:20210205T213000
DTEND;TZID=UTC-3:20210205T213000
DTSTAMP:20260423T075641
CREATED:20210201T153736Z
LAST-MODIFIED:20210201T153736Z
UID:74332-1612560600-1612560600@www.godoycruz.sisargentina.com
SUMMARY:Oscar Giunta Super Trío!
DESCRIPTION:[vc_row][vc_column][vc_column_text]Espectáculo musical. \nArtistas: Oscar Giunta\, Flavio Romero y Hernán Jacinto. \nEntrada disponibles: \nBoletería del Teatro Plaza (Colón 27\, Godoy Cruz). \nHorario de atención: lunes a viernes\, de 9 a 13hs. \nVía online: EntradaWeb[/vc_column_text][/vc_column][/vc_row][vc_row][vc_column][vc_single_image image=»74333″ img_size=»full»][/vc_column][/vc_row] \n
URL:https://www.godoycruz.sisargentina.com/evento/oscar-giunta-super-trio/
LOCATION:Colón 27\, Godoy Cruz\, Mendoza\, 5501\, Argentina
ATTACH;FMTTYPE=image/jpeg:https://www.godoycruz.sisargentina.com/wp-content/uploads/2021/02/WhatsApp-Image-2021-02-01-at-10.28.29.jpeg
END:VEVENT
END:VCALENDAR