BEGIN:VCALENDAR
VERSION:2.0
PRODID:-//Godoy Cruz - ECPv4.5.8.1//NONSGML v1.0//EN
CALSCALE:GREGORIAN
METHOD:PUBLISH
X-WR-CALNAME:Godoy Cruz
X-ORIGINAL-URL:https://www.godoycruz.sisargentina.com
X-WR-CALDESC:Events for Godoy Cruz
BEGIN:VEVENT
DTSTART;TZID=UTC-3:20210130T200000
DTEND;TZID=UTC-3:20210130T200000
DTSTAMP:20260423T155038
CREATED:20210126T170458Z
LAST-MODIFIED:20210126T170458Z
UID:74201-1612036800-1612036800@www.godoycruz.sisargentina.com
SUMMARY:Títeres a la Gorra en el Domo
DESCRIPTION:[vc_row][vc_column][vc_column_text]Espectáculos de la «Coope de Titiriteres». \nDomo Cultural del Parque Estación Benegas. \nEntradas limitadas y a la gorra. \nSe respetarán los protocolos sanitarios. \nLos menores deberán estar acompañados por un adulto responsable.[/vc_column_text][/vc_column][/vc_row][vc_row][vc_column][vc_single_image image=»74193″ img_size=»full»][/vc_column][/vc_row] \n
URL:https://www.godoycruz.sisargentina.com/evento/titeres-la-gorra-domo-3/
ATTACH;FMTTYPE=image/png:https://www.godoycruz.sisargentina.com/wp-content/uploads/2021/01/TITERES-EN-EL-DOMO-con-titiriteres.png
END:VEVENT
BEGIN:VEVENT
DTSTART;TZID=UTC-3:20210130T210000
DTEND;TZID=UTC-3:20210130T210000
DTSTAMP:20260423T155038
CREATED:20210125T163415Z
LAST-MODIFIED:20210125T163415Z
UID:74153-1612040400-1612040400@www.godoycruz.sisargentina.com
SUMMARY:"Verano Buenardo". Espacio Arizu.
DESCRIPTION:[vc_row][vc_column][vc_column_text]“Verano Buenardo”. \nEspacio Arizu. \nSector de música y gastronomía. \nBarragán – Astudillo – Vega (Tango). \nCupos limitados. Entrada gratuita.[/vc_column_text][/vc_column][/vc_row][vc_row][vc_column][vc_single_image image=»74143″ img_size=»full»][/vc_column][/vc_row] \n
URL:https://www.godoycruz.sisargentina.com/evento/verano-buenardo-espacio-arizu-9/
ATTACH;FMTTYPE=image/jpeg:https://www.godoycruz.sisargentina.com/wp-content/uploads/2021/01/WhatsApp-Image-2021-01-25-at-10.00.53.jpeg
END:VEVENT
BEGIN:VEVENT
DTSTART;TZID=UTC-3:20210130T213000
DTEND;TZID=UTC-3:20210130T213000
DTSTAMP:20260423T155038
CREATED:20210111T160202Z
LAST-MODIFIED:20210111T160202Z
UID:73853-1612042200-1612042200@www.godoycruz.sisargentina.com
SUMMARY:"Verano Buenardo". Terraza Cinema
DESCRIPTION:[vc_row][vc_column][vc_column_text]“Verano Buenardo”. \nTerraza Cinema. \nPelícula: “Point Break” (Punto Límite). Dir: Kathryn Bigelow. \nCupos limitados. Entrada gratuita.[/vc_column_text][/vc_column][/vc_row][vc_row][vc_column][vc_single_image image=»73847″ img_size=»full»][/vc_column][/vc_row] \n
URL:https://www.godoycruz.sisargentina.com/evento/verano-buenardo-terraza-cinema-3/
LOCATION:Tomba 54\, Godoy Cruz\, Mendoza\, 5501\, Argentina
ATTACH;FMTTYPE=image/png:https://www.godoycruz.sisargentina.com/wp-content/uploads/2021/01/Terraza-Cinama.png
END:VEVENT
END:VCALENDAR