BEGIN:VCALENDAR
VERSION:2.0
PRODID:-//Godoy Cruz - ECPv4.5.8.1//NONSGML v1.0//EN
CALSCALE:GREGORIAN
METHOD:PUBLISH
X-WR-CALNAME:Godoy Cruz
X-ORIGINAL-URL:https://www.godoycruz.sisargentina.com
X-WR-CALDESC:Events for Godoy Cruz
BEGIN:VEVENT
DTSTART;TZID=UTC-3:20191004T210000
DTEND;TZID=UTC-3:20191004T210000
DTSTAMP:20260425T181209
CREATED:20190923T170506Z
LAST-MODIFIED:20190923T170506Z
UID:63093-1570222800-1570222800@www.godoycruz.sisargentina.com
SUMMARY:12º Festival San Vicente Tango
DESCRIPTION:[vc_row][vc_column][vc_column_text]21:00. Bodega Caro (Pte. Alvear 151). \nEntrada gratuita (limitada a la capacidad de la sala). \nArtista: Orquesta Típica San Juan. \n [/vc_column_text][/vc_column][/vc_row][vc_row][vc_column][vc_single_image image=»63094″ img_size=»full»][/vc_column][/vc_row] \n
URL:https://www.godoycruz.sisargentina.com/evento/12o-festival-san-vicente-tango-3/
ATTACH;FMTTYPE=image/jpeg:https://www.godoycruz.sisargentina.com/wp-content/uploads/2019/09/SVT-2019-gral.jpg
END:VEVENT
BEGIN:VEVENT
DTSTART;TZID=UTC-3:20191004T213000
DTEND;TZID=UTC-3:20191004T213000
DTSTAMP:20260425T181209
CREATED:20191003T150443Z
LAST-MODIFIED:20191003T150443Z
UID:63336-1570224600-1570224600@www.godoycruz.sisargentina.com
SUMMARY:Diego Jirala presenta su disco Kriptonita
DESCRIPTION:[vc_row][vc_column][vc_column_text]El  productor y cantautor mendocino nos trae su nueva obra\, con 13 canciones de amor y desamor. \nEntrada general: $200. \n  \n[/vc_column_text][/vc_column][/vc_row][vc_row][vc_column][vc_single_image image=»63337″ img_size=»full»][/vc_column][/vc_row] \n
URL:https://www.godoycruz.sisargentina.com/evento/diego-jirala-presenta-disco-kriptonita/
LOCATION:Tomba 54\, Godoy Cruz\, Mendoza\, 5501\, Argentina
ATTACH;FMTTYPE=image/jpeg:https://www.godoycruz.sisargentina.com/wp-content/uploads/2019/10/Diego-Jirala.jpg
END:VEVENT
BEGIN:VEVENT
DTSTART;TZID=UTC-3:20191004T230000
DTEND;TZID=UTC-3:20191004T230000
DTSTAMP:20260425T181209
CREATED:20190923T172056Z
LAST-MODIFIED:20190923T172056Z
UID:63100-1570230000-1570230000@www.godoycruz.sisargentina.com
SUMMARY:12º Festival San Vicente Tango
DESCRIPTION:[vc_row][vc_column][vc_column_text]23:00. Cantina de Talleres (Belgrano 1601). \nEntrada gratuita (limitada a la capacidad de la sala). \nArtista: Calderon & Oliva Tango Jam. \n[/vc_column_text][/vc_column][/vc_row][vc_row][vc_column][vc_single_image image=»63094″ img_size=»full»][/vc_column][/vc_row] \n
URL:https://www.godoycruz.sisargentina.com/evento/12o-festival-san-vicente-tango-4/
ATTACH;FMTTYPE=image/jpeg:https://www.godoycruz.sisargentina.com/wp-content/uploads/2019/09/SVT-2019-gral.jpg
END:VEVENT
END:VCALENDAR