BEGIN:VCALENDAR
VERSION:2.0
PRODID:-//Godoy Cruz - ECPv4.5.8.1//NONSGML v1.0//EN
CALSCALE:GREGORIAN
METHOD:PUBLISH
X-WR-CALNAME:Godoy Cruz
X-ORIGINAL-URL:https://www.godoycruz.sisargentina.com
X-WR-CALDESC:Events for Godoy Cruz
BEGIN:VEVENT
DTSTART;TZID=UTC-3:20190915T120000
DTEND;TZID=UTC-3:20190915T120000
DTSTAMP:20260424T073415
CREATED:20190913T141657Z
LAST-MODIFIED:20190913T141657Z
UID:62839-1568548800-1568548800@www.godoycruz.sisargentina.com
SUMMARY:Mes del Patrimonio 2019
DESCRIPTION:[vc_row][vc_column][vc_column_text]3º Encuentro de Hobbistas y Coleccionistas en Godoy Cruz. \nFilatelia; numismática y modelismo. \nEntrada libre y gratuita.[/vc_column_text][/vc_column][/vc_row][vc_row][vc_column][vc_single_image image=»62833″ img_size=»full»][/vc_column][/vc_row] \n
URL:https://www.godoycruz.sisargentina.com/evento/mes-del-patrimonio-2019-2/
ATTACH;FMTTYPE=image/jpeg:https://www.godoycruz.sisargentina.com/wp-content/uploads/2019/09/IMG-20190829-WA0003.jpg
END:VEVENT
BEGIN:VEVENT
DTSTART;TZID=UTC-3:20190915T120000
DTEND;TZID=UTC-3:20190915T120000
DTSTAMP:20260424T073415
CREATED:20190913T163812Z
LAST-MODIFIED:20190913T163812Z
UID:62864-1568548800-1568548800@www.godoycruz.sisargentina.com
SUMMARY:Festival de Food Trucks AMEGAM
DESCRIPTION:[vc_row][vc_column][vc_column_text]Shows en vivo\, ballets culturales\, sector para niños y espacio de diseño. \nVotación digital del público para los foodtrucks participantes (www.amegam.com). \nEntrada libre y gratuita (un alimento no perecedero). \n [/vc_column_text][/vc_column][/vc_row][vc_row][vc_column][vc_single_image image=»62857″ img_size=»full»][/vc_column][/vc_row] \n
URL:https://www.godoycruz.sisargentina.com/evento/festival-food-trucks-amegam-6/
ATTACH;FMTTYPE=image/jpeg:https://www.godoycruz.sisargentina.com/wp-content/uploads/2019/09/placa-food-trucks-2019-1.jpg
END:VEVENT
BEGIN:VEVENT
DTSTART;TZID=UTC-3:20190915T170000
DTEND;TZID=UTC-3:20190915T170000
DTSTAMP:20260424T073415
CREATED:20190911T013310Z
LAST-MODIFIED:20190911T013310Z
UID:62762-1568566800-1568566800@www.godoycruz.sisargentina.com
SUMMARY:Mediateca infantil
DESCRIPTION:[vc_row][vc_column][vc_column_text]Teatro de títeres. \nObra: ¿Qué le pasa a Pipo? \nElenco: Giraluna Títeres.[/vc_column_text][/vc_column][/vc_row][vc_row][vc_column][vc_single_image image=»62763″ img_size=»full»][/vc_column][/vc_row] \n
URL:https://www.godoycruz.sisargentina.com/evento/mediateca-infantil-16/
LOCATION:Tomba 54\, Godoy Cruz\, Mendoza\, 5501\, Argentina
ATTACH;FMTTYPE=image/jpeg:https://www.godoycruz.sisargentina.com/wp-content/uploads/2019/09/IMG-20190910-WA0005.jpg
END:VEVENT
BEGIN:VEVENT
DTSTART;TZID=UTC-3:20190915T193000
DTEND;TZID=UTC-3:20190915T193000
DTSTAMP:20260424T073415
CREATED:20190913T143016Z
LAST-MODIFIED:20190913T143327Z
UID:62844-1568575800-1568575800@www.godoycruz.sisargentina.com
SUMMARY:Mes del Patrimonio 2019
DESCRIPTION:[vc_row][vc_column][vc_column_text]“Cultura y Sonoridad Italiana”. \nConcierto en homenaje a la tradición musical italiana. \nIntérprete: Lorenzo Bernardi. Intervenciones artísticas y muestra interactiva. \nEntrada gratuita (limitada a la capacidad de la sala).[/vc_column_text][/vc_column][/vc_row][vc_row][vc_column][vc_single_image image=»62845″ img_size=»full»][/vc_column][/vc_row] \n
URL:https://www.godoycruz.sisargentina.com/evento/mes-del-patrimonio-2019-3-1/
ATTACH;FMTTYPE=image/jpeg:https://www.godoycruz.sisargentina.com/wp-content/uploads/2019/09/Gráfica-concierto-Cristoforo_n.jpg
END:VEVENT
BEGIN:VEVENT
DTSTART;TZID=UTC-3:20190915T220000
DTEND;TZID=UTC-3:20190915T220000
DTSTAMP:20260424T073415
CREATED:20190914T033432Z
LAST-MODIFIED:20190914T033432Z
UID:62907-1568584800-1568584800@www.godoycruz.sisargentina.com
SUMMARY:No Te Va Gustar (nueva función)
DESCRIPTION:[vc_row][vc_column][vc_column_text]La exitosa banda uruguaya presenta “Otras Canciones 25 Años” (nueva función). \nVenta de entradas en la boletería del Teatro Plaza (Colón 27).[/vc_column_text][/vc_column][/vc_row][vc_row][vc_column][vc_single_image image=»62908″ img_size=»full»][/vc_column][/vc_row] \n
URL:https://www.godoycruz.sisargentina.com/evento/no-te-va-gustar-nueva-funcion/
LOCATION:Colón 27\, Godoy Cruz\, Mendoza\, 5501\, Argentina
ATTACH;FMTTYPE=image/jpeg:https://www.godoycruz.sisargentina.com/wp-content/uploads/2019/09/NTVG-DOMINGO.jpg
END:VEVENT
END:VCALENDAR