BEGIN:VCALENDAR
VERSION:2.0
PRODID:-//Godoy Cruz - ECPv4.5.8.1//NONSGML v1.0//EN
CALSCALE:GREGORIAN
METHOD:PUBLISH
X-WR-CALNAME:Godoy Cruz
X-ORIGINAL-URL:https://www.godoycruz.sisargentina.com
X-WR-CALDESC:Events for Godoy Cruz
BEGIN:VEVENT
DTSTART;TZID=UTC-3:20190822T180000
DTEND;TZID=UTC-3:20190822T210000
DTSTAMP:20260424T145340
CREATED:20190815T143222Z
LAST-MODIFIED:20190815T143222Z
UID:61783-1566496800-1566507600@www.godoycruz.sisargentina.com
SUMMARY:VI Encuentro Internacional de Títeres Javier Villafañe.
DESCRIPTION:[vc_row][vc_column][vc_column_text]Taller de “Autómatas” (muñecos mecánicos). \nTallerista: Federico Páez. \nTaller gratuito para público en general. Cupos limitados. \nDe  18:00  a 21:00. \nInformes e inscripciones: 2615761211 (Cristina). \n [/vc_column_text][/vc_column][/vc_row][vc_row][vc_column][vc_single_image image=»61784″ img_size=»full»][/vc_column][/vc_row] \n
URL:https://www.godoycruz.sisargentina.com/evento/vi-encuentro-internacional-titeres-javier-villafane-2/
ATTACH;FMTTYPE=image/jpeg:https://www.godoycruz.sisargentina.com/wp-content/uploads/2019/08/IMG-20190814-WA0026.jpg
END:VEVENT
BEGIN:VEVENT
DTSTART;TZID=UTC-3:20190822T213000
DTEND;TZID=UTC-3:20190822T213000
DTSTAMP:20260424T145340
CREATED:20190807T142955Z
LAST-MODIFIED:20190807T142955Z
UID:61580-1566509400-1566509400@www.godoycruz.sisargentina.com
SUMMARY:María Mulata en vivo
DESCRIPTION:[vc_row][vc_column][vc_column_text]Concierto de la cantante y compositora María Mulata. \nEntrada: un libro.[/vc_column_text][/vc_column][/vc_row][vc_row][vc_column][vc_single_image image=»61582″ img_size=»full»][/vc_column][/vc_row] \n
URL:https://www.godoycruz.sisargentina.com/evento/maria-mulata-vivo/
LOCATION:Tomba 54\, Godoy Cruz\, Mendoza\, 5501\, Argentina
ATTACH;FMTTYPE=image/jpeg:https://www.godoycruz.sisargentina.com/wp-content/uploads/2019/08/WEB-AGOSTO-22.jpg
END:VEVENT
END:VCALENDAR