BEGIN:VCALENDAR
VERSION:2.0
PRODID:-//Godoy Cruz - ECPv4.5.8.1//NONSGML v1.0//EN
CALSCALE:GREGORIAN
METHOD:PUBLISH
X-WR-CALNAME:Godoy Cruz
X-ORIGINAL-URL:https://www.godoycruz.sisargentina.com
X-WR-CALDESC:Events for Godoy Cruz
BEGIN:VEVENT
DTSTART;TZID=UTC-3:20190809T210000
DTEND;TZID=UTC-3:20190809T210000
DTSTAMP:20260425T123759
CREATED:20190802T145831Z
LAST-MODIFIED:20190802T145831Z
UID:61410-1565384400-1565384400@www.godoycruz.sisargentina.com
SUMMARY:Bokanegra\, tributo a Gustavo Cerati
DESCRIPTION:[vc_row][vc_column][vc_column_text]La reconocida banda mendocina celebra los 60 años de la figura más importante del rock latinoamericano interpretando temas de todos los discos de su etapa solista. \nVenta de entradas en la boletería del Teatro Plaza y en www.eventbrite.com.ar[/vc_column_text][/vc_column][/vc_row][vc_row][vc_column][vc_single_image image=»61411″ img_size=»full»][/vc_column][/vc_row] \n
URL:https://www.godoycruz.sisargentina.com/evento/bokanegra-tributo-gustavo-cerati/
LOCATION:Colón 27\, Godoy Cruz\, Mendoza\, 5501\, Argentina
ATTACH;FMTTYPE=image/jpeg:https://www.godoycruz.sisargentina.com/wp-content/uploads/2019/08/Bokanegra.jpg
END:VEVENT
BEGIN:VEVENT
DTSTART;TZID=UTC-3:20190809T213000
DTEND;TZID=UTC-3:20190809T213000
DTSTAMP:20260425T123759
CREATED:20190806T150655Z
LAST-MODIFIED:20190806T150655Z
UID:61533-1565386200-1565386200@www.godoycruz.sisargentina.com
SUMMARY:Recital de Javier Casetti
DESCRIPTION:[vc_row][vc_column][vc_column_text]El prestigioso artista presenta un imperdible concierto. \nArtistas invitados: Pablo Budini y Jeremías Casetti. \n  \n[/vc_column_text][/vc_column][/vc_row][vc_row][vc_column][vc_single_image image=»61535″ img_size=»full»][/vc_column][/vc_row] \n
URL:https://www.godoycruz.sisargentina.com/evento/recital-javier-casetti/
LOCATION:Tomba 54\, Godoy Cruz\, Mendoza\, 5501\, Argentina
ATTACH;FMTTYPE=image/jpeg:https://www.godoycruz.sisargentina.com/wp-content/uploads/2019/08/AGOSTO-BM-FOLK.jpg
END:VEVENT
END:VCALENDAR