BEGIN:VCALENDAR
VERSION:2.0
PRODID:-//Godoy Cruz - ECPv4.5.8.1//NONSGML v1.0//EN
CALSCALE:GREGORIAN
METHOD:PUBLISH
X-WR-CALNAME:Godoy Cruz
X-ORIGINAL-URL:https://www.godoycruz.sisargentina.com
X-WR-CALDESC:Events for Godoy Cruz
BEGIN:VEVENT
DTSTART;TZID=UTC-3:20190804T120000
DTEND;TZID=UTC-3:20190804T120000
DTSTAMP:20260425T165118
CREATED:20190724T161758Z
LAST-MODIFIED:20190731T180653Z
UID:61204-1564920000-1564920000@www.godoycruz.sisargentina.com
SUMMARY:Homenaje a la madre tierra
DESCRIPTION:[vc_row][vc_column][vc_column_text]Celebramos el mes de la Pachamama. \nBendición a cargo de Noemí Jofré (representante de la Comunidad Xumec Huarpe Cacique Sixto Jofré). \nMúsica: Maytilli Devi con “Cantos del alma” y Sikuris Ayllu Wayra. \nPuesto Ortega (Pedemonte de Godoy Cruz – Segundo Sombra S/N).  \nEntrada: 1 alimento no perecedero x 1 porción de carbonada. Bebida a la canasta. [/vc_column_text][/vc_column][/vc_row][vc_row][vc_column width=»1/2″][vc_single_image image=»61373″ img_size=»full»][/vc_column][vc_column width=»1/2″][vc_single_image image=»61207″ img_size=»full»][/vc_column][/vc_row] \n
URL:https://www.godoycruz.sisargentina.com/evento/homenaje-la-madre-tierra-1/
ATTACH;FMTTYPE=image/jpeg:https://www.godoycruz.sisargentina.com/wp-content/uploads/2019/07/WhatsApp-Image-2019-07-30-at-16.43.33.jpeg
END:VEVENT
BEGIN:VEVENT
DTSTART;TZID=UTC-3:20190804T150000
DTEND;TZID=UTC-3:20190804T150000
DTSTAMP:20260425T165118
CREATED:20190717T144632Z
LAST-MODIFIED:20190717T144632Z
UID:61077-1564930800-1564930800@www.godoycruz.sisargentina.com
SUMMARY:Invierno en Godoy Cruz - Circo Rodante
DESCRIPTION:[vc_row][vc_column][vc_column_text]El circo recorre los barrios de Godoy Cruz. \nEnsamble artístico: “La Troupe Maravillosa”. Malabarismo\, magia\, show de burbujas\, payasos\, narración. \nChocolate caliente y tortitas. \n15:00. Entrada gratuita. \nParque Sargento Cabral (Alvarez Condarco y 1 de Mayo).[/vc_column_text][/vc_column][/vc_row][vc_row][vc_column][vc_single_image image=»61078″ img_size=»full»][/vc_column][/vc_row] \n
URL:https://www.godoycruz.sisargentina.com/evento/invierno-godoy-cruz-circo-rodante-12/
ATTACH;FMTTYPE=image/jpeg:https://www.godoycruz.sisargentina.com/wp-content/uploads/2019/07/web-4-8-circo-2-rodante-2019.jpg
END:VEVENT
BEGIN:VEVENT
DTSTART;TZID=UTC-3:20190804T170000
DTEND;TZID=UTC-3:20190804T170000
DTSTAMP:20260425T165118
CREATED:20190801T010917Z
LAST-MODIFIED:20190801T010917Z
UID:61376-1564938000-1564938000@www.godoycruz.sisargentina.com
SUMMARY:Mediateca Infantil
DESCRIPTION:[vc_row][vc_column][vc_column_text]PUFFF!!! Canciones a pedal. \nEspectáculo infantil de música\, juegos y humor. \nElenco: Turucletas\, canciones e historietas. \nRecomendado para niños de entre 2 y 7 años. \n[/vc_column_text][/vc_column][/vc_row][vc_row][vc_column][vc_single_image image=»61377″ img_size=»full»][/vc_column][/vc_row] \n
URL:https://www.godoycruz.sisargentina.com/evento/mediateca-infantil-13/
LOCATION:Tomba 54\, Godoy Cruz\, Mendoza\, 5501\, Argentina
ATTACH;FMTTYPE=image/jpeg:https://www.godoycruz.sisargentina.com/wp-content/uploads/2019/07/WhatsApp-Image-2019-07-31-at-12.54.09.jpeg
END:VEVENT
END:VCALENDAR