BEGIN:VCALENDAR
VERSION:2.0
PRODID:-//Godoy Cruz - ECPv4.5.8.1//NONSGML v1.0//EN
CALSCALE:GREGORIAN
METHOD:PUBLISH
X-WR-CALNAME:Godoy Cruz
X-ORIGINAL-URL:https://www.godoycruz.sisargentina.com
X-WR-CALDESC:Events for Godoy Cruz
BEGIN:VEVENT
DTSTART;TZID=UTC-3:20190727T150000
DTEND;TZID=UTC-3:20190727T150000
DTSTAMP:20260425T005604
CREATED:20190716T170043Z
LAST-MODIFIED:20190716T170043Z
UID:61060-1564239600-1564239600@www.godoycruz.sisargentina.com
SUMMARY:Invierno en Godoy Cruz - Circo Rodante
DESCRIPTION:[vc_row][vc_column][vc_column_text]El circo recorre los barrios de Godoy Cruz. \nEnsamble artístico: “La Troupe Maravillosa”. Malabarismo\, magia\, show de burbujas\, payasos\, narración. \nChocolate caliente y tortitas. \n15:00. Entrada gratuita. \nBoulevard San Vicente (Blvd. San Vicente y Huarpes).[/vc_column_text][/vc_column][/vc_row][vc_row][vc_column][vc_single_image image=»61061″ img_size=»full»][/vc_column][/vc_row] \n
URL:https://www.godoycruz.sisargentina.com/evento/invierno-godoy-cruz-circo-rodante-9/
ATTACH;FMTTYPE=image/jpeg:https://www.godoycruz.sisargentina.com/wp-content/uploads/2019/07/web-27-circo-2-rodante-2019.jpg
END:VEVENT
BEGIN:VEVENT
DTSTART;TZID=UTC-3:20190727T210000
DTEND;TZID=UTC-3:20190727T210000
DTSTAMP:20260425T005604
CREATED:20190726T153620Z
LAST-MODIFIED:20190726T153620Z
UID:61263-1564261200-1564261200@www.godoycruz.sisargentina.com
SUMMARY:Godoy Cruz Canta
DESCRIPTION:[vc_row][vc_column][vc_column_text]Encuentro de Coros 2019. \nArtistas: \nCoro Latinomúsica (Dir. Nancy Ciccioli. / Asist. Dante Ochoa). \nCoro Estable de Radio Nacional Mendoza “Amigos de Siempre” (Dir. Santiago Luna). \nCoro de OSEP (Dir. Andrés Iacopini). \nEntrada gratuita (limitada a la capacidad de la sala).[/vc_column_text][/vc_column][/vc_row][vc_row][vc_column][vc_single_image image=»61259″ img_size=»full»][/vc_column][/vc_row] \n
URL:https://www.godoycruz.sisargentina.com/evento/godoy-cruz-canta-2/
LOCATION:Tomba 54\, Godoy Cruz\, Mendoza\, 5501\, Argentina
ATTACH;FMTTYPE=image/jpeg:https://www.godoycruz.sisargentina.com/wp-content/uploads/2019/07/GC-Canta-julio.jpg
END:VEVENT
END:VCALENDAR