BEGIN:VCALENDAR
VERSION:2.0
PRODID:-//Godoy Cruz - ECPv4.5.8.1//NONSGML v1.0//EN
CALSCALE:GREGORIAN
METHOD:PUBLISH
X-WR-CALNAME:Godoy Cruz
X-ORIGINAL-URL:https://www.godoycruz.sisargentina.com
X-WR-CALDESC:Events for Godoy Cruz
BEGIN:VEVENT
DTSTART;TZID=UTC-3:20190721T143000
DTEND;TZID=UTC-3:20190721T183000
DTSTAMP:20260424T145921
CREATED:20190707T051714Z
LAST-MODIFIED:20190707T051714Z
UID:60793-1563719400-1563733800@www.godoycruz.sisargentina.com
SUMMARY:Invierno en Godoy Cruz - museo en vacaciones
DESCRIPTION:[vc_row][vc_column][vc_column_text]Museo Ferroviario. De 14.30 a 18.30. \nActividades: Recorrido de maqueta en video 360º (Realidad Virtual). Espacio de arte (dibujo y pintura). Armado de títeres y\nmaquetas. Juegos didácticos. \nEntrada gratuita. Informes: 4391684.[/vc_column_text][/vc_column][/vc_row][vc_row][vc_column][vc_single_image image=»60752″ img_size=»full»][/vc_column][/vc_row] \n
URL:https://www.godoycruz.sisargentina.com/evento/invierno-godoy-cruz-museo-vacaciones-12/
ATTACH;FMTTYPE=image/jpeg:https://www.godoycruz.sisargentina.com/wp-content/uploads/2019/07/web-invierno-museo-ferroviario.jpg
END:VEVENT
BEGIN:VEVENT
DTSTART;TZID=UTC-3:20190721T150000
DTEND;TZID=UTC-3:20190721T170000
DTSTAMP:20260424T145921
CREATED:20190627T180936Z
LAST-MODIFIED:20190627T180936Z
UID:60391-1563721200-1563728400@www.godoycruz.sisargentina.com
SUMMARY:Invierno en Godoy Cruz – Circo
DESCRIPTION:[vc_row][vc_column][vc_column_text]5º Festival de Circo. \nFunciones: 15:00 y 17:00. \nEntrada general: $100 (por función). \nEl Circo de Getulio. \n[/vc_column_text][/vc_column][/vc_row][vc_row][vc_column][vc_single_image image=»60329″ img_size=»full»][/vc_column][/vc_row] \n
URL:https://www.godoycruz.sisargentina.com/evento/invierno-godoy-cruz-circo-24/
ATTACH;FMTTYPE=image/jpeg:https://www.godoycruz.sisargentina.com/wp-content/uploads/2019/06/WhatsApp-Image-2019-06-26-at-12.54.13.jpeg
END:VEVENT
BEGIN:VEVENT
DTSTART;TZID=UTC-3:20190721T150000
DTEND;TZID=UTC-3:20190721T150000
DTSTAMP:20260424T145921
CREATED:20190716T164244Z
LAST-MODIFIED:20190716T164244Z
UID:61055-1563721200-1563721200@www.godoycruz.sisargentina.com
SUMMARY:Invierno en Godoy Cruz - Circo Rodante
DESCRIPTION:[vc_row][vc_column][vc_column_text]El circo recorre los barrios de Godoy Cruz. \nEnsamble artístico: “La Troupe Maravillosa”. Malabarismo\, magia\, show de burbujas\, payasos\, narración. \nChocolate caliente y tortitas. \n15:00. Entrada gratuita. \nClub Olimpo (Segundo Sombra y Perón).[/vc_column_text][/vc_column][/vc_row][vc_row][vc_column][vc_single_image image=»61056″ img_size=»full»][/vc_column][/vc_row] \n
URL:https://www.godoycruz.sisargentina.com/evento/invierno-godoy-cruz-circo-rodante-8/
ATTACH;FMTTYPE=image/jpeg:https://www.godoycruz.sisargentina.com/wp-content/uploads/2019/07/web-21-circo-2-rodante-2019.jpg
END:VEVENT
BEGIN:VEVENT
DTSTART;TZID=UTC-3:20190721T153000
DTEND;TZID=UTC-3:20190721T173000
DTSTAMP:20260424T145921
CREATED:20190706T181948Z
LAST-MODIFIED:20190706T181948Z
UID:60691-1563723000-1563730200@www.godoycruz.sisargentina.com
SUMMARY:Invierno en Godoy Cruz – infantiles en la B+M
DESCRIPTION:[vc_row][vc_column][vc_column_text]Mediateca Infantil. \nFunciones: 15:30 y 17:30. \nEntrada general: $120. \nObra:El libro de la profecía. Obra teatral.[/vc_column_text][/vc_column][/vc_row][vc_row][vc_column][vc_single_image image=»60692″ img_size=»full»][/vc_column][/vc_row] \n
URL:https://www.godoycruz.sisargentina.com/evento/invierno-godoy-cruz-infantiles-la-bm-15/
LOCATION:Tomba 54\, Godoy Cruz\, Mendoza\, 5501\, Argentina
ATTACH;FMTTYPE=image/jpeg:https://www.godoycruz.sisargentina.com/wp-content/uploads/2019/07/web-vacaciones-BM-gral.jpg
END:VEVENT
BEGIN:VEVENT
DTSTART;TZID=UTC-3:20190721T160000
DTEND;TZID=UTC-3:20190721T180000
DTSTAMP:20260424T145921
CREATED:20190703T045109Z
LAST-MODIFIED:20190703T045109Z
UID:60522-1563724800-1563732000@www.godoycruz.sisargentina.com
SUMMARY:El Cielo de Nany\, la magia / El Roble Mágico
DESCRIPTION:[vc_row][vc_column][vc_column_text]Espectáculos teatrales para toda la familia. Funciones diarias. \nEntradas en venta en www.eventbrite.com.ar o en la boletería del teatro (Colón 27\, Godoy Cruz). \nNiños a partir de dos años pagan entrada. \nDirección Artística: Hugo Moreno. Libro y canciones originales: María Laura Fuertes. Producción ejecutiva: Federico Barzola. Producción general: Pablo Moreno. \n[/vc_column_text][/vc_column][/vc_row][vc_row][vc_column width=»1/2″][vc_column_text]16:00. El Cielo de Nany\, la magia (recomendada para niños de 0 a 6 años). \nValor de las entradas: $200\, $250 y $300. \n[/vc_column_text][/vc_column][vc_column width=»1/2″][vc_column_text]18:00. El Roble Mágico. 4º temporada (público en general). \nValor de las entradas: $200\, $250 y $300. \n  \n[/vc_column_text][/vc_column][/vc_row][vc_row][vc_column width=»1/2″][vc_single_image image=»60476″ img_size=»full»][/vc_column][vc_column width=»1/2″][vc_single_image image=»60477″ img_size=»full»][/vc_column][/vc_row] \n
URL:https://www.godoycruz.sisargentina.com/evento/cielo-nany-la-magia-roble-magico-15/
LOCATION:Colón 27\, Godoy Cruz\, Mendoza\, 5501\, Argentina
ATTACH;FMTTYPE=image/jpeg:https://www.godoycruz.sisargentina.com/wp-content/uploads/2019/07/WhatsApp-Image-2019-06-26-at-12.53.58.jpeg
END:VEVENT
BEGIN:VEVENT
DTSTART;TZID=UTC-3:20190721T160000
DTEND;TZID=UTC-3:20190721T173000
DTSTAMP:20260424T145921
CREATED:20190707T012108Z
LAST-MODIFIED:20190707T012108Z
UID:60747-1563724800-1563730200@www.godoycruz.sisargentina.com
SUMMARY:Invierno en Godoy Cruz - Títeres
DESCRIPTION:[vc_row][vc_column][vc_column_text]Domo de los Títeres. \nFunciones: 16:00 y 17.30. \nEntrada general: $100 (por función). \nIncluye: Teatro de Títeres Lambe-lambe (teatro en miniatura).Un espectador a la vez. Entrada: contribución voluntaria. \nObra: El destino de un huevo. Elenco: Grupo del Sinfín[/vc_column_text][/vc_column][/vc_row][vc_row][vc_column][vc_single_image image=»60748″ img_size=»full»][/vc_column][/vc_row] \n
URL:https://www.godoycruz.sisargentina.com/evento/invierno-godoy-cruz-titeres-10/
ATTACH;FMTTYPE=image/jpeg:https://www.godoycruz.sisargentina.com/wp-content/uploads/2019/07/web-Domo-titeres-gral.jpg
END:VEVENT
END:VCALENDAR