BEGIN:VCALENDAR
VERSION:2.0
PRODID:-//Godoy Cruz - ECPv4.5.8.1//NONSGML v1.0//EN
CALSCALE:GREGORIAN
METHOD:PUBLISH
X-WR-CALNAME:Godoy Cruz
X-ORIGINAL-URL:https://www.godoycruz.sisargentina.com
X-WR-CALDESC:Events for Godoy Cruz
BEGIN:VEVENT
DTSTART;TZID=UTC-3:20190720T143000
DTEND;TZID=UTC-3:20190720T183000
DTSTAMP:20260424T145957
CREATED:20190707T050955Z
LAST-MODIFIED:20190707T050955Z
UID:60790-1563633000-1563647400@www.godoycruz.sisargentina.com
SUMMARY:Invierno en Godoy Cruz - museo en vacaciones
DESCRIPTION:[vc_row][vc_column][vc_column_text]Museo Ferroviario. De 14.30 a 18.30. \nActividades: Recorrido de maqueta en video 360º (Realidad Virtual). Espacio de arte (dibujo y pintura). Armado de títeres y\nmaquetas. Juegos didácticos. \nEntrada gratuita. Informes: 4391684.[/vc_column_text][/vc_column][/vc_row][vc_row][vc_column][vc_single_image image=»60752″ img_size=»full»][/vc_column][/vc_row] \n
URL:https://www.godoycruz.sisargentina.com/evento/invierno-godoy-cruz-museo-vacaciones-11/
ATTACH;FMTTYPE=image/jpeg:https://www.godoycruz.sisargentina.com/wp-content/uploads/2019/07/web-invierno-museo-ferroviario.jpg
END:VEVENT
BEGIN:VEVENT
DTSTART;TZID=UTC-3:20190720T150000
DTEND;TZID=UTC-3:20190720T170000
DTSTAMP:20260424T145957
CREATED:20190627T180110Z
LAST-MODIFIED:20190627T180110Z
UID:60387-1563634800-1563642000@www.godoycruz.sisargentina.com
SUMMARY:Invierno en Godoy Cruz – Circo
DESCRIPTION:[vc_row][vc_column][vc_column_text]5º Festival de Circo. \nFunciones: 15:00 y 17:00. \nEntrada general: $100 (por función). \nCirco Magenta.[/vc_column_text][/vc_column][/vc_row][vc_row][vc_column][vc_single_image image=»60329″ img_size=»full»][/vc_column][/vc_row] \n
URL:https://www.godoycruz.sisargentina.com/evento/invierno-godoy-cruz-circo-23/
ATTACH;FMTTYPE=image/jpeg:https://www.godoycruz.sisargentina.com/wp-content/uploads/2019/06/WhatsApp-Image-2019-06-26-at-12.54.13.jpeg
END:VEVENT
BEGIN:VEVENT
DTSTART;TZID=UTC-3:20190720T150000
DTEND;TZID=UTC-3:20190720T150000
DTSTAMP:20260424T145957
CREATED:20190716T163411Z
LAST-MODIFIED:20190716T163411Z
UID:61050-1563634800-1563634800@www.godoycruz.sisargentina.com
SUMMARY:Invierno en Godoy Cruz - Circo Rodante
DESCRIPTION:[vc_row][vc_column][vc_column_text]El circo recorre los barrios de Godoy Cruz. \nEnsamble artístico: “La Troupe Maravillosa”. Malabarismo\, magia\, show de burbujas\, payasos\, narración. \nChocolate caliente y tortitas. \n15:00. Entrada gratuita. \nParque Margarita Malharro de Torres (Primitivo de la Reta y Alsina).[/vc_column_text][/vc_column][/vc_row][vc_row][vc_column][vc_single_image image=»61051″ img_size=»full»][/vc_column][/vc_row] \n
URL:https://www.godoycruz.sisargentina.com/evento/invierno-godoy-cruz-circo-rodante-7/
ATTACH;FMTTYPE=image/jpeg:https://www.godoycruz.sisargentina.com/wp-content/uploads/2019/07/web-20-circo-rodante-2019.jpg
END:VEVENT
BEGIN:VEVENT
DTSTART;TZID=UTC-3:20190720T153000
DTEND;TZID=UTC-3:20190720T173000
DTSTAMP:20260424T145957
CREATED:20190706T181105Z
LAST-MODIFIED:20190706T181105Z
UID:60687-1563636600-1563643800@www.godoycruz.sisargentina.com
SUMMARY:Invierno en Godoy Cruz – infantiles en la B+M
DESCRIPTION:[vc_row][vc_column][vc_column_text]Mediateca Infantil. \nFunciones: 15:30 y 17:30. \nEntrada general: $120. \nObra: El conocido mundo del teatro. Un disparatado personaje descubre la magia del teatro. Elenco: Los Cucos.[/vc_column_text][/vc_column][/vc_row][vc_row][vc_column][vc_single_image image=»60688″ img_size=»full»][/vc_column][/vc_row] \n
URL:https://www.godoycruz.sisargentina.com/evento/invierno-godoy-cruz-infantiles-la-bm-14/
LOCATION:Tomba 54\, Godoy Cruz\, Mendoza\, 5501\, Argentina
ATTACH;FMTTYPE=image/jpeg:https://www.godoycruz.sisargentina.com/wp-content/uploads/2019/07/web-vacaciones-BM-gral.jpg
END:VEVENT
BEGIN:VEVENT
DTSTART;TZID=UTC-3:20190720T160000
DTEND;TZID=UTC-3:20190720T180000
DTSTAMP:20260424T145957
CREATED:20190703T044342Z
LAST-MODIFIED:20190703T044342Z
UID:60519-1563638400-1563645600@www.godoycruz.sisargentina.com
SUMMARY:El Cielo de Nany\, la magia / El Roble Mágico
DESCRIPTION:[vc_row][vc_column][vc_column_text]Espectáculos teatrales para toda la familia. Funciones diarias. \nEntradas en venta en www.eventbrite.com.ar o en la boletería del teatro (Colón 27\, Godoy Cruz). \nNiños a partir de dos años pagan entrada. \nDirección Artística: Hugo Moreno. Libro y canciones originales: María Laura Fuertes. Producción ejecutiva: Federico Barzola. Producción general: Pablo Moreno. \n[/vc_column_text][/vc_column][/vc_row][vc_row][vc_column width=»1/2″][vc_column_text]16:00. El Cielo de Nany\, la magia (recomendada para niños de 0 a 6 años). \nValor de las entradas: $200\, $250 y $300. \n[/vc_column_text][/vc_column][vc_column width=»1/2″][vc_column_text]18:00. El Roble Mágico. 4º temporada (público en general). \nValor de las entradas: $200\, $250 y $300.[/vc_column_text][/vc_column][/vc_row][vc_row][vc_column width=»1/2″][vc_single_image image=»60476″ img_size=»full»][/vc_column][vc_column width=»1/2″][vc_single_image image=»60477″ img_size=»full»][/vc_column][/vc_row] \n
URL:https://www.godoycruz.sisargentina.com/evento/cielo-nany-la-magia-roble-magico-14/
LOCATION:Colón 27\, Godoy Cruz\, Mendoza\, 5501\, Argentina
ATTACH;FMTTYPE=image/jpeg:https://www.godoycruz.sisargentina.com/wp-content/uploads/2019/07/WhatsApp-Image-2019-06-26-at-12.53.58.jpeg
END:VEVENT
BEGIN:VEVENT
DTSTART;TZID=UTC-3:20190720T160000
DTEND;TZID=UTC-3:20190720T173000
DTSTAMP:20260424T145957
CREATED:20190707T011306Z
LAST-MODIFIED:20190707T011306Z
UID:60744-1563638400-1563643800@www.godoycruz.sisargentina.com
SUMMARY:Invierno en Godoy Cruz - Títeres
DESCRIPTION:[vc_row][vc_column][vc_column_text]Domo de los Títeres. \nFunciones: 16:00 y 17.30. \nEntrada general: $100 (por función). \nIncluye: Teatro de Títeres Lambe-lambe (teatro en miniatura).Un espectador a la vez. Entrada: contribución voluntaria. \nObra: Un pajarito sin polenta. Elenco: Kapaieie Títeres.[/vc_column_text][/vc_column][/vc_row][vc_row][vc_column][vc_single_image image=»60714″ img_size=»full»][/vc_column][/vc_row] \n
URL:https://www.godoycruz.sisargentina.com/evento/invierno-godoy-cruz-titeres-9/
ATTACH;FMTTYPE=image/jpeg:https://www.godoycruz.sisargentina.com/wp-content/uploads/2019/07/web-Domo-titeres-gral.jpg
END:VEVENT
BEGIN:VEVENT
DTSTART;TZID=UTC-3:20190720T200000
DTEND;TZID=UTC-3:20190720T200000
DTSTAMP:20260424T145957
CREATED:20190714T011133Z
LAST-MODIFIED:20190714T011133Z
UID:60983-1563652800-1563652800@www.godoycruz.sisargentina.com
SUMMARY:Invierno en Godoy Cruz – Cine de aventura
DESCRIPTION:[vc_row][vc_column][vc_column_text]Plaza Aventura. \nAcción y aventuras en la pantalla. \nCanje de entradas por un alimento no perecedero. \nCartelera: \nPelícula: Mad Max: Furia en el camino (Mad Max: Fury road). (Ciencia ficción/acción). 20:00 \n  \n[/vc_column_text][/vc_column][/vc_row][vc_row][vc_column][vc_single_image image=»60984″ img_size=»full»][/vc_column][/vc_row] \n
URL:https://www.godoycruz.sisargentina.com/evento/invierno-godoy-cruz-cine-aventura-6/
LOCATION:Colón 27\, Godoy Cruz\, Mendoza\, 5501\, Argentina
ATTACH;FMTTYPE=image/jpeg:https://www.godoycruz.sisargentina.com/wp-content/uploads/2019/07/IMG-20190704-WA0002.jpg
END:VEVENT
END:VCALENDAR