BEGIN:VCALENDAR
VERSION:2.0
PRODID:-//Godoy Cruz - ECPv4.5.8.1//NONSGML v1.0//EN
CALSCALE:GREGORIAN
METHOD:PUBLISH
X-WR-CALNAME:Godoy Cruz
X-ORIGINAL-URL:https://www.godoycruz.sisargentina.com
X-WR-CALDESC:Events for Godoy Cruz
BEGIN:VEVENT
DTSTART;TZID=UTC-3:20190719T110000
DTEND;TZID=UTC-3:20190719T110000
DTSTAMP:20260424T145342
CREATED:20190713T165054Z
LAST-MODIFIED:20190713T165054Z
UID:60953-1563534000-1563534000@www.godoycruz.sisargentina.com
SUMMARY:Invierno en Godoy Cruz – Cine
DESCRIPTION:[vc_row][vc_column][vc_column_text]Cine infantil. Grandes películas para ver en familia. \nEntrada gratuita. \nCartelera: \nPelícula: Coco (animación). 11:00. \n  \n.[/vc_column_text][/vc_column][/vc_row][vc_row][vc_column][vc_single_image image=»60954″ img_size=»full»][/vc_column][/vc_row] \n
URL:https://www.godoycruz.sisargentina.com/evento/invierno-godoy-cruz-cine-5/
LOCATION:Colón 27\, Godoy Cruz\, Mendoza\, 5501\, Argentina
ATTACH;FMTTYPE=image/jpeg:https://www.godoycruz.sisargentina.com/wp-content/uploads/2019/07/IMG-20190704-WA0001.jpg
END:VEVENT
BEGIN:VEVENT
DTSTART;TZID=UTC-3:20190719T143000
DTEND;TZID=UTC-3:20190719T183000
DTSTAMP:20260424T145342
CREATED:20190707T050225Z
LAST-MODIFIED:20190707T050225Z
UID:60786-1563546600-1563561000@www.godoycruz.sisargentina.com
SUMMARY:Invierno en Godoy Cruz - museo en vacaciones
DESCRIPTION:[vc_row][vc_column][vc_column_text]Museo Ferroviario. De 14.30 a 18.30. \nActividades: Recorrido de maqueta en video 360º (Realidad Virtual). Espacio de arte (dibujo y pintura). Armado de títeres y\nmaquetas. Juegos didácticos. \nEntrada gratuita. Informes: 4391684.[/vc_column_text][/vc_column][/vc_row][vc_row][vc_column][vc_single_image image=»60752″ img_size=»full»][/vc_column][/vc_row] \n
URL:https://www.godoycruz.sisargentina.com/evento/invierno-godoy-cruz-museo-vacaciones-10/
LOCATION:Mendoza
ATTACH;FMTTYPE=image/jpeg:https://www.godoycruz.sisargentina.com/wp-content/uploads/2019/07/web-invierno-museo-ferroviario.jpg
END:VEVENT
BEGIN:VEVENT
DTSTART;TZID=UTC-3:20190719T150000
DTEND;TZID=UTC-3:20190719T170000
DTSTAMP:20260424T145342
CREATED:20190627T175052Z
LAST-MODIFIED:20190627T175052Z
UID:60382-1563548400-1563555600@www.godoycruz.sisargentina.com
SUMMARY:Invierno en Godoy Cruz – Circo
DESCRIPTION:[vc_row][vc_column][vc_column_text]5º Festival de Circo. \nFunciones: 15:00 y 17:00. \nEntrada general: $100 (por función). \nLas Locuras del Mago Ludiem. \n [/vc_column_text][/vc_column][/vc_row][vc_row][vc_column][vc_single_image image=»60329″ img_size=»full»][/vc_column][/vc_row] \n
URL:https://www.godoycruz.sisargentina.com/evento/invierno-godoy-cruz-circo-22/
LOCATION:Mendoza
ATTACH;FMTTYPE=image/jpeg:https://www.godoycruz.sisargentina.com/wp-content/uploads/2019/06/WhatsApp-Image-2019-06-26-at-12.54.13.jpeg
END:VEVENT
BEGIN:VEVENT
DTSTART;TZID=UTC-3:20190719T150000
DTEND;TZID=UTC-3:20190719T150000
DTSTAMP:20260424T145342
CREATED:20190716T162203Z
LAST-MODIFIED:20190716T162203Z
UID:61045-1563548400-1563548400@www.godoycruz.sisargentina.com
SUMMARY:Invierno en Godoy Cruz - Circo Rodante
DESCRIPTION:[vc_row][vc_column][vc_column_text]El circo recorre los barrios de Godoy Cruz. \nEnsamble artístico: “La Troupe Maravillosa”. Malabarismo\, magia\, show de burbujas\, payasos\, narración. \nChocolate caliente y tortitas. \n15:00. Entrada gratuita. \nB° La Gloria (Vélez Sarsfield y Bahía Ushuaia).[/vc_column_text][/vc_column][/vc_row][vc_row][vc_column][vc_single_image image=»61046″ img_size=»full»][/vc_column][/vc_row] \n
URL:https://www.godoycruz.sisargentina.com/evento/invierno-godoy-cruz-circo-rodante-6/
LOCATION:Mendoza
ATTACH;FMTTYPE=image/jpeg:https://www.godoycruz.sisargentina.com/wp-content/uploads/2019/07/WhatsApp-Image-2019-07-15-at-13.52.44-1.jpeg
END:VEVENT
BEGIN:VEVENT
DTSTART;TZID=UTC-3:20190719T153000
DTEND;TZID=UTC-3:20190719T173000
DTSTAMP:20260424T145342
CREATED:20190706T180129Z
LAST-MODIFIED:20190706T180129Z
UID:60683-1563550200-1563557400@www.godoycruz.sisargentina.com
SUMMARY:Invierno en Godoy Cruz – infantiles en la B+M
DESCRIPTION:[vc_row][vc_column][vc_column_text]Mediateca Infantil. \nFunciones: 15:30 y 17:30. \nEntrada general: $120. \nObra: El cocinero\, su novia y el señor que tiene hambre. Espectáculo de títeres. Elenco: Burbujas.[/vc_column_text][/vc_column][/vc_row][vc_row][vc_column][vc_single_image image=»60684″ img_size=»full»][/vc_column][/vc_row] \n
URL:https://www.godoycruz.sisargentina.com/evento/invierno-godoy-cruz-infantiles-la-bm-13/
LOCATION:Tomba 54\, Godoy Cruz\, Mendoza\, 5501\, Argentina
ATTACH;FMTTYPE=image/jpeg:https://www.godoycruz.sisargentina.com/wp-content/uploads/2019/07/web-vacaciones-BM-gral.jpg
END:VEVENT
BEGIN:VEVENT
DTSTART;TZID=UTC-3:20190719T160000
DTEND;TZID=UTC-3:20190719T180000
DTSTAMP:20260424T145342
CREATED:20190703T043628Z
LAST-MODIFIED:20190703T043628Z
UID:60516-1563552000-1563559200@www.godoycruz.sisargentina.com
SUMMARY:El Cielo de Nany\, la magia / El Roble Mágico
DESCRIPTION:[vc_row][vc_column][vc_column_text]Espectáculos teatrales para toda la familia. Funciones diarias. \nEntradas en venta en www.eventbrite.com.ar o en la boletería del teatro (Colón 27\, Godoy Cruz). \nNiños a partir de dos años pagan entrada. \nDirección Artística: Hugo Moreno. Libro y canciones originales: María Laura Fuertes. Producción ejecutiva: Federico Barzola. Producción general: Pablo Moreno. \n[/vc_column_text][/vc_column][/vc_row][vc_row][vc_column width=»1/2″][vc_column_text]16:00. El Cielo de Nany\, la magia (recomendada para niños de 0 a 6 años). \nValor de las entradas: $200\, $250 y $300.[/vc_column_text][/vc_column][vc_column width=»1/2″][vc_column_text]18:00. El Roble Mágico. 4º temporada (público en general). \nValor de las entradas: $200\, $250 y $300. \n[/vc_column_text][/vc_column][/vc_row][vc_row][vc_column width=»1/2″][vc_single_image image=»60476″ img_size=»full»][/vc_column][vc_column width=»1/2″][vc_single_image image=»60477″ img_size=»full»][/vc_column][/vc_row] \n
URL:https://www.godoycruz.sisargentina.com/evento/cielo-nany-la-magia-roble-magico-13/
LOCATION:Colón 27\, Godoy Cruz\, Mendoza\, 5501\, Argentina
ATTACH;FMTTYPE=image/jpeg:https://www.godoycruz.sisargentina.com/wp-content/uploads/2019/07/WhatsApp-Image-2019-06-26-at-12.53.58.jpeg
END:VEVENT
BEGIN:VEVENT
DTSTART;TZID=UTC-3:20190719T160000
DTEND;TZID=UTC-3:20190719T173000
DTSTAMP:20260424T145342
CREATED:20190707T005226Z
LAST-MODIFIED:20190707T005226Z
UID:60741-1563552000-1563557400@www.godoycruz.sisargentina.com
SUMMARY:Invierno en Godoy Cruz - Títeres
DESCRIPTION:[vc_row][vc_column][vc_column_text]Domo de los Títeres. \nFunciones: 16:00 y 17.30. \nEntrada general: $100 (por función). \nIncluye: Teatro de Títeres Lambe-lambe (teatro en miniatura).Un espectador a la vez. Entrada: contribución voluntaria. \nObra: La leyenda de Mur. Elenco: La valija del sol.[/vc_column_text][/vc_column][/vc_row][vc_row][vc_column][vc_single_image image=»60714″ img_size=»full»][/vc_column][/vc_row] \n
URL:https://www.godoycruz.sisargentina.com/evento/invierno-godoy-cruz-titeres-8/
LOCATION:Mendoza
ATTACH;FMTTYPE=image/jpeg:https://www.godoycruz.sisargentina.com/wp-content/uploads/2019/07/web-Domo-titeres-gral.jpg
END:VEVENT
BEGIN:VEVENT
DTSTART;TZID=UTC-3:20190719T200000
DTEND;TZID=UTC-3:20190719T200000
DTSTAMP:20260424T145342
CREATED:20190714T005917Z
LAST-MODIFIED:20190714T005917Z
UID:60979-1563566400-1563566400@www.godoycruz.sisargentina.com
SUMMARY:Invierno en Godoy Cruz – Cine de aventura
DESCRIPTION:[vc_row][vc_column][vc_column_text]Plaza Aventura. \nAcción y aventuras en la pantalla. \nCanje de entradas por un alimento no perecedero. \nCartelera: \nPelícula: The Matrix (ciencia ficción/acción). 20:00.[/vc_column_text][/vc_column][/vc_row][vc_row][vc_column][vc_single_image image=»60980″ img_size=»full»][/vc_column][/vc_row] \n
URL:https://www.godoycruz.sisargentina.com/evento/invierno-godoy-cruz-cine-aventura-5/
LOCATION:Colón 27\, Godoy Cruz\, Mendoza\, 5501\, Argentina
ATTACH;FMTTYPE=image/jpeg:https://www.godoycruz.sisargentina.com/wp-content/uploads/2019/07/IMG-20190704-WA0002.jpg
END:VEVENT
END:VCALENDAR