BEGIN:VCALENDAR
VERSION:2.0
PRODID:-//Godoy Cruz - ECPv4.5.8.1//NONSGML v1.0//EN
CALSCALE:GREGORIAN
METHOD:PUBLISH
X-WR-CALNAME:Godoy Cruz
X-ORIGINAL-URL:https://www.godoycruz.sisargentina.com
X-WR-CALDESC:Events for Godoy Cruz
BEGIN:VEVENT
DTSTART;TZID=UTC-3:20190717T110000
DTEND;TZID=UTC-3:20190717T110000
DTSTAMP:20260424T145243
CREATED:20190713T163146Z
LAST-MODIFIED:20190713T163146Z
UID:60945-1563361200-1563361200@www.godoycruz.sisargentina.com
SUMMARY:Invierno en Godoy Cruz – Cine
DESCRIPTION:[vc_row][vc_column][vc_column_text]Cine infantil. Grandes películas para ver en familia. \nEntrada gratuita. \nCartelera: \nPelícula: Grandes héroes (animación). 11:00. \n.[/vc_column_text][/vc_column][/vc_row][vc_row][vc_column][vc_single_image image=»60946″ img_size=»full»][/vc_column][/vc_row] \n
URL:https://www.godoycruz.sisargentina.com/evento/invierno-godoy-cruz-cine-3/
LOCATION:Colón 27\, Godoy Cruz\, Mendoza\, 5501\, Argentina
ATTACH;FMTTYPE=image/jpeg:https://www.godoycruz.sisargentina.com/wp-content/uploads/2019/07/IMG-20190704-WA0001.jpg
END:VEVENT
BEGIN:VEVENT
DTSTART;TZID=UTC-3:20190717T143000
DTEND;TZID=UTC-3:20190717T183000
DTSTAMP:20260424T145243
CREATED:20190707T043937Z
LAST-MODIFIED:20190707T043937Z
UID:60779-1563373800-1563388200@www.godoycruz.sisargentina.com
SUMMARY:Invierno en Godoy Cruz - museo en vacaciones
DESCRIPTION:[vc_row][vc_column][vc_column_text]Museo Ferroviario. De 14.30 a 18.30. \nActividades: Recorrido de maqueta en video 360º (Realidad Virtual). Espacio de arte (dibujo y pintura). Armado de títeres y\nmaquetas. Juegos didácticos. \nEntrada gratuita. Informes: 4391684.[/vc_column_text][/vc_column][/vc_row][vc_row][vc_column][vc_single_image image=»60752″ img_size=»full»][/vc_column][/vc_row] \n
URL:https://www.godoycruz.sisargentina.com/evento/invierno-godoy-cruz-museo-vacaciones-8/
LOCATION:Mendoza
ATTACH;FMTTYPE=image/jpeg:https://www.godoycruz.sisargentina.com/wp-content/uploads/2019/07/web-invierno-museo-ferroviario.jpg
END:VEVENT
BEGIN:VEVENT
DTSTART;TZID=UTC-3:20190717T150000
DTEND;TZID=UTC-3:20190717T170000
DTSTAMP:20260424T145243
CREATED:20190627T170647Z
LAST-MODIFIED:20190627T170647Z
UID:60374-1563375600-1563382800@www.godoycruz.sisargentina.com
SUMMARY:Invierno en Godoy Cruz – Circo
DESCRIPTION:[vc_row][vc_column][vc_column_text]5º Festival de Circo. \nFunciones: 15:00 y 17:00. \nEntrada general: $100 (por función). \nCirco Magenta.[/vc_column_text][/vc_column][/vc_row][vc_row][vc_column][vc_single_image image=»60329″ img_size=»full»][/vc_column][/vc_row] \n
URL:https://www.godoycruz.sisargentina.com/evento/invierno-godoy-cruz-circo-20/
LOCATION:Mendoza
ATTACH;FMTTYPE=image/jpeg:https://www.godoycruz.sisargentina.com/wp-content/uploads/2019/06/WhatsApp-Image-2019-06-26-at-12.54.13.jpeg
END:VEVENT
BEGIN:VEVENT
DTSTART;TZID=UTC-3:20190717T153000
DTEND;TZID=UTC-3:20190717T173000
DTSTAMP:20260424T145243
CREATED:20190706T173026Z
LAST-MODIFIED:20190706T173026Z
UID:60676-1563377400-1563384600@www.godoycruz.sisargentina.com
SUMMARY:Invierno en Godoy Cruz – infantiles en la B+M
DESCRIPTION:[vc_row][vc_column][vc_column_text]Mediateca Infantil. \nFunciones: 15:30 y 17:30. \nEntrada general: $120. \nObra: \nEl chino Chin-Chan (15:30) y Nariazul (17:30). Teatro de títeres. Elenco: La Nave de Ulises.[/vc_column_text][/vc_column][/vc_row][vc_row][vc_column][vc_single_image image=»60673″ img_size=»full»][/vc_column][/vc_row] \n
URL:https://www.godoycruz.sisargentina.com/evento/invierno-godoy-cruz-infantiles-la-bm-11/
LOCATION:Tomba 54\, Godoy Cruz\, Mendoza\, 5501\, Argentina
ATTACH;FMTTYPE=image/jpeg:https://www.godoycruz.sisargentina.com/wp-content/uploads/2019/07/web-vacaciones-BM-gral.jpg
END:VEVENT
BEGIN:VEVENT
DTSTART;TZID=UTC-3:20190717T160000
DTEND;TZID=UTC-3:20190717T180000
DTSTAMP:20260424T145243
CREATED:20190703T042038Z
LAST-MODIFIED:20190703T042038Z
UID:60510-1563379200-1563386400@www.godoycruz.sisargentina.com
SUMMARY:El Cielo de Nany\, la magia / El Roble Mágico
DESCRIPTION:[vc_row][vc_column][vc_column_text]Espectáculos teatrales para toda la familia. Funciones diarias. \nEntradas en venta en www.eventbrite.com.ar o en la boletería del teatro (Colón 27\, Godoy Cruz). \nNiños a partir de dos años pagan entrada. \nDirección Artística: Hugo Moreno. Libro y canciones originales: María Laura Fuertes. Producción ejecutiva: Federico Barzola. Producción general: Pablo Moreno. \n[/vc_column_text][/vc_column][/vc_row][vc_row][vc_column width=»1/2″][vc_column_text]16:00. El Cielo de Nany\, la magia (recomendada para niños de 0 a 6 años). \nValor de las entradas: $200\, $250 y $300.[/vc_column_text][/vc_column][vc_column width=»1/2″][vc_column_text]18:00. El Roble Mágico. 4º temporada (público en general). \nValor de las entradas: $200\, $250 y $300.[/vc_column_text][/vc_column][/vc_row][vc_row][vc_column width=»1/2″][vc_single_image image=»60476″ img_size=»full»][/vc_column][vc_column width=»1/2″][vc_single_image image=»60477″ img_size=»full»][/vc_column][/vc_row] \n
URL:https://www.godoycruz.sisargentina.com/evento/cielo-nany-la-magia-roble-magico-11/
LOCATION:Colón 27\, Godoy Cruz\, Mendoza\, 5501\, Argentina
ATTACH;FMTTYPE=image/jpeg:https://www.godoycruz.sisargentina.com/wp-content/uploads/2019/07/WhatsApp-Image-2019-06-26-at-12.53.58.jpeg
END:VEVENT
BEGIN:VEVENT
DTSTART;TZID=UTC-3:20190717T160000
DTEND;TZID=UTC-3:20190717T173000
DTSTAMP:20260424T145243
CREATED:20190707T003706Z
LAST-MODIFIED:20190707T003706Z
UID:60734-1563379200-1563384600@www.godoycruz.sisargentina.com
SUMMARY:Invierno en Godoy Cruz - Títeres
DESCRIPTION:[vc_row][vc_column][vc_column_text]Domo de los Títeres. \nFunciones: 16:00 y 17.30. \nEntrada general: $100 (por función). \nIncluye: Teatro de Títeres Lambe-lambe (teatro en miniatura).Un espectador a la vez. Entrada: contribución voluntaria. \nObra: El panadero y el diablo. Elenco: Títeres del Azulejo.[/vc_column_text][/vc_column][/vc_row][vc_row][vc_column][vc_single_image image=»60714″ img_size=»full»][/vc_column][/vc_row] \n
URL:https://www.godoycruz.sisargentina.com/evento/invierno-godoy-cruz-titeres-6/
LOCATION:Mendoza
ATTACH;FMTTYPE=image/jpeg:https://www.godoycruz.sisargentina.com/wp-content/uploads/2019/07/web-Domo-titeres-gral.jpg
END:VEVENT
BEGIN:VEVENT
DTSTART;TZID=UTC-3:20190717T200000
DTEND;TZID=UTC-3:20190717T200000
DTSTAMP:20260424T145243
CREATED:20190714T004013Z
LAST-MODIFIED:20190714T004013Z
UID:60971-1563393600-1563393600@www.godoycruz.sisargentina.com
SUMMARY:Invierno en Godoy Cruz – Cine de aventura
DESCRIPTION:[vc_row][vc_column][vc_column_text]Plaza Aventura. \nAcción y aventuras en la pantalla. \nCanje de entradas por un alimento no perecedero. \nCartelera: \nPelícula: El perfecto asesino (Léon: The Professional) (drama / acción). 20:00.[/vc_column_text][/vc_column][/vc_row][vc_row][vc_column][vc_single_image image=»60972″ img_size=»full»][/vc_column][/vc_row] \n
URL:https://www.godoycruz.sisargentina.com/evento/invierno-godoy-cruz-cine-aventura-3/
LOCATION:Colón 27\, Godoy Cruz\, Mendoza\, 5501\, Argentina
ATTACH;FMTTYPE=image/jpeg:https://www.godoycruz.sisargentina.com/wp-content/uploads/2019/07/IMG-20190704-WA0002.jpg
END:VEVENT
END:VCALENDAR