BEGIN:VCALENDAR
VERSION:2.0
PRODID:-//Godoy Cruz - ECPv4.5.8.1//NONSGML v1.0//EN
CALSCALE:GREGORIAN
METHOD:PUBLISH
X-WR-CALNAME:Godoy Cruz
X-ORIGINAL-URL:https://www.godoycruz.sisargentina.com
X-WR-CALDESC:Events for Godoy Cruz
BEGIN:VEVENT
DTSTART;TZID=UTC-3:20190716T110000
DTEND;TZID=UTC-3:20190716T110000
DTSTAMP:20260424T145340
CREATED:20190713T162215Z
LAST-MODIFIED:20190713T162215Z
UID:60941-1563274800-1563274800@www.godoycruz.sisargentina.com
SUMMARY:Invierno en Godoy Cruz – Cine
DESCRIPTION:[vc_row][vc_column][vc_column_text]Cine infantil. Grandes películas para ver en familia. \nEntrada gratuita. \nCartelera: \nPelícula: Los Increíbles (animación). 11:00. \n.[/vc_column_text][/vc_column][/vc_row][vc_row][vc_column][vc_single_image image=»60942″ img_size=»full»][/vc_column][/vc_row] \n
URL:https://www.godoycruz.sisargentina.com/evento/invierno-godoy-cruz-cine-2/
LOCATION:Colón 27\, Godoy Cruz\, Mendoza\, 5501\, Argentina
ATTACH;FMTTYPE=image/jpeg:https://www.godoycruz.sisargentina.com/wp-content/uploads/2019/07/IMG-20190704-WA0001.jpg
END:VEVENT
BEGIN:VEVENT
DTSTART;TZID=UTC-3:20190716T143000
DTEND;TZID=UTC-3:20190716T183000
DTSTAMP:20260424T145340
CREATED:20190707T043422Z
LAST-MODIFIED:20190707T043422Z
UID:60775-1563287400-1563301800@www.godoycruz.sisargentina.com
SUMMARY:Invierno en Godoy Cruz - museo en vacaciones
DESCRIPTION:[vc_row][vc_column][vc_column_text]Museo Ferroviario. De 14.30 a 18.30. \nActividades: Recorrido de maqueta en video 360º (Realidad Virtual). Espacio de arte (dibujo y pintura). Armado de títeres y\nmaquetas. Juegos didácticos. \nEntrada gratuita. Informes: 4391684.[/vc_column_text][/vc_column][/vc_row][vc_row][vc_column][vc_single_image image=»60752″ img_size=»full»][/vc_column][/vc_row] \n
URL:https://www.godoycruz.sisargentina.com/evento/invierno-godoy-cruz-museo-vacaciones-7/
LOCATION:Mendoza
ATTACH;FMTTYPE=image/jpeg:https://www.godoycruz.sisargentina.com/wp-content/uploads/2019/07/web-invierno-museo-ferroviario.jpg
END:VEVENT
BEGIN:VEVENT
DTSTART;TZID=UTC-3:20190716T150000
DTEND;TZID=UTC-3:20190716T170000
DTSTAMP:20260424T145340
CREATED:20190627T164855Z
LAST-MODIFIED:20190627T164855Z
UID:60370-1563289200-1563296400@www.godoycruz.sisargentina.com
SUMMARY:Invierno en Godoy Cruz – Circo
DESCRIPTION:[vc_row][vc_column][vc_column_text]5º Festival de Circo. \nFunciones: 15:00 y 17:00. \nEntrada general: $100 (por función). \nCirque Pocamoscas.[/vc_column_text][/vc_column][/vc_row][vc_row][vc_column][vc_single_image image=»60329″ img_size=»full»][/vc_column][/vc_row] \n
URL:https://www.godoycruz.sisargentina.com/evento/invierno-godoy-cruz-circo-19/
LOCATION:Mendoza
ATTACH;FMTTYPE=image/jpeg:https://www.godoycruz.sisargentina.com/wp-content/uploads/2019/06/WhatsApp-Image-2019-06-26-at-12.54.13.jpeg
END:VEVENT
BEGIN:VEVENT
DTSTART;TZID=UTC-3:20190716T153000
DTEND;TZID=UTC-3:20190716T173000
DTSTAMP:20260424T145340
CREATED:20190706T172333Z
LAST-MODIFIED:20190706T172333Z
UID:60672-1563291000-1563298200@www.godoycruz.sisargentina.com
SUMMARY:Invierno en Godoy Cruz – infantiles en la B+M
DESCRIPTION:[vc_row][vc_column][vc_column_text]Mediateca Infantil. \nFunciones: 15:30 y 17:30. \nEntrada general: $120. \nObra: \nEl chino Chin-Chan (15:30) y Nariazul (17:30). Teatro de títeres. Elenco: La nave de Ulises.[/vc_column_text][/vc_column][/vc_row][vc_row][vc_column][vc_single_image image=»60673″ img_size=»full»][/vc_column][/vc_row] \n
URL:https://www.godoycruz.sisargentina.com/evento/invierno-godoy-cruz-infantiles-la-bm-10/
LOCATION:Tomba 54\, Godoy Cruz\, Mendoza\, 5501\, Argentina
ATTACH;FMTTYPE=image/jpeg:https://www.godoycruz.sisargentina.com/wp-content/uploads/2019/07/web-vacaciones-BM-gral.jpg
END:VEVENT
BEGIN:VEVENT
DTSTART;TZID=UTC-3:20190716T160000
DTEND;TZID=UTC-3:20190716T180000
DTSTAMP:20260424T145340
CREATED:20190703T041352Z
LAST-MODIFIED:20190703T041352Z
UID:60507-1563292800-1563300000@www.godoycruz.sisargentina.com
SUMMARY:El Cielo de Nany\, la magia / El Roble Mágico
DESCRIPTION:[vc_row][vc_column][vc_column_text]Espectáculos teatrales para toda la familia. Funciones diarias. \nEntradas en venta en www.eventbrite.com.ar o en la boletería del teatro (Colón 27\, Godoy Cruz). \nNiños a partir de dos años pagan entrada. \nDirección Artística: Hugo Moreno. Libro y canciones originales: María Laura Fuertes. Producción ejecutiva: Federico Barzola. Producción general: Pablo Moreno. \n[/vc_column_text][/vc_column][/vc_row][vc_row][vc_column width=»1/2″][vc_column_text]16:00. El Cielo de Nany\, la magia (recomendada para niños de 0 a 6 años). \nValor de las entradas: $200\, $250 y $300. \n[/vc_column_text][/vc_column][vc_column width=»1/2″][vc_column_text]18:00. El Roble Mágico. 4º temporada (público en general). \nValor de las entradas: $200\, $250 y $300. \n  \n[/vc_column_text][/vc_column][/vc_row][vc_row][vc_column width=»1/2″][vc_single_image image=»60476″ img_size=»full»][/vc_column][vc_column width=»1/2″][vc_single_image image=»60477″ img_size=»full»][/vc_column][/vc_row] \n
URL:https://www.godoycruz.sisargentina.com/evento/cielo-nany-la-magia-roble-magico-10/
LOCATION:Colón 27\, Godoy Cruz\, Mendoza\, 5501\, Argentina
ATTACH;FMTTYPE=image/jpeg:https://www.godoycruz.sisargentina.com/wp-content/uploads/2019/07/WhatsApp-Image-2019-06-26-at-12.53.58.jpeg
END:VEVENT
BEGIN:VEVENT
DTSTART;TZID=UTC-3:20190716T160000
DTEND;TZID=UTC-3:20190716T173000
DTSTAMP:20260424T145340
CREATED:20190707T003004Z
LAST-MODIFIED:20190707T003004Z
UID:60730-1563292800-1563298200@www.godoycruz.sisargentina.com
SUMMARY:Invierno en Godoy Cruz - Títeres
DESCRIPTION:[vc_row][vc_column][vc_column_text]Domo de los Títeres. \nFunciones: 16:00 y 17.30. \nEntrada general: $100 (por función). \nIncluye: Teatro de Títeres Lambe-lambe (teatro en miniatura).Un espectador a la vez. Entrada: contribución voluntaria. \nObra: Mi vecino el Topo. Elenco: La Oruga.[/vc_column_text][/vc_column][/vc_row][vc_row][vc_column][vc_single_image image=»60714″ img_size=»full»][/vc_column][/vc_row] \n
URL:https://www.godoycruz.sisargentina.com/evento/invierno-godoy-cruz-titeres-5/
LOCATION:Mendoza
ATTACH;FMTTYPE=image/jpeg:https://www.godoycruz.sisargentina.com/wp-content/uploads/2019/07/web-Domo-titeres-gral.jpg
END:VEVENT
BEGIN:VEVENT
DTSTART;TZID=UTC-3:20190716T200000
DTEND;TZID=UTC-3:20190716T200000
DTSTAMP:20260424T145340
CREATED:20190714T003257Z
LAST-MODIFIED:20190714T003257Z
UID:60967-1563307200-1563307200@www.godoycruz.sisargentina.com
SUMMARY:Invierno en Godoy Cruz – Cine de aventura
DESCRIPTION:[vc_row][vc_column][vc_column_text]Plaza Aventura. \nAcción y aventuras en la pantalla. \nCanje de entradas por un alimento no perecedero. \nCartelera: \nPelícula: El príncipe de Persia: las arenas del tiempo (aventuras). 20:00. \n[/vc_column_text][/vc_column][/vc_row][vc_row][vc_column][vc_single_image image=»60968″ img_size=»full»][/vc_column][/vc_row] \n
URL:https://www.godoycruz.sisargentina.com/evento/invierno-godoy-cruz-cine-aventura-2/
LOCATION:Colón 27\, Godoy Cruz\, Mendoza\, 5501\, Argentina
ATTACH;FMTTYPE=image/jpeg:https://www.godoycruz.sisargentina.com/wp-content/uploads/2019/07/IMG-20190704-WA0002.jpg
END:VEVENT
END:VCALENDAR