BEGIN:VCALENDAR
VERSION:2.0
PRODID:-//Godoy Cruz - ECPv4.5.8.1//NONSGML v1.0//EN
CALSCALE:GREGORIAN
METHOD:PUBLISH
X-WR-CALNAME:Godoy Cruz
X-ORIGINAL-URL:https://www.godoycruz.sisargentina.com
X-WR-CALDESC:Events for Godoy Cruz
BEGIN:VEVENT
DTSTART;TZID=UTC-3:20190714T143000
DTEND;TZID=UTC-3:20190714T183000
DTSTAMP:20260424T145344
CREATED:20190707T041412Z
LAST-MODIFIED:20190707T041412Z
UID:60768-1563114600-1563129000@www.godoycruz.sisargentina.com
SUMMARY:Invierno en Godoy Cruz - museo en vacaciones
DESCRIPTION:[vc_row][vc_column][vc_column_text]Museo Ferroviario. De 14.30 a 18.30. \nActividades: Recorrido de maqueta en video 360º (Realidad Virtual). Espacio de arte (dibujo y pintura). Armado de títeres y\nmaquetas. Juegos didácticos. \nEntrada gratuita. Informes: 4391684.[/vc_column_text][/vc_column][/vc_row][vc_row][vc_column][vc_single_image image=»60752″ img_size=»full»][/vc_column][/vc_row] \n
URL:https://www.godoycruz.sisargentina.com/evento/invierno-godoy-cruz-museo-vacaciones-5/
ATTACH;FMTTYPE=image/jpeg:https://www.godoycruz.sisargentina.com/wp-content/uploads/2019/07/web-invierno-museo-ferroviario.jpg
END:VEVENT
BEGIN:VEVENT
DTSTART;TZID=UTC-3:20190714T150000
DTEND;TZID=UTC-3:20190714T170000
DTSTAMP:20260424T145344
CREATED:20190627T161309Z
LAST-MODIFIED:20190627T161309Z
UID:60354-1563116400-1563123600@www.godoycruz.sisargentina.com
SUMMARY:Invierno en Godoy Cruz – Circo
DESCRIPTION:[vc_row][vc_column][vc_column_text]5º Festival de Circo. \nFunciones: 15:00 y 17:00. \nEntrada general: $100 (por función). \nCirco Magenta.[/vc_column_text][/vc_column][/vc_row][vc_row][vc_column][vc_single_image image=»60329″ img_size=»full»][/vc_column][/vc_row] \n
URL:https://www.godoycruz.sisargentina.com/evento/invierno-godoy-cruz-circo-17/
ATTACH;FMTTYPE=image/jpeg:https://www.godoycruz.sisargentina.com/wp-content/uploads/2019/06/WhatsApp-Image-2019-06-26-at-12.54.13.jpeg
END:VEVENT
BEGIN:VEVENT
DTSTART;TZID=UTC-3:20190714T153000
DTEND;TZID=UTC-3:20190714T173000
DTSTAMP:20260424T145344
CREATED:20190706T165759Z
LAST-MODIFIED:20190706T165759Z
UID:60664-1563118200-1563125400@www.godoycruz.sisargentina.com
SUMMARY:Invierno en Godoy Cruz – infantiles en la B+M
DESCRIPTION:[vc_row][vc_column][vc_column_text]Mediateca Infantil. \nFunciones: 15:30 y 17:30. \nEntrada general: $120. \nObra: Un Pajarito sin Polenta. Espectáculo de títeres.  Elenco: Kapaieie Títeres[/vc_column_text][/vc_column][/vc_row][vc_row][vc_column][vc_single_image image=»60665″ img_size=»full»][/vc_column][/vc_row] \n
URL:https://www.godoycruz.sisargentina.com/evento/invierno-godoy-cruz-infantiles-la-bm-8/
LOCATION:Tomba 54\, Godoy Cruz\, Mendoza\, 5501\, Argentina
ATTACH;FMTTYPE=image/jpeg:https://www.godoycruz.sisargentina.com/wp-content/uploads/2019/07/web-vacaciones-BM-gral.jpg
END:VEVENT
BEGIN:VEVENT
DTSTART;TZID=UTC-3:20190714T160000
DTEND;TZID=UTC-3:20190714T180000
DTSTAMP:20260424T145344
CREATED:20190703T030908Z
LAST-MODIFIED:20190703T030908Z
UID:60501-1563120000-1563127200@www.godoycruz.sisargentina.com
SUMMARY:El Cielo de Nany\, la magia / El Roble Mágico
DESCRIPTION:[vc_row][vc_column][vc_column_text]Espectáculos teatrales para toda la familia. Funciones diarias. \nEntradas en venta en www.eventbrite.com.ar o en la boletería del teatro (Colón 27\, Godoy Cruz). \nNiños a partir de dos años pagan entrada. \nDirección Artística: Hugo Moreno. Libro y canciones originales: María Laura Fuertes. Producción ejecutiva: Federico Barzola. Producción general: Pablo Moreno. \n[/vc_column_text][/vc_column][/vc_row][vc_row][vc_column width=»1/2″][vc_column_text]16:00. El Cielo de Nany\, la magia (recomendada para niños de 0 a 6 años). \nValor de las entradas: $200\, $250 y $300.[/vc_column_text][/vc_column][vc_column width=»1/2″][vc_column_text]18:00. El Roble Mágico. 4º temporada (público en general). \nValor de las entradas: $200\, $250 y $300. \n[/vc_column_text][/vc_column][/vc_row][vc_row][vc_column width=»1/2″][vc_single_image image=»60476″ img_size=»full»][/vc_column][vc_column width=»1/2″][vc_single_image image=»60477″ img_size=»full»][/vc_column][/vc_row] \n
URL:https://www.godoycruz.sisargentina.com/evento/cielo-nany-la-magia-roble-magico-8/
LOCATION:Colón 27\, Godoy Cruz\, Mendoza\, 5501\, Argentina
ATTACH;FMTTYPE=image/jpeg:https://www.godoycruz.sisargentina.com/wp-content/uploads/2019/07/WhatsApp-Image-2019-06-26-at-12.53.58.jpeg
END:VEVENT
BEGIN:VEVENT
DTSTART;TZID=UTC-3:20190714T160000
DTEND;TZID=UTC-3:20190714T173000
DTSTAMP:20260424T145344
CREATED:20190707T001625Z
LAST-MODIFIED:20190707T001625Z
UID:60721-1563120000-1563125400@www.godoycruz.sisargentina.com
SUMMARY:Invierno en Godoy Cruz - Títeres
DESCRIPTION:[vc_row][vc_column][vc_column_text]Domo de los Títeres. \nFunciones: 16:00 y 17.30. \nEntrada general: $100 (por función). \nIncluye: Teatro de Títeres Lambe-lambe (teatro en miniatura).Un espectador a la vez. Entrada: contribución voluntaria. \nObra: Temor en la selva. Elenco: Los títeres de Tricárico.[/vc_column_text][/vc_column][/vc_row][vc_row][vc_column][vc_single_image image=»60714″ img_size=»full»][/vc_column][/vc_row] \n
URL:https://www.godoycruz.sisargentina.com/evento/invierno-godoy-cruz-titeres-3/
ATTACH;FMTTYPE=image/jpeg:https://www.godoycruz.sisargentina.com/wp-content/uploads/2019/07/web-Domo-titeres-gral.jpg
END:VEVENT
BEGIN:VEVENT
DTSTART;TZID=UTC-3:20190714T200000
DTEND;TZID=UTC-3:20190714T200000
DTSTAMP:20260424T145344
CREATED:20190714T001314Z
LAST-MODIFIED:20190714T001717Z
UID:60958-1563134400-1563134400@www.godoycruz.sisargentina.com
SUMMARY:Invierno en Godoy Cruz – Cine de aventura
DESCRIPTION:[vc_row][vc_column][vc_column_text]Plaza Aventura. \nAcción y aventuras en la pantalla. \nCanje de entradas por un alimento no perecedero. \nCartelera: \nPelícula: Avatar (ciencia ficción). 20:00.[/vc_column_text][/vc_column][/vc_row][vc_row][vc_column][vc_single_image image=»60959″ img_size=»full»][/vc_column][/vc_row] \n
URL:https://www.godoycruz.sisargentina.com/evento/invierno-godoy-cruz-cine-aventura-1/
LOCATION:Colón 27\, Godoy Cruz\, Mendoza\, 5501\, Argentina
ATTACH;FMTTYPE=image/jpeg:https://www.godoycruz.sisargentina.com/wp-content/uploads/2019/07/IMG-20190704-WA0002.jpg
END:VEVENT
END:VCALENDAR