BEGIN:VCALENDAR
VERSION:2.0
PRODID:-//Godoy Cruz - ECPv4.5.8.1//NONSGML v1.0//EN
CALSCALE:GREGORIAN
METHOD:PUBLISH
X-WR-CALNAME:Godoy Cruz
X-ORIGINAL-URL:https://www.godoycruz.sisargentina.com
X-WR-CALDESC:Events for Godoy Cruz
BEGIN:VEVENT
DTSTART;TZID=UTC-3:20190614T190000
DTEND;TZID=UTC-3:20190614T210000
DTSTAMP:20260426T040806
CREATED:20190610T150615Z
LAST-MODIFIED:20190610T150615Z
UID:59967-1560538800-1560546000@www.godoycruz.sisargentina.com
SUMMARY:6º Semana de las Letras
DESCRIPTION:[vc_row][vc_column width=»1/2″][vc_column_text]19:00.  Presentación de libros: \n“Palabras sin Vergüenza” (antología de los talleres de Escritura Creativa 2017-2018). \n“Fiebre para saciar” e “Insensata Frontera”\, de María de las Mercedes Gobbi.[/vc_column_text][/vc_column][vc_column width=»1/2″][vc_single_image image=»59968″ img_size=»full»][/vc_column][/vc_row][vc_row][vc_column width=»1/2″][vc_column_text]21:00. “Apalabrantes”. \nUna cita textual con las letras\, la historia y la música.[/vc_column_text][/vc_column][vc_column width=»1/2″][vc_single_image image=»59969″ img_size=»full»][/vc_column][/vc_row] \n
URL:https://www.godoycruz.sisargentina.com/evento/6o-semana-las-letras/
LOCATION:Tomba 54\, Godoy Cruz\, Mendoza\, 5501\, Argentina
ATTACH;FMTTYPE=image/jpeg:https://www.godoycruz.sisargentina.com/wp-content/uploads/2019/06/WhatsApp-Image-2019-06-07-at-11.51.26.jpeg
END:VEVENT
BEGIN:VEVENT
DTSTART;TZID=UTC-3:20190614T220000
DTEND;TZID=UTC-3:20190614T220000
DTSTAMP:20260426T040806
CREATED:20190604T161050Z
LAST-MODIFIED:20190604T161050Z
UID:59813-1560549600-1560549600@www.godoycruz.sisargentina.com
SUMMARY:Vanesa Martín. “Todas las mujeres que habitan en mí”.
DESCRIPTION:[vc_row][vc_column][vc_column_text]Sus canciones la hicieron única\, el boca en boca la hizo grande. \nVenta de entradas en boletería del Teatro Plaza y en www.tuentrada.com  \n[/vc_column_text][/vc_column][/vc_row][vc_row][vc_column][vc_single_image image=»59814″ img_size=»full»][/vc_column][/vc_row] \n
URL:https://www.godoycruz.sisargentina.com/evento/vanesa-martin-todas-las-mujeres-habitan/
LOCATION:Colón 27\, Godoy Cruz\, Mendoza\, 5501\, Argentina
ATTACH;FMTTYPE=image/jpeg:https://www.godoycruz.sisargentina.com/wp-content/uploads/2019/06/WhatsApp-Image-2019-06-04-at-10.48.19.jpeg
END:VEVENT
END:VCALENDAR