BEGIN:VCALENDAR
VERSION:2.0
PRODID:-//Godoy Cruz - ECPv4.5.8.1//NONSGML v1.0//EN
CALSCALE:GREGORIAN
METHOD:PUBLISH
X-WR-CALNAME:Godoy Cruz
X-ORIGINAL-URL:https://www.godoycruz.sisargentina.com
X-WR-CALDESC:Events for Godoy Cruz
BEGIN:VEVENT
DTSTART;TZID=UTC-3:20190519T140000
DTEND;TZID=UTC-3:20190519T140000
DTSTAMP:20260424T193959
CREATED:20190516T135843Z
LAST-MODIFIED:20190516T135843Z
UID:59271-1558274400-1558274400@www.godoycruz.sisargentina.com
SUMMARY:Expo Sobre Ruedas
DESCRIPTION:[vc_row][vc_column][vc_column_text]Muestra de vehículos de colección. \nAutitos\, aviones\, rodados areneros y más. \nAutomóviles antiguos. Stands de expositores. Foodtrucks. \nEntrada gratuita.[/vc_column_text][/vc_column][/vc_row][vc_row][vc_column][vc_single_image image=»59272″ img_size=»full»][/vc_column][/vc_row] \n
URL:https://www.godoycruz.sisargentina.com/evento/expo-sobre-ruedas/
ATTACH;FMTTYPE=image/jpeg:https://www.godoycruz.sisargentina.com/wp-content/uploads/2019/05/WhatsApp-Image-2019-05-15-at-13.07.36.jpeg
END:VEVENT
BEGIN:VEVENT
DTSTART;TZID=UTC-3:20190519T150000
DTEND;TZID=UTC-3:20190519T150000
DTSTAMP:20260424T193959
CREATED:20190515T170427Z
LAST-MODIFIED:20190515T170427Z
UID:59244-1558278000-1558278000@www.godoycruz.sisargentina.com
SUMMARY:IV Edición de la Semana de los Museos
DESCRIPTION:[vc_row][vc_column][vc_column_text]Exposición Autos Antiguos. Club Vehículos de Colección Mendoza. \nDe 15 a 18 h. \nMuseo y Domo Ferroviario (Parque Benegas – Panamericana y Av. del Trabajo). Entrada libre y gratuita.[/vc_column_text][/vc_column][/vc_row][vc_row][vc_column][vc_single_image image=»59245″ img_size=»full»][/vc_column][/vc_row] \n
URL:https://www.godoycruz.sisargentina.com/evento/iv-edicion-la-semana-los-museos-5/
ATTACH;FMTTYPE=image/jpeg:https://www.godoycruz.sisargentina.com/wp-content/uploads/2019/05/IMG-20190507-WA0010.jpg
END:VEVENT
BEGIN:VEVENT
DTSTART;TZID=UTC-3:20190519T170000
DTEND;TZID=UTC-3:20190519T170000
DTSTAMP:20260424T193959
CREATED:20190507T162227Z
LAST-MODIFIED:20190507T162227Z
UID:58978-1558285200-1558285200@www.godoycruz.sisargentina.com
SUMMARY:Mediateca infantil
DESCRIPTION:[vc_row][vc_column][vc_column_text]»El Show Mágico de los Musilocos”. Elenco: Los Musilocos. \nLa música latinoamericana y la magia se unen es este espectáculo. \nValor de las entradas: $100.[/vc_column_text][/vc_column][/vc_row][vc_row][vc_column][vc_single_image image=»58975″ img_size=»full»][/vc_column][/vc_row] \n
URL:https://www.godoycruz.sisargentina.com/evento/mediateca-infantil-8/
LOCATION:Tomba 54\, Godoy Cruz\, Mendoza\, 5501\, Argentina
ATTACH;FMTTYPE=image/jpeg:https://www.godoycruz.sisargentina.com/wp-content/uploads/2019/05/1.jpg
END:VEVENT
END:VCALENDAR