BEGIN:VCALENDAR
VERSION:2.0
PRODID:-//Godoy Cruz - ECPv4.5.8.1//NONSGML v1.0//EN
CALSCALE:GREGORIAN
METHOD:PUBLISH
X-WR-CALNAME:Godoy Cruz
X-ORIGINAL-URL:https://www.godoycruz.sisargentina.com
X-WR-CALDESC:Events for Godoy Cruz
BEGIN:VEVENT
DTSTART;TZID=UTC-3:20190518T090000
DTEND;TZID=UTC-3:20190518T090000
DTSTAMP:20260424T180141
CREATED:20190515T164830Z
LAST-MODIFIED:20190515T164830Z
UID:59239-1558170000-1558170000@www.godoycruz.sisargentina.com
SUMMARY:IV Edición de la Semana de los Museos
DESCRIPTION:[vc_row][vc_column][vc_column_text]Muestra Fotográfica. Proyecciones. Charla sobre el Ferrocarril. \n9h (acreditación). 10h (comienzo de actividades). \nMuseo y Domo Ferroviario (Parque Benegas – Panamericana y Av. del Trabajo). Entrada libre y gratuita.[/vc_column_text][/vc_column][/vc_row][vc_row][vc_column][vc_single_image image=»59240″ img_size=»full»][/vc_column][/vc_row] \n
URL:https://www.godoycruz.sisargentina.com/evento/iv-edicion-la-semana-los-museos-4/
ATTACH;FMTTYPE=image/jpeg:https://www.godoycruz.sisargentina.com/wp-content/uploads/2019/05/IMG-20190507-WA0007.jpg
END:VEVENT
BEGIN:VEVENT
DTSTART;TZID=UTC-3:20190518T220000
DTEND;TZID=UTC-3:20190518T220000
DTSTAMP:20260424T180141
CREATED:20190422T144954Z
LAST-MODIFIED:20190422T145428Z
UID:58656-1558216800-1558216800@www.godoycruz.sisargentina.com
SUMMARY:“Serenata para la tierra de uno”
DESCRIPTION:[vc_row][vc_column][vc_column_text]Espectáculo de poesía\, canto y música. \nMúsica en vivo: Jorge y Pocho Sosa junto al Dúo Palma – Sandoval. \nArtistas invitados: Freddy Vidal y Ángeles Asensio.[/vc_column_text][/vc_column][/vc_row][vc_row][vc_column][vc_single_image image=»58657″ img_size=»full»][/vc_column][/vc_row] \n
URL:https://www.godoycruz.sisargentina.com/evento/serenata-la-tierra-uno-1/
LOCATION:Colón 27\, Godoy Cruz\, Mendoza\, 5501\, Argentina
ATTACH;FMTTYPE=image/jpeg:https://www.godoycruz.sisargentina.com/wp-content/uploads/2019/04/WhatsApp-Image-2019-04-16-at-12.35.28.jpeg
END:VEVENT
END:VCALENDAR