BEGIN:VCALENDAR
VERSION:2.0
PRODID:-//Godoy Cruz - ECPv4.5.8.1//NONSGML v1.0//EN
CALSCALE:GREGORIAN
METHOD:PUBLISH
X-WR-CALNAME:Godoy Cruz
X-ORIGINAL-URL:https://www.godoycruz.sisargentina.com
X-WR-CALDESC:Events for Godoy Cruz
BEGIN:VEVENT
DTSTART;TZID=UTC-3:20181109T183000
DTEND;TZID=UTC-3:20181109T183000
DTSTAMP:20260425T024204
CREATED:20181105T183100Z
LAST-MODIFIED:20181105T183100Z
UID:54618-1541788200-1541788200@www.godoycruz.sisargentina.com
SUMMARY:“El Asombro Festival”
DESCRIPTION:[vc_row][vc_column][vc_column_text]Sendero “Plaza Godoy Cruz”. Entrada libre y gratuita \n18:30.  Plaza Departamental. Actuación del Campeón Mundial de Magia Henry Evans. \n19:00. Escalinatas de la Iglesia San Vicente Ferrer (Lavalle 60). Actuación del artista destacado Charly Viera (Mar del Plata\, Bs As). \n19:30. Centro Patrimonial Artístico Cristoforo Colombo (Tomba 246). Actuación del Mago Zimurk (Mendoza).[/vc_column_text][/vc_column][/vc_row][vc_row][vc_column][vc_single_image image=»54619″ img_size=»full»][/vc_column][/vc_row] \n
URL:https://www.godoycruz.sisargentina.com/evento/el-asombro-festival/
ATTACH;FMTTYPE=image/jpeg:https://www.godoycruz.sisargentina.com/wp-content/uploads/2018/11/WhatsApp-Image-2018-11-02-at-13.55.29.jpeg
END:VEVENT
BEGIN:VEVENT
DTSTART;TZID=UTC-3:20181109T183000
DTEND;TZID=UTC-3:20181109T183000
DTSTAMP:20260425T024204
CREATED:20181105T184140Z
LAST-MODIFIED:20181105T184140Z
UID:54624-1541788200-1541788200@www.godoycruz.sisargentina.com
SUMMARY:“El Asombro Festival”
DESCRIPTION:[vc_row][vc_column][vc_column_text]Sendero “Parque Benegas”. Entrada libre y gratuita. \n18:30. Ciclovía. Presentación del “Mago Jokin”\, joven talento de Mendoza. \n19:00. Museo Ferroviario. Presentación del Mago español Ricardo Rodríguez\, ganador de numerosos premios internacionales. \n19:30. Micro del Asombro. Gran acto con el Mago Daniel Mormina de Buenos Aires (Gran Prix Latinoamericano) y\, de Bariloche\, el Mago Tony Aranz.[/vc_column_text][/vc_column][/vc_row][vc_row][vc_column][vc_single_image image=»54625″ img_size=»full»][/vc_column][/vc_row] \n
URL:https://www.godoycruz.sisargentina.com/evento/el-asombro-festival-2/
ATTACH;FMTTYPE=image/jpeg:https://www.godoycruz.sisargentina.com/wp-content/uploads/2018/11/WhatsApp-Image-2018-11-02-at-13.55.29.jpeg
END:VEVENT
BEGIN:VEVENT
DTSTART;TZID=UTC-3:20181109T200000
DTEND;TZID=UTC-3:20181109T200000
DTSTAMP:20260425T024204
CREATED:20181101T174439Z
LAST-MODIFIED:20181101T174439Z
UID:54514-1541793600-1541793600@www.godoycruz.sisargentina.com
SUMMARY:Vendimias Distritales de Godoy Cruz
DESCRIPTION:[vc_row][vc_column][vc_column_text]SAN FRANCISCO DEL MONTE. \n20:00. Plaza La Perla (Vélez Sarsfield y Matheu).[/vc_column_text][/vc_column][/vc_row][vc_row][vc_column][vc_single_image image=»54515″ img_size=»full»][/vc_column][/vc_row] \n
URL:https://www.godoycruz.sisargentina.com/evento/vendimias-distritales-godoy-cruz/
ATTACH;FMTTYPE=image/jpeg:https://www.godoycruz.sisargentina.com/wp-content/uploads/2018/11/Flyer_vendimia_distritales-SanFrancis.jpg
END:VEVENT
BEGIN:VEVENT
DTSTART;TZID=UTC-3:20181109T210000
DTEND;TZID=UTC-3:20181109T210000
DTSTAMP:20260425T024204
CREATED:20181107T164937Z
LAST-MODIFIED:20181107T164937Z
UID:54689-1541797200-1541797200@www.godoycruz.sisargentina.com
SUMMARY:Feminoise Mendoza
DESCRIPTION:[vc_row][vc_column][vc_column_text]Feminoise es un colectivo que funciona en distintas ciudades de Latinoamérica. En esta fecha se realizara el primer evento en Mendoza. \nMúsica en vivo: Paola Falciani\, Fer Rodlan\, Kion. Fanzines de Inti Pujol. \nEntrada gratis (aporte voluntario).[/vc_column_text][/vc_column][/vc_row][vc_row][vc_column][vc_single_image image=»54690″ img_size=»full»][/vc_column][/vc_row] \n
URL:https://www.godoycruz.sisargentina.com/evento/feminoise-mendoza/
LOCATION:Tomba 54\, Godoy Cruz\, Mendoza\, 5501\, Argentina
ATTACH;FMTTYPE=image/jpeg:https://www.godoycruz.sisargentina.com/wp-content/uploads/2018/11/IMG-20181107-WA0002.jpg
END:VEVENT
BEGIN:VEVENT
DTSTART;TZID=UTC-3:20181109T213000
DTEND;TZID=UTC-3:20181109T213000
DTSTAMP:20260425T024204
CREATED:20181105T184948Z
LAST-MODIFIED:20181105T184948Z
UID:54629-1541799000-1541799000@www.godoycruz.sisargentina.com
SUMMARY:“El Asombro Festival”
DESCRIPTION:[vc_row][vc_column][vc_column_text]Sendero nocturno “San Martín Sur”. Entrada gratuita. \n21:30. Bar Martín Sur (Av. San Martín Sur 610). Actuación de los magos Ricardo Rodríguez (España) y Charly Viera (Mar del Plata\, Bs As). \n23:00. Taco Azteca (Av. San Martín Sur 680). Espectáculo con los magos Henry Evans (Bs As)\, Daniel Mormina (Bs As) y Zimurk (Mza). \n01:00. Maldito Perro (Av. San Martín Sur 720).  Gala de Magos Sin Galera (Mza). \n [/vc_column_text][/vc_column][/vc_row][vc_row][vc_column][vc_single_image image=»54630″ img_size=»full»][/vc_column][/vc_row] \n
URL:https://www.godoycruz.sisargentina.com/evento/el-asombro-festival-3/
ATTACH;FMTTYPE=image/jpeg:https://www.godoycruz.sisargentina.com/wp-content/uploads/2018/11/WhatsApp-Image-2018-11-02-at-13.55.29.jpeg
END:VEVENT
END:VCALENDAR