BEGIN:VCALENDAR
VERSION:2.0
PRODID:-//Godoy Cruz - ECPv4.5.8.1//NONSGML v1.0//EN
CALSCALE:GREGORIAN
METHOD:PUBLISH
X-WR-CALNAME:Godoy Cruz
X-ORIGINAL-URL:https://www.godoycruz.sisargentina.com
X-WR-CALDESC:Events for Godoy Cruz
BEGIN:VEVENT
DTSTART;TZID=UTC-3:20181104T200000
DTEND;TZID=UTC-3:20181104T200000
DTSTAMP:20260425T140450
CREATED:20181030T164911Z
LAST-MODIFIED:20181030T164911Z
UID:54433-1541361600-1541361600@www.godoycruz.sisargentina.com
SUMMARY:Ciclo: Suenan solistas
DESCRIPTION:[vc_row][vc_column][vc_column_text]Los artistas Mailén Obrador\, Gonzalo Gorordo y Mauricio Gelardi son parte de esta nueva edición.  \nEntrada: aporte voluntario.[/vc_column_text][/vc_column][/vc_row][vc_row][vc_column][vc_single_image image=»54434″ img_size=»full»][/vc_column][/vc_row] \n
URL:https://www.godoycruz.sisargentina.com/evento/ciclo-suenan-solistas-2/
LOCATION:Tomba 54\, Godoy Cruz\, Mendoza\, 5501\, Argentina
ATTACH;FMTTYPE=image/jpeg:https://www.godoycruz.sisargentina.com/wp-content/uploads/2018/10/IMG-20181030-WA0001.jpg
END:VEVENT
END:VCALENDAR