BEGIN:VCALENDAR
VERSION:2.0
PRODID:-//Godoy Cruz - ECPv4.5.8.1//NONSGML v1.0//EN
CALSCALE:GREGORIAN
METHOD:PUBLISH
X-WR-CALNAME:Godoy Cruz
X-ORIGINAL-URL:https://www.godoycruz.sisargentina.com
X-WR-CALDESC:Events for Godoy Cruz
BEGIN:VEVENT
DTSTART;TZID=UTC-3:20181103T180000
DTEND;TZID=UTC-3:20181103T180000
DTSTAMP:20260425T153123
CREATED:20181030T163208Z
LAST-MODIFIED:20181030T163208Z
UID:54429-1541268000-1541268000@www.godoycruz.sisargentina.com
SUMMARY:“75 puñaladas. Sin rastros de sangre”
DESCRIPTION:[vc_row][vc_column][vc_column_text]Obra teatral con tintes de policial negro. \nDramaturgia: Martín Giner. Elenco: Adrián Espasandin y Nicolás Naranjo. \nEntrada: aporte voluntario.[/vc_column_text][/vc_column][/vc_row][vc_row][vc_column][vc_single_image image=»54430″ img_size=»full»][/vc_column][/vc_row] \n
URL:https://www.godoycruz.sisargentina.com/evento/75-punaladas-sin-rastros-sangre/
LOCATION:Tomba 54\, Godoy Cruz\, Mendoza\, 5501\, Argentina
ATTACH;FMTTYPE=image/jpeg:https://www.godoycruz.sisargentina.com/wp-content/uploads/2018/10/IMG-20181030-WA0003-1.jpg
END:VEVENT
BEGIN:VEVENT
DTSTART;TZID=UTC-3:20181103T210000
DTEND;TZID=UTC-3:20181103T210000
DTSTAMP:20260425T153123
CREATED:20181030T175622Z
LAST-MODIFIED:20181030T175622Z
UID:54438-1541278800-1541278800@www.godoycruz.sisargentina.com
SUMMARY:Omar Cyrulnik se presenta en Godoy Cruz
DESCRIPTION:[vc_row][vc_column][vc_column_text]El prestigioso músico brindará un concierto de guitarra.[/vc_column_text][/vc_column][/vc_row][vc_row][vc_column][vc_single_image image=»54439″ img_size=»full»][/vc_column][/vc_row] \n
URL:https://www.godoycruz.sisargentina.com/evento/omar-cyrulnik-se-presenta-godoy-cruz/
LOCATION:Tomba 54\, Godoy Cruz\, Mendoza\, 5501\, Argentina
ATTACH;FMTTYPE=image/jpeg:https://www.godoycruz.sisargentina.com/wp-content/uploads/2018/10/Omar-Cyrulnik-copia.jpg
END:VEVENT
BEGIN:VEVENT
DTSTART;TZID=UTC-3:20181103T213000
DTEND;TZID=UTC-3:20181103T213000
DTSTAMP:20260425T153123
CREATED:20181031T191024Z
LAST-MODIFIED:20181031T191024Z
UID:54472-1541280600-1541280600@www.godoycruz.sisargentina.com
SUMMARY:La Peña de Marcelino Azaguate: Pulsando la Vida
DESCRIPTION:[vc_row][vc_column][vc_column_text]Artistas: Marcelino Azaguate;  Mavi Díaz y las Folkies (Bs As); Ramiro González (La Rioja); Bicho Díaz (Jujuy); Alejandra Carnero (Córdoba); Dúo Reynoso – Torino; Los Navarro; La Trova y artistas invitados. El “Negro” Valdivia (Cba) y Ballet Municipal. \nColegio Farmacéutico de Mendoza (Calle Rivadavia 645\, Godoy Cruz).[/vc_column_text][/vc_column][/vc_row][vc_row][vc_column][vc_single_image image=»54473″ img_size=»full»][/vc_column][/vc_row] \n
URL:https://www.godoycruz.sisargentina.com/evento/la-pena-marcelino-azaguate-pulsando-la-vida-2/
LOCATION:Mendoza
ATTACH;FMTTYPE=image/jpeg:https://www.godoycruz.sisargentina.com/wp-content/uploads/2018/10/WhatsApp-Image-2018-10-31-at-13.52.05.jpeg
END:VEVENT
END:VCALENDAR