BEGIN:VCALENDAR
VERSION:2.0
PRODID:-//Godoy Cruz - ECPv4.5.8.1//NONSGML v1.0//EN
CALSCALE:GREGORIAN
METHOD:PUBLISH
X-WR-CALNAME:Godoy Cruz
X-ORIGINAL-URL:https://www.godoycruz.sisargentina.com
X-WR-CALDESC:Events for Godoy Cruz
BEGIN:VEVENT
DTSTART;VALUE=DATE:20181028
DTEND;VALUE=DATE:20181028
DTSTAMP:20260426T004518
CREATED:20181021T030028Z
LAST-MODIFIED:20181021T030028Z
UID:54160-1540684800-1540771199@www.godoycruz.sisargentina.com
SUMMARY:Festival Provincial de Cine Mirada Oeste 2018
DESCRIPTION:[vc_row][vc_column width=»2/3″][vc_column_text]Domingo 28 – II EXPO Mendoza Star Wars. Stands de expositores y coleccionista\, desfile de cosplayers\, talleres artísticos\, sorteos y mucho más. Lugar: Museo Ferroviario y Domo Cultural (Parque Estación Benegas – Av. del Trabajo y Panamericana\, Godoy Cruz). Hora: de 13:00 a 20:00. Entrada libre y gratuita.  \n[/vc_column_text][/vc_column][vc_column width=»1/3″][vc_single_image image=»54150″ img_size=»full»][/vc_column][/vc_row][vc_row][vc_column width=»2/3″][vc_column_text]Domingo 28 – Proyección: “Bruno Motoneta”. 2018. 80 min. Argentina. Comedia. + 13. Director: Pablo Pares. Reparto: Candelaria Molfese\, Facundo Gambandé\, Claudio Rissi\, Mirta Busnelli\, Divina Gloria\, Esteban Prol. Lugar: Cine Teatro Plaza (Colón 27\, Godoy Cruz). Hora: 16:00. Entrada gratuita (limitada a la capacidad de la sala). [/vc_column_text][/vc_column][vc_column width=»1/3″][vc_single_image image=»54161″ img_size=»full»][/vc_column][/vc_row][vc_row][vc_column width=»2/3″][vc_column_text]Domingo 28 – Proyección: “La Educación del Rey”. 2017. 96 min. Argentina. Drama / Adolescencia. + 16. Director: Santiago Estévez. Reparto: Matías Encinas\, Germán De Silva\, Jorge Prado\, Mario Jara\, Elena Schnell\, Martín Arrojo\, Walter Jakob\, Marcelo Lacerna y Esteban Lamothe. Lugar: Cine Teatro Plaza (Colón 27\, Godoy Cruz). Hora: 18:00. Entrada gratuita (limitada a la capacidad de la sala). [/vc_column_text][/vc_column][vc_column width=»1/3″][vc_single_image image=»54161″ img_size=»full»][/vc_column][/vc_row][vc_row][vc_column width=»2/3″][vc_column_text]Domingo 28 – Proyección: “Roman”. 2018. 72 min. Argentina. Policial. + 13. Director: Eduardo Meneghelli. Reparto: Gabi Peralta\, Carlos Portaluppi\, Nazareno Casero\, Horacio Roca\, Arnaldo André\, Aylin Prandi. Lugar: Cine Teatro Plaza (Colón 27\, Godoy Cruz). Hora: 20:00. Entrada gratuita (limitada a la capacidad de la sala). [/vc_column_text][/vc_column][vc_column width=»1/3″][vc_single_image image=»54161″ img_size=»full»][/vc_column][/vc_row][vc_row][vc_column width=»2/3″][vc_column_text]Domingo 28 – Aniversario de Terror. Proyección: “Halloween”. 1978. 93 min. Estados Unidos. Terror. +16. Dirección: John Carpenter. Reparto: Jamie Lee Curtis\, Donald Pleasence\, Nancy Loomis\,  P.J. Soles\,  Charles Cyphers. Lugar: Secretaría de Cultura\, Sala Elina Alba (Av. España y Gutierrez\, Ciudad). Hora: 20:00. Entrada gratuita (limitada a la capacidad de la sala). [/vc_column_text][/vc_column][vc_column width=»1/3″][vc_single_image image=»54141″ img_size=»full»][/vc_column][/vc_row][vc_row][vc_column][vc_btn title=»Consultá la programación completa» style=»flat» color=»warning» link=»url:http%3A%2F%2Ffestivalmiradaoeste.com%2F||target:%20_blank|»][/vc_column][/vc_row] \n
URL:https://www.godoycruz.sisargentina.com/evento/festival-provincial-cine-mirada-oeste-2018-7/
ATTACH;FMTTYPE=image/jpeg:https://www.godoycruz.sisargentina.com/wp-content/uploads/2018/10/WhatsApp-Image-2018-10-19-at-11.48.50-3.jpeg
END:VEVENT
END:VCALENDAR