BEGIN:VCALENDAR
VERSION:2.0
PRODID:-//Godoy Cruz - ECPv4.5.8.1//NONSGML v1.0//EN
CALSCALE:GREGORIAN
METHOD:PUBLISH
X-WR-CALNAME:Godoy Cruz
X-ORIGINAL-URL:https://www.godoycruz.sisargentina.com
X-WR-CALDESC:Events for Godoy Cruz
BEGIN:VEVENT
DTSTART;TZID=UTC-3:20180930T200000
DTEND;TZID=UTC-3:20180930T200000
DTSTAMP:20260426T014939
CREATED:20180928T131944Z
LAST-MODIFIED:20180928T131944Z
UID:53433-1538337600-1538337600@www.godoycruz.sisargentina.com
SUMMARY:Escuela de improvisación
DESCRIPTION:[vc_row][vc_column][vc_column_text]Talleristas: Claudio Martinez; Osky Pizarro y Augusto Martinez. \nMuestra en vivo  e inscripción (gratuita). Edades: de 14 a 24 años. Plaza departamental (Perito Moreno y Rivadavia). \nConsultas: 4133250.[/vc_column_text][/vc_column][/vc_row][vc_row][vc_column][vc_single_image image=»53436″ img_size=»full»][/vc_column][/vc_row] \n
URL:https://www.godoycruz.sisargentina.com/evento/escuela-de-improvisacion/
ATTACH;FMTTYPE=image/jpeg:https://www.godoycruz.sisargentina.com/wp-content/uploads/2018/09/WhatsApp-Image-2018-09-26-at-13.35.41.jpeg
END:VEVENT
END:VCALENDAR