BEGIN:VCALENDAR
VERSION:2.0
PRODID:-//Godoy Cruz - ECPv4.5.8.1//NONSGML v1.0//EN
CALSCALE:GREGORIAN
METHOD:PUBLISH
X-WR-CALNAME:Godoy Cruz
X-ORIGINAL-URL:https://www.godoycruz.sisargentina.com
X-WR-CALDESC:Events for Godoy Cruz
BEGIN:VEVENT
DTSTART;TZID=UTC-3:20180929T100000
DTEND;TZID=UTC-3:20180929T100000
DTSTAMP:20260426T002309
CREATED:20180924T161155Z
LAST-MODIFIED:20180924T161155Z
UID:53218-1538215200-1538215200@www.godoycruz.sisargentina.com
SUMMARY:Mes del Patrimonio.  Jornada de Patrimonio Ferroviario en Mendoza
DESCRIPTION:[vc_row][vc_column][vc_column_text]Charlas con especialistas locales y exposición. \nEntrada gratuita (Cupos limitados a la capacidad de la sala).[/vc_column_text][/vc_column][/vc_row][vc_row][vc_column][vc_single_image image=»53219″ img_size=»full»][/vc_column][/vc_row] \n
URL:https://www.godoycruz.sisargentina.com/evento/mes-del-patrimonio-jornada-patrimonio-ferroviario-mendoza/
LOCATION:Tomba 54\, Godoy Cruz\, Mendoza\, 5501\, Argentina
ATTACH;FMTTYPE=image/jpeg:https://www.godoycruz.sisargentina.com/wp-content/uploads/2018/09/IMG-20180918-WA0002.jpg
END:VEVENT
END:VCALENDAR