BEGIN:VCALENDAR
VERSION:2.0
PRODID:-//Godoy Cruz - ECPv4.5.8.1//NONSGML v1.0//EN
CALSCALE:GREGORIAN
METHOD:PUBLISH
X-WR-CALNAME:Godoy Cruz
X-ORIGINAL-URL:https://www.godoycruz.sisargentina.com
X-WR-CALDESC:Events for Godoy Cruz
BEGIN:VEVENT
DTSTART;TZID=UTC-3:20180928T180000
DTEND;TZID=UTC-3:20180928T210000
DTSTAMP:20260425T230117
CREATED:20180920T175230Z
LAST-MODIFIED:20180920T175230Z
UID:53107-1538157600-1538168400@www.godoycruz.sisargentina.com
SUMMARY:Lanzamiento del Festival Confluencias
DESCRIPTION:[vc_row][vc_column][vc_column_text]Auditorio de la B+M (Tomba 54). Aporte voluntario. \n18:00 – Taller de Composición\, dictado por Carlos Palacios (Pala). Informes e inscripciones: Facundo Jofre (2612407249). \n21:00 – Concierto de PALA; Sebastián Garay; Paula Neder; Camila Millán y Gonzalo del Peral.[/vc_column_text][/vc_column][/vc_row][vc_row][vc_column][vc_single_image image=»53108″ img_size=»full»][/vc_column][/vc_row] \n
URL:https://www.godoycruz.sisargentina.com/evento/lanzamiento-del-festival-confluencias/
LOCATION:Tomba 54\, Godoy Cruz\, Mendoza\, 5501\, Argentina
ATTACH;FMTTYPE=image/jpeg:https://www.godoycruz.sisargentina.com/wp-content/uploads/2018/09/Gráfica-Festival-Confluencias.jpg
END:VEVENT
END:VCALENDAR