BEGIN:VCALENDAR
VERSION:2.0
PRODID:-//Godoy Cruz - ECPv4.5.8.1//NONSGML v1.0//EN
CALSCALE:GREGORIAN
METHOD:PUBLISH
X-WR-CALNAME:Godoy Cruz
X-ORIGINAL-URL:https://www.godoycruz.sisargentina.com
X-WR-CALDESC:Events for Godoy Cruz
BEGIN:VEVENT
DTSTART;TZID=UTC-3:20180922T093000
DTEND;TZID=UTC-3:20180922T093000
DTSTAMP:20260425T142509
CREATED:20180918T175740Z
LAST-MODIFIED:20180918T175740Z
UID:53040-1537608600-1537608600@www.godoycruz.sisargentina.com
SUMMARY:Día mundial sin automóvil
DESCRIPTION:[vc_row][vc_column][vc_column_text]Se brindará un curso de reparación de bicicletas. \nParque Estación Benegas. Puesto “En La Bici” (Av. del Trabajo y Panamericana).[/vc_column_text][/vc_column][/vc_row][vc_row][vc_column][vc_single_image image=»53041″ img_size=»full»][/vc_column][/vc_row] \n
URL:https://www.godoycruz.sisargentina.com/evento/dia-mundial-sin-automovil/
ATTACH;FMTTYPE=image/jpeg:https://www.godoycruz.sisargentina.com/wp-content/uploads/2018/09/IMG-20180918-WA0005.jpg
END:VEVENT
END:VCALENDAR